Workbook
Name 위: #REF!
Name 위: #REF!
Name 위: #REF!
Name ㅟ: #REF!
Name ㅟ: #REF!

Sheet 총괄
B2: 2025학년도 세출명세서
A4: 과목
A5: 장 | B5: 관 | C5: 항 | D5: 목 | E5: 계 | F5: 3월 | G5: 4월 | H5: 5월 | I5: 6월 | J5: 7월 | K5: 8월 | L5: 9월 | M5: 10월 | N5: 11월 | O5: 12월 | P5: 1월 | Q5: 2월
A6: 1. 인적자원운용비
B7: 1. 교직원보수
C8: 1. 교원보수
D9: 1.기본급 | E9: =SUM(F9:P9) -> 168500000 | F9: ='3월'!E9 -> 16850000 | G9: ='4월'!E9 -> 16850000 | H9: ='5월'!E9 -> 16850000 | I9: ='6월'!E9 -> 16850000 | J9: ='7월'!E9 -> 16850000 | K9: ='8월'!E9 -> 16850000 | L9: ='9월'!E9 -> 16850000 | M9: ='10월'!E9 -> 16850000 | N9: 0 | O9: ='12월'!E9 -> 16850000 | P9: ='12월'!E9 -> 16850000 | Q9: ='26년 2월'!E9 -> 19050000
D10: 2.기간제교원인건비 | E10: =SUM(F10:Q10) -> 86811480 | F10: ='3월'!E10 -> 10927000 | G10: ='4월'!E10 -> 10795000 | H10: ='5월'!E10 -> 8782000 | I10: ='6월'!E10 -> 11306760 | J10: ='7월'!E10 -> 1868240 | K10: ='8월'!E10 -> 1885000 | L10: ='9월'!E10 -> 10498000 | M10: ='10월'!E10 -> 8256160 | N10: ='11월'!E10 -> 10838320 | O10: ='12월'!E10 -> 11255000 | P10: ='26년 1월'!E10 -> 200000 | Q10: ='26년 2월'!E10 -> 200000
C11: 2.교원제수당 | E11: =SUM(F11:Q11) -> 0 | F11: ='3월'!E11 -> 0 | G11: ='4월'!E11 -> 0 | H11: ='5월'!E11 -> 0 | I11: ='6월'!E11 -> 0 | J11: ='7월'!E11 -> 0 | K11: ='8월'!E11 -> 0 | L11: ='9월'!E11 -> 0 | M11: ='10월'!E11 -> 0 | N11: ='11월'!E11 -> 0 | O11: ='12월'!E11 -> 0 | P11: ='26년 1월'!E11 -> 0 | Q11: ='26년 2월'!E11 -> 0
D12: 1.정액급식비 | E12: =SUM(F12:Q12) -> 11154000 | F12: ='3월'!E12 -> 1776000 | G12: ='4월'!E12 -> 1362000 | H12: ='5월'!E12 -> 1020000 | I12: ='6월'!E12 -> 1416000 | J12: ='7월'!E12 -> 0 | K12: ='8월'!E12 -> 0 | L12: ='9월'!E12 -> 1638000 | M12: ='10월'!E12 -> 1020000 | N12: ='11월'!E12 -> 1200000 | O12: ='12월'!E12 -> 1260000 | P12: ='26년 1월'!E12 -> 0 | Q12: ='26년 2월'!E12 -> 462000
D13: 2.정근수당 | E13: =SUM(F13:Q13) -> 0 | F13: ='3월'!E13 -> 0 | G13: ='4월'!E13 -> 0 | H13: ='5월'!E13 -> 0 | I13: ='6월'!E13 -> 0 | J13: ='7월'!E13 -> 0 | K13: ='8월'!E13 -> 0 | L13: ='9월'!E13 -> 0 | M13: ='10월'!E13 -> 0 | N13: ='11월'!E13 -> 0 | O13: ='12월'!E13 -> 0 | P13: ='26년 1월'!E13 -> 0 | Q13: ='26년 2월'!E13 -> 0
D14: 3.직급수당 | E14: =SUM(F14:Q14) -> 9600000 | F14: ='3월'!E14 -> 800000 | G14: ='4월'!E14 -> 800000 | H14: ='5월'!E14 -> 800000 | I14: ='6월'!E14 -> 800000 | J14: ='7월'!E14 -> 800000 | K14: ='8월'!E14 -> 800000 | L14: ='9월'!E14 -> 800000 | M14: ='10월'!E14 -> 800000 | N14: ='11월'!E14 -> 800000 | O14: ='12월'!E14 -> 800000 | P14: ='26년 1월'!E14 -> 800000 | Q14: ='26년 2월'!E14 -> 800000
D15: 4.상여금 | E15: =SUM(F15:Q15) -> 1600000 | F15: ='3월'!E15 -> 0 | G15: ='4월'!E15 -> 0 | H15: ='5월'!E15 -> 0 | I15: ='6월'!E15 -> 0 | J15: ='7월'!E15 -> 0 | K15: ='8월'!E15 -> 0 | L15: ='9월'!E15 -> 0 | M15: ='10월'!E15 -> 1600000 | N15: ='11월'!E15 -> 0 | O15: ='12월'!E15 -> 0 | P15: ='26년 1월'!E15 -> 0 | Q15: ='26년 2월'!E15 -> 0
C16: 3. 직원보수 | E16: =SUM(F16:Q16) -> 0 | F16: ='3월'!E16 -> 0 | G16: ='4월'!E16 -> 0 | H16: ='5월'!E16 -> 0 | I16: ='6월'!E16 -> 0 | J16: ='7월'!E16 -> 0 | K16: ='8월'!E16 -> 0 | L16: ='9월'!E16 -> 0 | M16: ='10월'!E16 -> 0 | N16: ='11월'!E16 -> 0 | O16: ='12월'!E16 -> 0 | P16: ='26년 1월'!E16 -> 0 | Q16: ='26년 2월'!E16 -> 0
D17: 1.기본급 | E17: =SUM(F17:Q17) -> 30600000 | F17: ='3월'!E17 -> 2550000 | G17: ='4월'!E17 -> 2550000 | H17: ='5월'!E17 -> 2550000 | I17: ='6월'!E17 -> 2550000 | J17: ='7월'!E17 -> 2550000 | K17: ='8월'!E17 -> 2550000 | L17: ='9월'!E17 -> 2550000 | M17: ='10월'!E17 -> 2550000 | N17: ='11월'!E17 -> 2550000 | O17: ='12월'!E17 -> 2550000 | P17: ='26년 1월'!E17 -> 2550000 | Q17: ='26년 2월'!E17 -> 2550000
D18: 2.기간제직원인건비 | E18: =SUM(F18:Q18) -> 15000000 | F18: ='3월'!E18 -> 1250000 | G18: ='4월'!E18 -> 1250000 | H18: ='5월'!E18 -> 1250000 | I18: ='6월'!E18 -> 1250000 | J18: ='7월'!E18 -> 1250000 | K18: ='8월'!E18 -> 1250000 | L18: ='9월'!E18 -> 1250000 | M18: ='10월'!E18 -> 1250000 | N18: ='11월'!E18 -> 1250000 | O18: ='12월'!E18 -> 1250000 | P18: ='26년 1월'!E18 -> 1250000 | Q18: ='26년 2월'!E18 -> 1250000
C19: 4.직원제수당 | E19: =SUM(F19:Q19) -> 0 | F19: ='3월'!E19 -> 0 | G19: ='4월'!E19 -> 0 | H19: ='5월'!E19 -> 0 | I19: ='6월'!E19 -> 0 | J19: ='7월'!E19 -> 0 | K19: ='8월'!E19 -> 0 | L19: ='9월'!E19 -> 0 | M19: ='10월'!E19 -> 0 | N19: ='11월'!E19 -> 0 | O19: ='12월'!E19 -> 0 | P19: ='26년 1월'!E19 -> 0 | Q19: ='26년 2월'!E19 -> 0
D20: 1.정액급식비 | E20: =SUM(F20:Q20) -> 2244000 | F20: ='3월'!E20 -> 360000 | G20: ='4월'!E20 -> 264000 | H20: ='5월'!E20 -> 240000 | I20: ='6월'!E20 -> 276000 | J20: ='7월'!E20 -> 0 | K20: ='8월'!E20 -> 0 | L20: ='9월'!E20 -> 324000 | M20: ='10월'!E20 -> 204000 | N20: ='11월'!E20 -> 240000 | O20: ='12월'!E20 -> 252000 | P20: ='26년 1월'!E20 -> 0 | Q20: ='26년 2월'!E20 -> 84000
D21: 2.상여금 | E21: =SUM(F21:Q21) -> 200000 | F21: ='3월'!E21 -> 0 | G21: ='4월'!E21 -> 0 | H21: ='5월'!E21 -> 0 | I21: ='6월'!E21 -> 0 | J21: ='7월'!E21 -> 0 | K21: ='8월'!E21 -> 0 | L21: ='9월'!E21 -> 0 | M21: ='10월'!E21 -> 200000 | N21: ='11월'!E21 -> 0 | O21: ='12월'!E21 -> 0 | P21: ='26년 1월'!E21 -> 0 | Q21: ='26년 2월'!E21 -> 0
B22: 2.교직원 복지 및 역량 강화 | E22: =SUM(F22:Q22) -> 0 | F22: ='3월'!E22 -> 0 | G22: ='4월'!E22 -> 0 | H22: ='5월'!E22 -> 0 | I22: ='6월'!E22 -> 0 | J22: ='7월'!E22 -> 0 | K22: ='8월'!E22 -> 0 | L22: ='9월'!E22 -> 0 | M22: ='10월'!E22 -> 0 | N22: ='11월'!E22 -> 0 | O22: ='12월'!E22 -> 0 | P22: ='26년 1월'!E22 -> 0 | Q22: ='26년 2월'!E22 -> 0
C23: 1.기관부담보험료 | E23: =SUM(F23:Q23) -> 0 | F23: ='3월'!E23 -> 0 | G23: ='4월'!E23 -> 0 | H23: ='5월'!E23 -> 0 | I23: ='6월'!E23 -> 0 | J23: ='7월'!E23 -> 0 | K23: ='8월'!E23 -> 0 | L23: ='9월'!E23 -> 0 | M23: ='10월'!E23 -> 0 | N23: ='11월'!E23 -> 0 | O23: ='12월'!E23 -> 0 | P23: ='26년 1월'!E23 -> 0 | Q23: ='26년 2월'!E23 -> 0
D24: 1.연금및보험료 | E24: =SUM(F24:Q24) -> 17376820 | F24: ='3월'!E24 -> 1060910 | G24: ='4월'!E24 -> 1510110 | H24: ='5월'!E24 -> 1292640 | I24: ='6월'!E24 -> 1292640 | J24: ='7월'!E24 -> 1406150 | K24: ='8월'!E24 -> 1404670 | L24: ='9월'!E24 -> 1404670 | M24: ='10월'!E24 -> 1900180 | N24: ='11월'!E24 -> 1404670 | O24: ='12월'!E24 -> 1900180 | P24: ='26년 1월'!E24 -> 1400000 | Q24: ='26년 2월'!E24 -> 1400000
C25: 2.연수비 | E25: =SUM(F25:Q25) -> 0 | F25: ='3월'!E25 -> 0 | G25: ='4월'!E25 -> 0 | H25: ='5월'!E25 -> 0 | I25: ='6월'!E25 -> 0 | J25: ='7월'!E25 -> 0 | K25: ='8월'!E25 -> 0 | L25: ='9월'!E25 -> 0 | M25: ='10월'!E25 -> 0 | N25: ='11월'!E25 -> 0 | O25: ='12월'!E25 -> 0 | P25: ='26년 1월'!E25 -> 0 | Q25: ='26년 2월'!E25 -> 0
D26: 1.자율연수 | E26: =SUM(F26:Q26) -> 1708608 | F26: ='3월'!E26 -> 421108 | G26: ='4월'!E26 -> 240000 | H26: ='5월'!E26 -> 40000 | I26: ='6월'!E26 -> 37500 | J26: ='7월'!E26 -> 0 | K26: ='8월'!E26 -> 0 | L26: ='9월'!E26 -> 70000 | M26: ='10월'!E26 -> 0 | N26: ='11월'!E26 -> 0 | O26: ='12월'!E26 -> 650000 | P26: ='26년 1월'!E26 -> 250000 | Q26: ='26년 2월'!E26 -> 0
D27: 2.교사회멘토링 | E27: =SUM(F27:Q27) -> 0 | F27: ='3월'!E27 -> 0 | G27: ='4월'!E27 -> 0 | H27: ='5월'!E27 -> 0 | I27: ='6월'!E27 -> 0 | J27: ='7월'!E27 -> 0 | K27: ='8월'!E27 -> 0 | L27: ='9월'!E27 -> 0 | M27: ='10월'!E27 -> 0 | N27: ='11월'!E27 -> 0 | O27: ='12월'!E27 -> 0 | P27: ='26년 1월'!E27 -> 0 | Q27: ='26년 2월'!E27 -> 0
C28: 3.업무추진비 | E28: =SUM(F28:Q28) -> 0 | F28: ='3월'!E28 -> 0 | G28: ='4월'!E28 -> 0 | H28: ='5월'!E28 -> 0 | I28: ='6월'!E28 -> 0 | J28: ='7월'!E28 -> 0 | K28: ='8월'!E28 -> 0 | L28: ='9월'!E28 -> 0 | M28: ='10월'!E28 -> 0 | N28: ='11월'!E28 -> 0 | O28: ='12월'!E28 -> 0 | P28: ='26년 1월'!E28 -> 0 | Q28: ='26년 2월'!E28 -> 0
C29: 4.도서비 | E29: =SUM(F29:Q29) -> 469753 | F29: ='3월'!E29 -> 148890 | G29: ='4월'!E29 -> 28000 | H29: ='5월'!E29 -> 0 | I29: ='6월'!E29 -> 0 | J29: ='7월'!E29 -> 0 | K29: ='8월'!E29 -> 0 | L29: ='9월'!E29 -> 0 | M29: ='10월'!E29 -> 0 | N29: ='11월'!E29 -> 0 | O29: ='12월'!E29 -> 292863 | P29: ='26년 1월'!E29 -> 0 | Q29: ='26년 2월'!E29 -> 0
C30: 5.교직원행사비 | E30: =SUM(F30:Q30) -> 0 | F30: ='3월'!E30 -> 0 | G30: ='4월'!E30 -> 0 | H30: ='5월'!E30 -> 0 | I30: ='6월'!E30 -> 0 | J30: ='7월'!E30 -> 0 | K30: ='8월'!E30 -> 0 | L30: ='9월'!E30 -> 0 | M30: ='10월'!E30 -> 0 | N30: ='11월'!E30 -> 0 | O30: ='12월'!E30 -> 0 | P30: ='26년 1월'!E30 -> 0 | Q30: ='26년 2월'!E30 -> 0
C31: 6.포상비 | E31: =SUM(F31:Q31) -> 0 | F31: ='3월'!E31 -> 0 | G31: ='4월'!E31 -> 0 | H31: ='5월'!E31 -> 0 | I31: ='6월'!E31 -> 0 | J31: ='7월'!E31 -> 0 | K31: ='8월'!E31 -> 0 | L31: ='9월'!E31 -> 0 | M31: ='10월'!E31 -> 0 | N31: ='11월'!E31 -> 0 | O31: ='12월'!E31 -> 0 | P31: ='26년 1월'!E31 -> 0 | Q31: ='26년 2월'!E31 -> 0
C32: 7.맞춤형복지비 | E32: =SUM(F32:Q32) -> 0 | F32: ='3월'!E32 -> 0 | G32: ='4월'!E32 -> 0 | H32: ='5월'!E32 -> 0 | I32: ='6월'!E32 -> 0 | J32: ='7월'!E32 -> 0 | K32: ='8월'!E32 -> 0 | L32: ='9월'!E32 -> 0 | M32: ='10월'!E32 -> 0 | N32: ='11월'!E32 -> 0 | O32: ='12월'!E32 -> 0 | P32: ='26년 1월'!E32 -> 0 | Q32: ='26년 2월'!E32 -> 0
C33: 8.직급보조비 | E33: =SUM(F33:Q33) -> 0 | F33: ='3월'!E33 -> 0 | G33: ='4월'!E33 -> 0 | H33: ='5월'!E33 -> 0 | I33: ='6월'!E33 -> 0 | J33: ='7월'!E33 -> 0 | K33: ='8월'!E33 -> 0 | L33: ='9월'!E33 -> 0 | M33: ='10월'!E33 -> 0 | N33: ='11월'!E33 -> 0 | O33: ='12월'!E33 -> 0 | P33: ='26년 1월'!E33 -> 0 | Q33: ='26년 2월'!E33 -> 0
C34: 9.성과상여금 | E34: =SUM(F34:Q34) -> 0 | F34: ='3월'!E34 -> 0 | G34: ='4월'!E34 -> 0 | H34: ='5월'!E34 -> 0 | I34: ='6월'!E34 -> 0 | J34: ='7월'!E34 -> 0 | K34: ='8월'!E34 -> 0 | L34: ='9월'!E34 -> 0 | M34: ='10월'!E34 -> 0 | N34: ='11월'!E34 -> 0 | O34: ='12월'!E34 -> 0 | P34: ='26년 1월'!E34 -> 0 | Q34: ='26년 2월'!E34 -> 0
A35: 2.학생복지/교육격차해소 | E35: =SUM(F35:Q35) -> 0 | F35: ='3월'!E35 -> 0 | G35: ='4월'!E35 -> 0 | H35: ='5월'!E35 -> 0 | I35: ='6월'!E35 -> 0 | J35: ='7월'!E35 -> 0 | K35: ='8월'!E35 -> 0 | L35: ='9월'!E35 -> 0 | M35: ='10월'!E35 -> 0 | N35: ='11월'!E35 -> 0 | O35: ='12월'!E35 -> 0 | P35: ='26년 1월'!E35 -> 0 | Q35: ='26년 2월'!E35 -> 0
B36: 1. 급식관리비 | E36: =SUM(F36:Q36) -> 0 | F36: ='3월'!E36 -> 0 | G36: ='4월'!E36 -> 0 | H36: ='5월'!E36 -> 0 | I36: ='6월'!E36 -> 0 | J36: ='7월'!E36 -> 0 | K36: ='8월'!E36 -> 0 | L36: ='9월'!E36 -> 0 | M36: ='10월'!E36 -> 0 | N36: ='11월'!E36 -> 0 | O36: ='12월'!E36 -> 0 | P36: ='26년 1월'!E36 -> 0 | Q36: ='26년 2월'!E36 -> 0
C37: 1. 수용비 | E37: =SUM(F37:Q37) -> 1748460 | F37: ='3월'!E37 -> 538770 | G37: ='4월'!E37 -> 233180 | H37: ='5월'!E37 -> 751910 | I37: ='6월'!E37 -> 0 | J37: ='7월'!E37 -> 44900 | K37: ='8월'!E37 -> 0 | L37: ='9월'!E37 -> 0 | M37: ='10월'!E37 -> 60700 | N37: ='11월'!E37 -> 119000 | O37: ='12월'!E37 -> 0 | P37: ='26년 1월'!E37 -> 0 | Q37: ='26년 2월'!E37 -> 0
C38: 2. 기타식자재구입비 | E38: =SUM(F38:Q38) -> 0 | F38: ='3월'!E38 -> 0 | G38: ='4월'!E38 -> 0 | H38: ='5월'!E38 -> 0 | I38: ='6월'!E38 -> 0 | J38: ='7월'!E38 -> 0 | K38: ='8월'!E38 -> 0 | L38: ='9월'!E38 -> 0 | M38: ='10월'!E38 -> 0 | N38: ='11월'!E38 -> 0 | O38: ='12월'!E38 -> 0 | P38: ='26년 1월'!E38 -> 0 | Q38: ='26년 2월'!E38 -> 0
C39: 3. 위탁급식비 | E39: =SUM(F39:Q39) -> 54540550 | F39: ='3월'!E39 -> 4195210 | G39: ='4월'!E39 -> 6278320 | H39: ='5월'!E39 -> 11186800 | I39: ='6월'!E39 -> 1871000 | J39: ='7월'!E39 -> 4531790 | K39: ='8월'!E39 -> 4647790 | L39: ='9월'!E39 -> 8382840 | M39: ='10월'!E39 -> 2668880 | N39: ='11월'!E39 -> 6601450 | O39: ='12월'!E39 -> 1678000 | P39: ='26년 1월'!E39 -> 0 | Q39: ='26년 2월'!E39 -> 2498470
B40: 2. 보건관리비 | E40: =SUM(F40:Q40) -> 0 | F40: ='3월'!E40 -> 0 | G40: ='4월'!E40 -> 0 | H40: ='5월'!E40 -> 0 | I40: ='6월'!E40 -> 0 | J40: ='7월'!E40 -> 0 | K40: ='8월'!E40 -> 0 | L40: ='9월'!E40 -> 0 | M40: ='10월'!E40 -> 0 | N40: ='11월'!E40 -> 0 | O40: ='12월'!E40 -> 0 | P40: ='26년 1월'!E40 -> 0 | Q40: ='26년 2월'!E40 -> 0
C41: 1.학생과 교직원보건안전 | E41: =SUM(F41:Q41) -> 0 | F41: ='3월'!E41 -> 0 | G41: ='4월'!E41 -> 0 | H41: ='5월'!E41 -> 0 | I41: ='6월'!E41 -> 0 | J41: ='7월'!E41 -> 0 | K41: ='8월'!E41 -> 0 | L41: ='9월'!E41 -> 0 | M41: ='10월'!E41 -> 0 | N41: ='11월'!E41 -> 0 | O41: ='12월'!E41 -> 0 | P41: ='26년 1월'!E41 -> 0 | Q41: ='26년 2월'!E41 -> 0
D42: 1.의료비 | E42: =SUM(F42:Q42) -> 0 | F42: ='3월'!E42 -> 0 | G42: ='4월'!E42 -> 0 | H42: ='5월'!E42 -> 0 | I42: ='6월'!E42 -> 0 | J42: ='7월'!E42 -> 0 | K42: ='8월'!E42 -> 0 | L42: ='9월'!E42 -> 0 | M42: ='10월'!E42 -> 0 | N42: ='11월'!E42 -> 0 | O42: ='12월'!E42 -> 0 | P42: ='26년 1월'!E42 -> 0 | Q42: ='26년 2월'!E42 -> 0
D43: 2.보건실운영 | E43: =SUM(F43:Q43) -> 185800 | F43: ='3월'!E43 -> 0 | G43: ='4월'!E43 -> 0 | H43: ='5월'!E43 -> 0 | I43: ='6월'!E43 -> 25800 | J43: ='7월'!E43 -> 120500 | K43: ='8월'!E43 -> 0 | L43: ='9월'!E43 -> 0 | M43: ='10월'!E43 -> 0 | N43: ='11월'!E43 -> 39500 | O43: ='12월'!E43 -> 0 | P43: ='26년 1월'!E43 -> 0 | Q43: ='26년 2월'!E43 -> 0
D44: 3.학교안전공제회비 | E44: =SUM(F44:Q44) -> 665280 | F44: ='3월'!E44 -> 665280 | G44: ='4월'!E44 -> 0 | H44: ='5월'!E44 -> 0 | I44: ='6월'!E44 -> 0 | J44: ='7월'!E44 -> 0 | K44: ='8월'!E44 -> 0 | L44: ='9월'!E44 -> 0 | M44: ='10월'!E44 -> 0 | N44: ='11월'!E44 -> 0 | O44: ='12월'!E44 -> 0 | P44: ='26년 1월'!E44 -> 0 | Q44: ='26년 2월'!E44 -> 0
C45: 2.학교위생관리 | E45: =SUM(F45:Q45) -> 0 | F45: ='3월'!E45 -> 0 | G45: ='4월'!E45 -> 0 | H45: ='5월'!E45 -> 0 | I45: ='6월'!E45 -> 0 | J45: ='7월'!E45 -> 0 | K45: ='8월'!E45 -> 0 | L45: ='9월'!E45 -> 0 | M45: ='10월'!E45 -> 0 | N45: ='11월'!E45 -> 0 | O45: ='12월'!E45 -> 0 | P45: ='26년 1월'!E45 -> 0 | Q45: ='26년 2월'!E45 -> 0
D46: 1.식수운영 | E46: =SUM(F46:Q46) -> 0 | F46: ='3월'!E46 -> 0 | G46: ='4월'!E46 -> 0 | H46: ='5월'!E46 -> 0 | I46: ='6월'!E46 -> 0 | J46: ='7월'!E46 -> 0 | K46: ='8월'!E46 -> 0 | L46: ='9월'!E46 -> 0 | M46: ='10월'!E46 -> 0 | N46: ='11월'!E46 -> 0 | O46: ='12월'!E46 -> 0 | P46: ='26년 1월'!E46 -> 0 | Q46: ='26년 2월'!E46 -> 0
D47: 2.수용비 | E47: =SUM(F47:Q47) -> 200000 | F47: ='3월'!E47 -> 0 | G47: ='4월'!E47 -> 0 | H47: ='5월'!E47 -> 0 | I47: ='6월'!E47 -> 0 | J47: ='7월'!E47 -> 0 | K47: ='8월'!E47 -> 0 | L47: ='9월'!E47 -> 0 | M47: ='10월'!E47 -> 0 | N47: ='11월'!E47 -> 0 | O47: ='12월'!E47 -> 200000 | P47: ='26년 1월'!E47 -> 0 | Q47: ='26년 2월'!E47 -> 0
D48: 3.방역비 | E48: =SUM(F48:Q48) -> 0 | F48: ='3월'!E48 -> 0 | G48: ='4월'!E48 -> 0 | H48: ='5월'!E48 -> 0 | I48: ='6월'!E48 -> 0 | J48: ='7월'!E48 -> 0 | K48: ='8월'!E48 -> 0 | L48: ='9월'!E48 -> 0 | M48: ='10월'!E48 -> 0 | N48: ='11월'!E48 -> 0 | O48: ='12월'!E48 -> 0 | P48: ='26년 1월'!E48 -> 0 | Q48: ='26년 2월'!E48 -> 0
A49: 3.기본적교육활동비 | E49: =SUM(F49:Q49) -> 0 | F49: ='3월'!E49 -> 0 | G49: ='4월'!E49 -> 0 | H49: ='5월'!E49 -> 0 | I49: ='6월'!E49 -> 0 | J49: ='7월'!E49 -> 0 | K49: ='8월'!E49 -> 0 | L49: ='9월'!E49 -> 0 | M49: ='10월'!E49 -> 0 | N49: ='11월'!E49 -> 0 | O49: ='12월'!E49 -> 0 | P49: ='26년 1월'!E49 -> 0 | Q49: ='26년 2월'!E49 -> 0
B50: 1.교과활동지원 | E50: =SUM(F50:Q50) -> 0 | F50: ='3월'!E50 -> 0 | G50: ='4월'!E50 -> 0 | H50: ='5월'!E50 -> 0 | I50: ='6월'!E50 -> 0 | J50: ='7월'!E50 -> 0 | K50: ='8월'!E50 -> 0 | L50: ='9월'!E50 -> 0 | M50: ='10월'!E50 -> 0 | N50: ='11월'!E50 -> 0 | O50: ='12월'!E50 -> 0 | P50: ='26년 1월'!E50 -> 0 | Q50: ='26년 2월'!E50 -> 0
C51: 1.담임교사교육운영비 | E51: =SUM(F51:Q51) -> 5119860 | F51: ='3월'!E51 -> 4323020 | G51: ='4월'!E51 -> 87470 | H51: ='5월'!E51 -> 161570 | I51: ='6월'!E51 -> 120520 | J51: ='7월'!E51 -> 0 | K51: ='8월'!E51 -> 172000 | L51: ='9월'!E51 -> 161680 | M51: ='10월'!E51 -> 0 | N51: ='11월'!E51 -> 3500 | O51: ='12월'!E51 -> 90100 | P51: ='26년 1월'!E51 -> 0 | Q51: ='26년 2월'!E51 -> 0
C52: 2.교사용지도서 | E52: =SUM(F52:Q52) -> 324300 | F52: ='3월'!E52 -> 198000 | G52: ='4월'!E52 -> 0 | H52: ='5월'!E52 -> 0 | I52: ='6월'!E52 -> 0 | J52: ='7월'!E52 -> 0 | K52: ='8월'!E52 -> 0 | L52: ='9월'!E52 -> 0 | M52: ='10월'!E52 -> 0 | N52: ='11월'!E52 -> 0 | O52: ='12월'!E52 -> 0 | P52: ='26년 1월'!E52 -> 126300 | Q52: ='26년 2월'!E52 -> 0
B53: 2.외국어교과활동 | E53: =SUM(F53:Q53) -> 209560 | F53: ='3월'!E53 -> 59960 | G53: ='4월'!E53 -> 0 | H53: ='5월'!E53 -> 0 | I53: ='6월'!E53 -> 0 | J53: ='7월'!E53 -> 0 | K53: ='8월'!E53 -> 0 | L53: ='9월'!E53 -> 0 | M53: ='10월'!E53 -> 0 | N53: ='11월'!E53 -> 100600 | O53: ='12월'!E53 -> 49000 | P53: ='26년 1월'!E53 -> 0 | Q53: ='26년 2월'!E53 -> 0
B54: 3.수공예교과활동 | E54: =SUM(F54:Q54) -> 300000 | F54: ='3월'!E54 -> 0 | G54: ='4월'!E54 -> 0 | H54: ='5월'!E54 -> 0 | I54: ='6월'!E54 -> 0 | J54: ='7월'!E54 -> 0 | K54: ='8월'!E54 -> 0 | L54: ='9월'!E54 -> 0 | M54: ='10월'!E54 -> 0 | N54: ='11월'!E54 -> 0 | O54: ='12월'!E54 -> 300000 | P54: ='26년 1월'!E54 -> 0 | Q54: ='26년 2월'!E54 -> 0
B55: 4.음악교과활동 | E55: =SUM(F55:Q55) -> 46729 | F55: ='3월'!E55 -> 46729 | G55: ='4월'!E55 -> 0 | H55: ='5월'!E55 -> 0 | I55: ='6월'!E55 -> 0 | J55: ='7월'!E55 -> 0 | K55: ='8월'!E55 -> 0 | L55: ='9월'!E55 -> 0 | M55: ='10월'!E55 -> 0 | N55: ='11월'!E55 -> 0 | O55: ='12월'!E55 -> 0 | P55: ='26년 1월'!E55 -> 0 | Q55: ='26년 2월'!E55 -> 0
B56: 5.미술교과활동 | E56: =SUM(F56:Q56) -> 532930 | F56: ='3월'!E56 -> 194650 | G56: ='4월'!E56 -> 0 | H56: ='5월'!E56 -> 77980 | I56: ='6월'!E56 -> 0 | J56: ='7월'!E56 -> 0 | K56: ='8월'!E56 -> 191820 | L56: ='9월'!E56 -> 68480 | M56: ='10월'!E56 -> 0 | N56: ='11월'!E56 -> 0 | O56: ='12월'!E56 -> 0 | P56: ='26년 1월'!E56 -> 0 | Q56: ='26년 2월'!E56 -> 0
B57: 6.목공예교과활동 | E57: =SUM(F57:Q57) -> 285970 | F57: ='3월'!E57 -> 25000 | G57: ='4월'!E57 -> 0 | H57: ='5월'!E57 -> 0 | I57: ='6월'!E57 -> 0 | J57: ='7월'!E57 -> 0 | K57: ='8월'!E57 -> 0 | L57: ='9월'!E57 -> 27620 | M57: ='10월'!E57 -> 0 | N57: ='11월'!E57 -> 0 | O57: ='12월'!E57 -> 233350 | P57: ='26년 1월'!E57 -> 0 | Q57: ='26년 2월'!E57 -> 0
B58: 7.체육교과활동 | E58: =SUM(F58:Q58) -> 491490 | F58: ='3월'!E58 -> 0 | G58: ='4월'!E58 -> 104560 | H58: ='5월'!E58 -> 0 | I58: ='6월'!E58 -> 0 | J58: ='7월'!E58 -> 0 | K58: ='8월'!E58 -> 0 | L58: ='9월'!E58 -> 0 | M58: ='10월'!E58 -> 0 | N58: ='11월'!E58 -> 63600 | O58: ='12월'!E58 -> 0 | P58: ='26년 1월'!E58 -> 323330 | Q58: ='26년 2월'!E58 -> 0
B59: 8 기타교과활동 | E59: =SUM(F59:Q59) -> 1062770 | F59: ='3월'!E59 -> 773000 | G59: ='4월'!E59 -> 50000 | H59: ='5월'!E59 -> 25000 | I59: ='6월'!E59 -> 73770 | J59: ='7월'!E59 -> 66000 | K59: ='8월'!E59 -> 0 | L59: ='9월'!E59 -> 25000 | M59: ='10월'!E59 -> 0 | N59: ='11월'!E59 -> 0 | O59: ='12월'!E59 -> 50000 | P59: ='26년 1월'!E59 -> 0 | Q59: ='26년 2월'!E59 -> 0
B60: 9.창의체험활동 | E60: =SUM(F60:Q60) -> 0 | F60: ='3월'!E60 -> 0 | G60: ='4월'!E60 -> 0 | H60: ='5월'!E60 -> 0 | I60: ='6월'!E60 -> 0 | J60: ='7월'!E60 -> 0 | K60: ='8월'!E60 -> 0 | L60: ='9월'!E60 -> 0 | M60: ='10월'!E60 -> 0 | N60: ='11월'!E60 -> 0 | O60: ='12월'!E60 -> 0 | P60: ='26년 1월'!E60 -> 0 | Q60: ='26년 2월'!E60 -> 0
C61: 1. 축제및행사 | E61: =SUM(F61:Q61) -> 933620 | F61: ='3월'!E61 -> 80000 | G61: ='4월'!E61 -> 40500 | H61: ='5월'!E61 -> 43730 | I61: ='6월'!E61 -> 50000 | J61: ='7월'!E61 -> 0 | K61: ='8월'!E61 -> 0 | L61: ='9월'!E61 -> 26340 | M61: ='10월'!E61 -> 41140 | N61: ='11월'!E61 -> 215240 | O61: ='12월'!E61 -> 436670 | P61: ='26년 1월'!E61 -> 0 | Q61: ='26년 2월'!E61 -> 0
C62: 2. 캠프 | E62: =SUM(F62:Q62) -> 4551290 | F62: ='3월'!E62 -> 0 | G62: ='4월'!E62 -> 0 | H62: ='5월'!E62 -> 0 | I62: ='6월'!E62 -> 0 | J62: ='7월'!E62 -> 0 | K62: ='8월'!E62 -> 2284360 | L62: ='9월'!E62 -> 80000 | M62: ='10월'!E62 -> 0 | N62: ='11월'!E62 -> 0 | O62: ='12월'!E62 -> 0 | P62: ='26년 1월'!E62 -> 2186930 | Q62: ='26년 2월'!E62 -> 0
A63: 4.선택적교육활동 | E63: =SUM(F63:Q63) -> 0 | F63: ='3월'!E63 -> 0 | G63: ='4월'!E63 -> 0 | H63: ='5월'!E63 -> 0 | I63: ='6월'!E63 -> 0 | J63: ='7월'!E63 -> 0 | K63: ='8월'!E63 -> 0 | L63: ='9월'!E63 -> 0 | M63: ='10월'!E63 -> 0 | N63: ='11월'!E63 -> 0 | O63: ='12월'!E63 -> 0 | P63: ='26년 1월'!E63 -> 0 | Q63: ='26년 2월'!E63 -> 0
B64: 1.방과후 학교 | E64: =SUM(F64:Q64) -> 0 | F64: ='3월'!E64 -> 0 | G64: ='4월'!E64 -> 0 | H64: ='5월'!E64 -> 0 | I64: ='6월'!E64 -> 0 | J64: ='7월'!E64 -> 0 | K64: ='8월'!E64 -> 0 | L64: ='9월'!E64 -> 0 | M64: ='10월'!E64 -> 0 | N64: ='11월'!E64 -> 0 | O64: ='12월'!E64 -> 0 | P64: ='26년 1월'!E64 -> 0 | Q64: ='26년 2월'!E64 -> 0
C65: 1.방과후학교 | E65: =SUM(F65:Q65) -> 0 | F65: ='3월'!E65 -> 0 | G65: ='4월'!E65 -> 0 | H65: ='5월'!E65 -> 0 | I65: ='6월'!E65 -> 0 | J65: ='7월'!E65 -> 0 | K65: ='8월'!E65 -> 0 | L65: ='9월'!E65 -> 0 | M65: ='10월'!E65 -> 0 | N65: ='11월'!E65 -> 0 | O65: ='12월'!E65 -> 0 | P65: ='26년 1월'!E65 -> 0 | Q65: ='26년 2월'!E65 -> 0
D66: 1.강사인건비 | E66: =SUM(F66:Q66) -> 1584000 | F66: ='3월'!E66 -> 0 | G66: ='4월'!E66 -> 0 | H66: ='5월'!E66 -> 396000 | I66: ='6월'!E66 -> 330000 | J66: ='7월'!E66 -> 0 | K66: ='8월'!E66 -> 0 | L66: ='9월'!E66 -> 0 | M66: ='10월'!E66 -> 528000 | N66: ='11월'!E66 -> 132000 | O66: ='12월'!E66 -> 198000 | P66: ='26년 1월'!E66 -> 0 | Q66: ='26년 2월'!E66 -> 0
D67: 2.간식비 | E67: =SUM(F67:Q67) -> 1818000 | F67: ='3월'!E67 -> 161000 | G67: ='4월'!E67 -> 234000 | H67: ='5월'!E67 -> 252000 | I67: ='6월'!E67 -> 268000 | J67: ='7월'!E67 -> 0 | K67: ='8월'!E67 -> 0 | L67: ='9월'!E67 -> 249000 | M67: ='10월'!E67 -> 214000 | N67: ='11월'!E67 -> 212000 | O67: ='12월'!E67 -> 180000 | P67: ='26년 1월'!E67 -> 0 | Q67: ='26년 2월'!E67 -> 48000
D68: 3.교육운영비 | E68: =SUM(F68:Q68) -> 124580 | F68: ='3월'!E68 -> 8650 | G68: ='4월'!E68 -> 24200 | H68: ='5월'!E68 -> 11800 | I68: ='6월'!E68 -> 0 | J68: ='7월'!E68 -> 0 | K68: ='8월'!E68 -> 9700 | L68: ='9월'!E68 -> 0 | M68: ='10월'!E68 -> 26280 | N68: ='11월'!E68 -> 24850 | O68: ='12월'!E68 -> 19100 | P68: ='26년 1월'!E68 -> 0 | Q68: ='26년 2월'!E68 -> 0
B69: 2.독서활동 | E69: =SUM(F69:Q69) -> 0 | F69: ='3월'!E69 -> 0 | G69: ='4월'!E69 -> 0 | H69: ='5월'!E69 -> 0 | I69: ='6월'!E69 -> 0 | J69: ='7월'!E69 -> 0 | K69: ='8월'!E69 -> 0 | L69: ='9월'!E69 -> 0 | M69: ='10월'!E69 -> 0 | N69: 0 | O69: ='12월'!E69 -> 0 | P69: ='12월'!E69 -> 0 | Q69: ='26년 2월'!E69 -> 0
C70: 1. 독서활동운영 | E70: =SUM(F70:Q70) -> 0 | F70: ='3월'!E70 -> 0 | G70: ='4월'!E70 -> 0 | H70: ='5월'!E70 -> 0 | I70: ='6월'!E70 -> 0 | J70: ='7월'!E70 -> 0 | K70: ='8월'!E70 -> 0 | L70: ='9월'!E70 -> 0 | M70: ='10월'!E70 -> 0 | N70: ='11월'!E70 -> 0 | O70: ='12월'!E70 -> 0 | P70: ='26년 1월'!E70 -> 0 | Q70: ='26년 2월'!E70 -> 0
D71: 1.도서구입 | E71: =SUM(F71:Q71) -> 0 | F71: ='3월'!E71 -> 0 | G71: ='4월'!E71 -> 0 | H71: ='5월'!E71 -> 0 | I71: ='6월'!E71 -> 0 | J71: ='7월'!E71 -> 0 | K71: ='8월'!E71 -> 0 | L71: ='9월'!E71 -> 0 | M71: ='10월'!E71 -> 0 | N71: ='11월'!E71 -> 0 | O71: ='12월'!E71 -> 0 | P71: ='26년 1월'!E71 -> 0 | Q71: ='26년 2월'!E71 -> 0
A72: 5.교육활동지원 | E72: =SUM(F72:Q72) -> 0 | F72: ='3월'!E72 -> 0 | G72: ='4월'!E72 -> 0 | H72: ='5월'!E72 -> 0 | I72: ='6월'!E72 -> 0 | J72: ='7월'!E72 -> 0 | K72: ='8월'!E72 -> 0 | L72: ='9월'!E72 -> 0 | M72: ='10월'!E72 -> 0 | N72: ='11월'!E72 -> 0 | O72: ='12월'!E72 -> 0 | P72: ='26년 1월'!E72 -> 0 | Q72: ='26년 2월'!E72 -> 0
B73: 1.교무업무운영 | E73: =SUM(F73:Q73) -> 0 | F73: ='3월'!E73 -> 0 | G73: ='4월'!E73 -> 0 | H73: ='5월'!E73 -> 0 | I73: ='6월'!E73 -> 0 | J73: ='7월'!E73 -> 0 | K73: ='8월'!E73 -> 0 | L73: ='9월'!E73 -> 0 | M73: ='10월'!E73 -> 0 | N73: ='11월'!E73 -> 0 | O73: ='12월'!E73 -> 0 | P73: ='26년 1월'!E73 -> 0 | Q73: ='26년 2월'!E73 -> 0
C74: 1.교무학사운영 | E74: =SUM(F74:Q74) -> 0 | F74: ='3월'!E74 -> 0 | G74: ='4월'!E74 -> 0 | H74: ='5월'!E74 -> 0 | I74: ='6월'!E74 -> 0 | J74: ='7월'!E74 -> 0 | K74: ='8월'!E74 -> 0 | L74: ='9월'!E74 -> 0 | M74: ='10월'!E74 -> 0 | N74: ='11월'!E74 -> 0 | O74: ='12월'!E74 -> 0 | P74: ='26년 1월'!E74 -> 0 | Q74: ='26년 2월'!E74 -> 0
D75: 1.수용비 | E75: =SUM(F75:Q75) -> 789070 | F75: ='3월'!E75 -> 436610 | G75: ='4월'!E75 -> 15000 | H75: ='5월'!E75 -> 41900 | I75: ='6월'!E75 -> 0 | J75: ='7월'!E75 -> 40640 | K75: ='8월'!E75 -> 0 | L75: ='9월'!E75 -> 137920 | M75: ='10월'!E75 -> 0 | N75: ='11월'!E75 -> 0 | O75: ='12월'!E75 -> 117000 | P75: ='26년 1월'!E75 -> 0 | Q75: ='26년 2월'!E75 -> 0
C76: 2.입학식,졸업식 | E76: =SUM(F76:Q76) -> 749600 | F76: ='3월'!E76 -> 749600 | G76: ='4월'!E76 -> 0 | H76: ='5월'!E76 -> 0 | I76: ='6월'!E76 -> 0 | J76: ='7월'!E76 -> 0 | K76: ='8월'!E76 -> 0 | L76: ='9월'!E76 -> 0 | M76: ='10월'!E76 -> 0 | N76: ='11월'!E76 -> 0 | O76: ='12월'!E76 -> 0 | P76: ='26년 1월'!E76 -> 0 | Q76: ='26년 2월'!E76 -> 0
C77: 3.신입생홍보운영 | E77: =SUM(F77:Q77) -> 0 | F77: ='3월'!E77 -> 0 | G77: ='4월'!E77 -> 0 | H77: ='5월'!E77 -> 0 | I77: ='6월'!E77 -> 0 | J77: ='7월'!E77 -> 0 | K77: ='8월'!E77 -> 0 | L77: ='9월'!E77 -> 0 | M77: ='10월'!E77 -> 0 | N77: ='11월'!E77 -> 0 | O77: ='12월'!E77 -> 0 | P77: ='26년 1월'!E77 -> 0 | Q77: ='26년 2월'!E77 -> 0 | AI77: 12400 | AJ77: 교실,도서관 커튼 외 | AK77: 72200 | AL77: 실내빗자루 | AM77: 110700 | AN77: 학생발받침대 | AO77: 33300 | AP77: 5`6교실 칠판 | AQ77: 1000000 | AR77: 칠판거치대 | AS77: 250000
C78: 4.입학설명회운영 | E78: =SUM(F78:Q78) -> 50960 | F78: ='3월'!E78 -> 0 | G78: ='4월'!E78 -> 0 | H78: ='5월'!E78 -> 16360 | I78: ='6월'!E78 -> 0 | J78: ='7월'!E78 -> 9600 | K78: ='8월'!E78 -> 0 | L78: ='9월'!E78 -> 25000 | M78: ='10월'!E78 -> 0 | N78: ='11월'!E78 -> 0 | O78: ='12월'!E78 -> 0 | P78: ='26년 1월'!E78 -> 0 | Q78: ='26년 2월'!E78 -> 0 | AP78: *교실환경개선으로 관항목 변경
B79: 2.교육환경개선 | E79: =SUM(F79:Q79) -> 0 | F79: ='3월'!E79 -> 0 | G79: ='4월'!E79 -> 0 | H79: ='5월'!E79 -> 0 | I79: ='6월'!E79 -> 0 | J79: ='7월'!E79 -> 0 | K79: ='8월'!E79 -> 0 | L79: ='9월'!E79 -> 0 | M79: ='10월'!E79 -> 0 | N79: ='11월'!E79 -> 0 | O79: ='12월'!E79 -> 0 | P79: ='26년 1월'!E79 -> 0 | Q79: ='26년 2월'!E79 -> 0
C80: 1.교실비품 | E80: =SUM(F80:Q80) -> 587390 | F80: ='3월'!E80 -> 226500 | G80: ='4월'!E80 -> 0 | H80: ='5월'!E80 -> 121500 | I80: ='6월'!E80 -> 18900 | J80: ='7월'!E80 -> 47550 | K80: ='8월'!E80 -> 0 | L80: ='9월'!E80 -> 172940 | M80: ='10월'!E80 -> 0 | N80: ='11월'!E80 -> 0 | O80: ='12월'!E80 -> 0 | P80: ='26년 1월'!E80 -> 0 | Q80: ='26년 2월'!E80 -> 0
C81: 2.책걸상구입 | E81: =SUM(F81:Q81) -> 0 | F81: ='3월'!E81 -> 0 | G81: ='4월'!E81 -> 0 | H81: ='5월'!E81 -> 0 | I81: ='6월'!E81 -> 0 | J81: ='7월'!E81 -> 0 | K81: ='8월'!E81 -> 0 | L81: ='9월'!E81 -> 0 | M81: ='10월'!E81 -> 0 | N81: ='11월'!E81 -> 0 | O81: ='12월'!E81 -> 0 | P81: ='26년 1월'!E81 -> 0 | Q81: ='26년 2월'!E81 -> 0
A82: 6.일반학교운영 | E82: =SUM(F82:Q82) -> 0 | F82: ='3월'!E82 -> 0 | G82: ='4월'!E82 -> 0 | H82: ='5월'!E82 -> 0 | I82: ='6월'!E82 -> 0 | J82: ='7월'!E82 -> 0 | K82: ='8월'!E82 -> 0 | L82: ='9월'!E82 -> 0 | M82: ='10월'!E82 -> 0 | N82: ='11월'!E82 -> 0 | O82: ='12월'!E82 -> 0 | P82: ='26년 1월'!E82 -> 0 | Q82: ='26년 2월'!E82 -> 0
B83: 1.시설장비유지 | E83: =SUM(F83:Q83) -> 0 | F83: ='3월'!E83 -> 0 | G83: ='4월'!E83 -> 0 | H83: ='5월'!E83 -> 0 | I83: ='6월'!E83 -> 0 | J83: ='7월'!E83 -> 0 | K83: ='8월'!E83 -> 0 | L83: ='9월'!E83 -> 0 | M83: ='10월'!E83 -> 0 | N83: ='11월'!E83 -> 0 | O83: ='12월'!E83 -> 0 | P83: ='26년 1월'!E83 -> 0 | Q83: ='26년 2월'!E83 -> 0
C84: 1.학교시설장비유지 | E84: =SUM(F84:Q84) -> 0 | F84: ='3월'!E84 -> 0 | G84: ='4월'!E84 -> 0 | H84: ='5월'!E84 -> 0 | I84: ='6월'!E84 -> 0 | J84: ='7월'!E84 -> 0 | K84: ='8월'!E84 -> 0 | L84: ='9월'!E84 -> 0 | M84: ='10월'!E84 -> 0 | N84: ='11월'!E84 -> 0 | O84: ='12월'!E84 -> 0 | P84: ='26년 1월'!E84 -> 0 | Q84: ='26년 2월'!E84 -> 0
D85: 1. 전기요금 | E85: =SUM(F85:Q85) -> 3788850 | F85: ='3월'!E85 -> 354590 | G85: ='4월'!E85 -> 148250 | H85: ='5월'!E85 -> 151000 | I85: ='6월'!E85 -> 0 | J85: ='7월'!E85 -> 334920 | K85: ='8월'!E85 -> 216940 | L85: ='9월'!E85 -> 262130 | M85: ='10월'!E85 -> 0 | N85: ='11월'!E85 -> 409740 | O85: ='12월'!E85 -> 1262310 | P85: ='26년 1월'!E85 -> 348970 | Q85: ='26년 2월'!E85 -> 300000
D86: 2. 상하수도료 | E86: =SUM(F86:Q86) -> 1481940 | F86: ='3월'!E86 -> 172420 | G86: ='4월'!E86 -> 32260 | H86: ='5월'!E86 -> 75420 | I86: ='6월'!E86 -> 166720 | J86: ='7월'!E86 -> 146800 | K86: ='8월'!E86 -> 121900 | L86: ='9월'!E86 -> 72100 | M86: ='10월'!E86 -> 0 | N86: ='11월'!E86 -> 222250 | O86: ='12월'!E86 -> 0 | P86: ='26년 1월'!E86 -> 322070 | Q86: ='26년 2월'!E86 -> 150000
D87: 3. 일반수용비 | E87: =SUM(F87:Q87) -> 1716880 | F87: ='3월'!E87 -> 352500 | G87: ='4월'!E87 -> 233190 | H87: ='5월'!E87 -> 389020 | I87: ='6월'!E87 -> 98270 | J87: ='7월'!E87 -> 301630 | K87: ='8월'!E87 -> 147360 | L87: ='9월'!E87 -> 41630 | M87: ='10월'!E87 -> 56930 | N87: ='11월'!E87 -> 6900 | O87: ='12월'!E87 -> 89450 | P87: ='26년 1월'!E87 -> 0 | Q87: ='26년 2월'!E87 -> 0
D88: 4. 기타공공요금 | E88: =SUM(F88:Q88) -> 5355059 | F88: ='3월'!E88 -> 748820 | G88: ='4월'!E88 -> 2362180 | H88: ='5월'!E88 -> 221630 | I88: ='6월'!E88 -> 327830 | J88: ='7월'!E88 -> 188290 | K88: ='8월'!E88 -> 146489 | L88: ='9월'!E88 -> 335540 | M88: ='10월'!E88 -> 231490 | N88: ='11월'!E88 -> 292800 | O88: ='12월'!E88 -> 223990 | P88: ='26년 1월'!E88 -> 138000 | Q88: ='26년 2월'!E88 -> 138000
D89: 5.시설관리용역비 | E89: =SUM(F89:Z89) -> 0 | F89: ='3월'!E89 -> 0 | G89: ='4월'!E89 -> 0 | H89: ='5월'!E89 -> 0 | I89: ='6월'!E89 -> 0 | J89: ='7월'!E89 -> 0 | K89: ='8월'!E89 -> 0 | L89: ='9월'!E89 -> 0 | M89: ='10월'!E89 -> 0 | N89: ='11월'!E89 -> 0 | O89: ='12월'!E89 -> 0 | P89: ='26년 1월'!E89 -> 0 | Q89: ='26년 2월'!E89 -> 0
D90: 6. 수용비 | E90: =SUM(F90:Z90) -> 20740000 | F90: ='3월'!E90 -> 1270000 | G90: ='4월'!E90 -> 1770000 | H90: ='5월'!E90 -> 1770000 | I90: ='6월'!E90 -> 0 | J90: ='7월'!E90 -> 1770000 | K90: ='8월'!E90 -> 0 | L90: ='9월'!E90 -> 1770000 | M90: ='10월'!E90 -> 0 | N90: ='11월'!E90 -> 3540000 | O90: ='12월'!E90 -> 3540000 | P90: ='26년 1월'!E90 -> 1770000 | Q90: ='26년 2월'!E90 -> 3540000
C91: 2.연료비 | E91: =SUM(F91:Z91) -> 6384740 | F91: ='3월'!E91 -> 1465760 | G91: ='4월'!E91 -> 480000 | H91: ='5월'!E91 -> 0 | I91: ='6월'!E91 -> 0 | J91: ='7월'!E91 -> 0 | K91: ='8월'!E91 -> 0 | L91: ='9월'!E91 -> 0 | M91: ='10월'!E91 -> 591300 | N91: ='11월'!E91 -> 679680 | O91: ='12월'!E91 -> 714000 | P91: ='26년 1월'!E91 -> 1254000 | Q91: ='26년 2월'!E91 -> 1200000
C92: 3.시설일반관리 | E92: =SUM(F92:Z92) -> 0 | F92: ='3월'!E92 -> 0 | G92: ='4월'!E92 -> 0 | H92: ='5월'!E92 -> 0 | I92: ='6월'!E92 -> 0 | J92: ='7월'!E92 -> 0 | K92: ='8월'!E92 -> 0 | L92: ='9월'!E92 -> 0 | M92: ='10월'!E92 -> 0 | N92: ='11월'!E92 -> 0 | O92: ='12월'!E92 -> 0 | P92: ='26년 1월'!E92 -> 0 | Q92: ='26년 2월'!E92 -> 0
D93: 1.수용비 | E93: =SUM(F93:Z93) -> 6600 | F93: ='3월'!E93 -> 0 | G93: ='4월'!E93 -> 6600 | H93: ='5월'!E93 -> 0 | I93: ='6월'!E93 -> 0 | J93: ='7월'!E93 -> 0 | K93: ='8월'!E93 -> 0 | L93: ='9월'!E93 -> 0 | M93: ='10월'!E93 -> 0 | N93: ='11월'!E93 -> 0 | O93: ='12월'!E93 -> 0 | P93: ='26년 1월'!E93 -> 0 | Q93: ='26년 2월'!E93 -> 0
D94: 2.시설비 | E94: =SUM(F94:Z94) -> 0 | F94: ='3월'!E94 -> 0 | G94: ='4월'!E94 -> 0 | H94: ='5월'!E94 -> 0 | I94: ='6월'!E94 -> 0 | J94: ='7월'!E94 -> 0 | K94: ='8월'!E94 -> 0 | L94: ='9월'!E94 -> 0 | M94: ='10월'!E94 -> 0 | N94: ='11월'!E94 -> 0 | O94: ='12월'!E94 -> 0 | P94: ='26년 1월'!E94 -> 0 | Q94: ='26년 2월'!E94 -> 0
D95: 3.장비취득비 | E95: =SUM(F95:Z95) -> 0 | F95: ='3월'!E95 -> 0 | G95: ='4월'!E95 -> 0 | H95: ='5월'!E95 -> 0 | I95: ='6월'!E95 -> 0 | J95: ='7월'!E95 -> 0 | K95: ='8월'!E95 -> 0 | L95: ='9월'!E95 -> 0 | M95: ='10월'!E95 -> 0 | N95: ='11월'!E95 -> 0 | O95: ='12월'!E95 -> 0 | P95: ='26년 1월'!E95 -> 0 | Q95: ='26년 2월'!E95 -> 0
B96: 2.학교운영협력비 | E96: =SUM(F96:Z96) -> 0 | F96: ='3월'!E96 -> 0 | G96: ='4월'!E96 -> 0 | H96: ='5월'!E96 -> 0 | I96: ='6월'!E96 -> 0 | J96: ='7월'!E96 -> 0 | K96: ='8월'!E96 -> 0 | L96: ='9월'!E96 -> 0 | M96: ='10월'!E96 -> 0 | N96: ='11월'!E96 -> 0 | O96: ='12월'!E96 -> 0 | P96: ='26년 1월'!E96 -> 0 | Q96: ='26년 2월'!E96 -> 0
C97: 1.학교운영위원회운영 | E97: =SUM(F97:Z97) -> 0 | F97: ='3월'!E97 -> 0 | G97: ='4월'!E97 -> 0 | H97: ='5월'!E97 -> 0 | I97: ='6월'!E97 -> 0 | J97: ='7월'!E97 -> 0 | K97: ='8월'!E97 -> 0 | L97: ='9월'!E97 -> 0 | M97: ='10월'!E97 -> 0 | N97: ='11월'!E97 -> 0 | O97: ='12월'!E97 -> 0 | P97: ='26년 1월'!E97 -> 0 | Q97: ='26년 2월'!E97 -> 0
D98: 1.일반업무추진비 | E98: =SUM(F98:Z98) -> 753800 | F98: ='3월'!E98 -> 350800 | G98: ='4월'!E98 -> 110000 | H98: ='5월'!E98 -> 193000 | I98: ='6월'!E98 -> 0 | J98: ='7월'!E98 -> 0 | K98: ='8월'!E98 -> 0 | L98: ='9월'!E98 -> 100000 | M98: ='10월'!E98 -> 0 | N98: ='11월'!E98 -> 0 | O98: ='12월'!E98 -> 0 | P98: ='26년 1월'!E98 -> 0 | Q98: ='26년 2월'!E98 -> 0
C99: 2.학부모협력 | E99: =SUM(F99:Z99) -> 0 | F99: ='3월'!E99 -> 0 | G99: ='4월'!E99 -> 0 | H99: ='5월'!E99 -> 0 | I99: ='6월'!E99 -> 0 | J99: ='7월'!E99 -> 0 | K99: ='8월'!E99 -> 0 | L99: ='9월'!E99 -> 0 | M99: ='10월'!E99 -> 0 | N99: ='11월'!E99 -> 0 | O99: ='12월'!E99 -> 0 | P99: ='26년 1월'!E99 -> 0 | Q99: ='26년 2월'!E99 -> 0
D100: 1.신편입학부모교육 | E100: =SUM(F100:Z100) -> 800000 | F100: ='3월'!E100 -> 0 | G100: ='4월'!E100 -> 0 | H100: ='5월'!E100 -> 0 | I100: ='6월'!E100 -> 0 | J100: ='7월'!E100 -> 0 | K100: ='8월'!E100 -> 0 | L100: ='9월'!E100 -> 0 | M100: ='10월'!E100 -> 0 | N100: ='11월'!E100 -> 0 | O100: ='12월'!E100 -> 0 | P100: ='26년 1월'!E100 -> 800000 | Q100: ='26년 2월'!E100 -> 0
C101: 3.교육위원회 | E101: =SUM(F101:Z101) -> 0 | F101: ='3월'!E101 -> 0 | G101: ='4월'!E101 -> 0 | H101: ='5월'!E101 -> 0 | I101: ='6월'!E101 -> 0 | J101: ='7월'!E101 -> 0 | K101: ='8월'!E101 -> 0 | L101: ='9월'!E101 -> 0 | M101: ='10월'!E101 -> 0 | N101: ='11월'!E101 -> 0 | O101: ='12월'!E101 -> 0 | P101: ='26년 1월'!E101 -> 0 | Q101: ='26년 2월'!E101 -> 0
D102: 1.업무추진비 | E102: =SUM(F102:Z102) -> 0 | F102: ='3월'!E102 -> 0 | G102: ='4월'!E102 -> 0 | H102: ='5월'!E102 -> 0 | I102: ='6월'!E102 -> 0 | J102: ='7월'!E102 -> 0 | K102: ='8월'!E102 -> 0 | L102: ='9월'!E102 -> 0 | M102: ='10월'!E102 -> 0 | N102: ='11월'!E102 -> 0 | O102: ='12월'!E102 -> 0 | P102: ='26년 1월'!E102 -> 0 | Q102: ='26년 2월'!E102 -> 0
...

Sheet 3월
B2: 2025학년도 3월 세출명세서(총회후 25년 2월 지출 포함)
A4: 과목 | F4: 내역
A5: 장 | B5: 관 | C5: 항 | D5: 목 | E5: 계
A6: 1. 인적자원운용비 | E6: =SUM(F6:Z6) -> 0
B7: 1. 교직원보수 | E7: =SUM(F7:Z7) -> 0
C8: 1. 교원보수 | E8: =SUM(F8:Z8) -> 0
D9: 1.기본급 | E9: =SUM(F9:AA9) -> 16850000 | F9: 상급박규현 | G9: 2550000 | H9: 상급김훈희 | I9: 2250000 | J9: 이영해 | K9: 2450000 | L9: 조수연 | M9: 2350000 | N9: 정효진 | O9: 2300000 | P9: 위윤이 | Q9: 2250000 | R9: 김미정 | S9: 2200000 | T9: 상급지도이성웅 | V9: 500000
D10: 2.기간제교원인건비 | E10: =SUM(F10:AW10) -> 10927000 | F10: 농사/텃밭관리서규섭 | G10: 499000 | H10: 목공김철희 | I10: 1122000 | J10: 프로젝트김학철 | K10: 132000 | L10: 2월요리이서영 | M10: 66000 | N10: 요리박도희 | O10: 132000 | P10: 정가박세은 | Q10: 99000 | R10: 미술심미용 | S10: 363000 | T10: 영어이정연 | U10: 792000 | V10: 도움수업이미순 | W10: 1089000 | X10: 체육공통교양이성웅 | Y10: 660000 | Z10: 체육이형남 | AA10: 759000 | AB10: 음악정유희 | AC10: 1386000 | AD10: 한국무용정혜원 | AE10: 132000 | AF10: 음악최지원 | AG10: 726000 | AH10: 수학하경희 | AI10: 396000 | AJ10: 영어한만형 | AK10: 330000 | AL10: 미술양호빈 | AM10: 594000 | AN10: 퍼머컬쳐임경수 | AO10: 132000 | AP10: 영어한종인 | AQ10: 264000 | AR10: 영어이슬아 | AS10: 627000 | AT10: 수공예김현숙 | AU10: 594000 | AV10: 공통교양김훈희 | AW10: 33000
C11: 2.교원제수당 | E11: =SUM(F11:AU11) -> 0
D12: 1.정액급식비 | E12: =SUM(F12:Z12) -> 1776000 | F12: 교사급식비 2월 | G12: 540000 | H12: 3월 | I12: 1236000
D13: 2.정근수당 | E13: =SUM(F13:Z13) -> 0
D14: 3.직급수당 | E14: =SUM(F14:Z14) -> 800000 | F14: 박규현 교장직급수당 | H14: 500000 | I14: 이영해 대표교사직급수당 | K14: 300000
D15: 4.상여금 | E15: =SUM(F15:Z15) -> 0
C16: 3. 직원보수 | E16: =SUM(F16:Z16) -> 0
D17: 1.기본급 | E17: =SUM(F17:Z17) -> 2550000 | F17: 살림김진숙 | G17: 2550000
D18: 2.기간제직원인건비 | E18: =SUM(F18:Z18) -> 1250000 | F18: 행정박미영 | G18: 1000000 | H18: 카리나생활지원금 | I18: 250000
C19: 4.직원제수당 | E19: =SUM(F19:Z19) -> 0
D20: 1.정액급식비 | E20: =SUM(F20:Z20) -> 360000 | F20: 교직원2명 김진숙 카리나 2월 | G20: 120000 | H20: 3월 | I20: 240000
D21: 2.상여금 | E21: =SUM(F21:Z21) -> 0
B22: 2.교직원 복지 및 역량 강화 | E22: =SUM(F22:Z22) -> 0
C23: 1.기관부담보험료 | E23: =SUM(F23:Z23) -> 0
D24: 1.연금및보험료 | E24: =SUM(F24:Z24) -> 1060910 | F24: 전임 사회보험료 | G24: 1060910
C25: 2.연수비 | E25: =SUM(F25:Z25) -> 0
D26: 1.자율연수 | E26: =SUM(F26:Z26) -> 421108 | F26: 자율연수 | G26: 96108 | H26: 75000 | I26: 50000 | J26: 100000 | K26: 100000
D27: 2.교사회멘토링 | E27: =SUM(F27:Z27) -> 0
C28: 3.업무추진비 | E28: =SUM(F28:Z28) -> 0
C29: 4.도서비 | E29: =SUM(F29:Z29) -> 148890 | F29: 수업참고서 | G29: 135890 | H29: 13000
C30: 5.교직원행사비 | E30: =SUM(F30:Z30) -> 0
C31: 6.포상비 | E31: =SUM(F31:Z31) -> 0
C32: 7.맞춤형복지비 | E32: =SUM(F32:Z32) -> 0
C33: 8.직급보조비 | E33: =SUM(F33:Z33) -> 0
C34: 9.성과상여금 | E34: =SUM(F34:Z34) -> 0
A35: 2.학생복지/교육격차해소 | E35: =SUM(F35:Z35) -> 0
B36: 1. 급식관리비 | E36: =SUM(F36:Z36) -> 0
C37: 1. 수용비 | E37: =SUM(F37:Z37) -> 538770 | F37: 과일 잡곡 등 | G37: 55650 | H37: 173360 | I37: 135560 | J37: 174200
C38: 2. 기타식자재구입비 | E38: =SUM(F38:Z38) -> 0
C39: 3. 위탁급식비 | E39: =SUM(F39:Z39) -> 4195210 | F39: 부모부담분 2~3월 | G39: 2174000 | H39: 급식지원금 지출 | I39: 2021210
B40: 2. 보건관리비 | E40: =SUM(F40:Z40) -> 0
C41: 1.학생과 교직원보건안전 | E41: =SUM(F41:Z41) -> 0
D42: 1.의료비 | E42: =SUM(F42:Z42) -> 0
D43: 2.보건실운영 | E43: =SUM(F43:Z43) -> 0
D44: 3.학교안전공제회비 | E44: =SUM(F44:Z44) -> 665280 | F44: 안전공제보험 | G44: 665280
C45: 2.학교위생관리 | E45: =SUM(F45:Z45) -> 0
D46: 1.식수운영 | E46: =SUM(F46:Z46) -> 0
D47: 2.수용비 | E47: =SUM(F47:Z47) -> 0 | F47: 정수필터
D48: 3.방역비 | E48: =SUM(F48:Z48) -> 0
A49: 3.기본적교육활동비 | E49: =SUM(F49:Z49) -> 0
B50: 1.교과활동지원 | E50: =SUM(F50:Z50) -> 0
C51: 1.담임교사교육운영비 | E51: =SUM(F51:Z51) -> 4323020 | F51: 벅셔방문박규현김훈희 | G51: 3701500 | H51: 신편입필통천 | I51: 32200 | J51: 귀도리발송료 | K51: 30000 | L51: 귀도리작업비 | M51: 60500 | N51: 귀도리착불비 | O51: 20000 | P51: 마침여행경비지원 | Q51: 440220 | R51: 마침여행보험비 | S51: 19400 | T51: 보드마커 | U51: 19200
C52: 2.교사용지도서 | E52: =SUM(F52:Z52) -> 198000 | F52: 교사지도서 | G52: 198000
B53: 2.외국어교과활동 | E53: =SUM(F53:Z53) -> 59960 | F53: 영어교재 | G53: 17270 | H53: 19800 | I53: 22890
B54: 3.수공예교과활동 | E54: =SUM(F54:Z54) -> 0
B55: 4.음악교과활동 | E55: =SUM(F55:Z55) -> 46729 | F55: 음악악보 | G55: 46729
B56: 5.미술교과활동 | E56: =SUM(F56:Z56) -> 194650 | F56: 습식종이 물감 등 | G56: 194650
B57: 6.목공예교과활동 | E57: =SUM(F57:Z57) -> 25000 | F57: 수업재료 | G57: 25000
B58: 7.체육교과활동 | E58: =SUM(F58:Z58) -> 0
B59: 8 기타교과활동 | E59: =SUM(F59:Z59) -> 773000 | F59: 보카시퇴비재료 깻묵,어분,패화석 | G59: 240000 | H59: 180000 | I59: 100000 | J59: 연간종자구입비 | K59: 250000 | L59: 퇴비만들기준비물 | M59: 3000
B60: 9.창의체험활동 | E60: =SUM(F60:Z60) -> 0
C61: 1. 축제및행사 | E61: =SUM(F61:Z61) -> 80000 | F61: 마라톤봉사자식비 | G61: 80000
C62: 2. 캠프 | E62: =SUM(F62:Z62) -> 0
A63: 4.선택적교육활동 | E63: =SUM(F63:Z63) -> 0
B64: 1.방과후 학교 | E64: =SUM(F64:Z64) -> 0
C65: 1.방과후학교 | E65: =SUM(F65:Z65) -> 0
D66: 1.강사인건비 | E66: =SUM(F66:Z66) -> 0
D67: 2.간식비 | E67: =SUM(F67:Z67) -> 161000 | F67: 간식비 | G67: 161000
D68: 3.교육운영비 | E68: =SUM(F68:Z68) -> 8650 | F68: 수업재료 | G68: 8650
B69: 2.독서활동 | E69: =SUM(F69:Z69) -> 0
C70: 1. 독서활동운영 | E70: =SUM(F70:Z70) -> 0
D71: 1.도서구입 | E71: =SUM(F71:Z71) -> 0
A72: 5.교육활동지원 | E72: =SUM(F72:Z72) -> 0
B73: 1.교무업무운영 | E73: =SUM(F73:Z73) -> 0
C74: 1.교무학사운영 | E74: =SUM(F74:Z74) -> 0
D75: 1.수용비 | E75: =SUM(F75:Z75) -> 436610 | F75: 자바라 | G75: 2000 | H75: 매직테이프 | I75: 4400 | J75: 석유통 | K75: 5000 | L75: 교무실형광등 | M75: 60000 | N75: 열쇠와 자물통 | O75: 17000 | P75: 고용량멀티탭 | Q75: 28000 | R75: 칠판분필 | S75: 135000 | T75: 교무실공용품 | U75: 185210
C76: 2.입학식,졸업식 | E76: =SUM(F76:Z76) -> 749600 | F76: 신편입선물 | G76: 35500 | H76: 55500 | I76: 36000 | J76: 102000 | K76: 진학식 준비 | L76: 53000 | M76: 24000 | N76: 23000 | O76: 입학식준비 | P76: 23300 | Q76: 7800 | R76: 20000 | S76: 217500 | T76: 진학식선물 | U76: 152000
C77: 3.신입생홍보운영 | E77: =SUM(F77:Z77) -> 0
C78: 4.입학설명회운영 | E78: =SUM(F78:Z78) -> 0
B79: 2.교육환경개선 | E79: =SUM(F79:Z79) -> 0
C80: 1.교실비품 | E80: =SUM(F80:Z80) -> 226500 | F80: 교실비품 | G80: 25500 | H80: 175000 | I80: 15600 | J80: 칠판부속품 | K80: 10400
C81: 2.책걸상구입 | E81: =SUM(F81:Z81) -> 0
A82: 6.일반학교운영 | E82: =SUM(F82:Z82) -> 0
B83: 1.시설장비유지 | E83: =SUM(F83:Z83) -> 0
C84: 1.학교시설장비유지 | E84: =SUM(F84:Z84) -> 0
D85: 1. 전기요금 | E85: =SUM(F85:Z85) -> 354590 | F85: 전기료 | G85: 179030 | H85: 175560
D86: 2. 상하수도료 | E86: =SUM(F86:Z86) -> 172420 | F86: 상하수도료 | G86: 136840 | H86: 35580
D87: 3. 일반수용비 | E87: =SUM(F87:Z87) -> 352500 | F87: 휴지 쓰레기봉투 | G87: 12600 | H87: 23200 | I87: 21000 | J87: 36800 | K87: 현관문배터리 | L87: 14000 | M87: 철물 | N87: 12000 | O87: 밀대 | P87: 13000 | Q87: 씽크대비누홀더 | R87: 36500 | S87: 식기건조대 | T87: 134200 | U87: 욕실화 | V87: 22000 | W87: 치약 주방비누 | X87: 27200
D88: 4. 기타공공요금 | E88: =SUM(F88:Z88) -> 748820 | F88: 인터넷사용료 | G88: 32560 | H88: 28860 | I88: 행정폰이용료 | J88: 33000 | K88: 33000 | L88: 국세 | M88: 지방세 | N88: 평화나무농장연회비 | P88: 양대련상반기회비 | Q88: 600000 | R88: 대안교육연대연회비 | T88: 등기우편 | U88: 10500 | V88: 수수료 | W88: 6500 | X88: 뱅킹인증수수료 | Y88: 4400
D89: 5.시설관리용역비 | E89: =SUM(F89:Z89) -> 0
D90: 6. 수용비 | E90: =SUM(F90:Z90) -> 1270000 | F90: 월세 | G90: 1270000
C91: 2.연료비 | E91: =SUM(F91:Z91) -> 1465760 | F91: 난방유 | G91: 653400 | H91: 26000 | I91: 25000 | J91: 26000 | K91: 711360 | L91: 24000
C92: 3.시설일반관리 | E92: =SUM(F92:Z92) -> 0
D93: 1.수용비 | E93: =SUM(F93:Z93) -> 0
D94: 2.시설비 | E94: =SUM(F94:Z94) -> 0
D95: 3.장비취득비 | E95: =SUM(F95:Z95) -> 0
B96: 2.학교운영협력비 | E96: =SUM(F96:Z96) -> 0
C97: 1.학교운영위원회운영 | E97: =SUM(F97:Z97) -> 0
D98: 1.일반업무추진비 | E98: =SUM(F98:Z98) -> 350800 | F98: 총회양말선물 | G98: 245120 | H98: 운영위의사봉 | I98: 55680 | J98: 공청회간식 | K98: 50000
C99: 2.학부모협력 | E99: =SUM(F99:Z99) -> 0
D100: 1.신편입학부모교육 | E100: =SUM(F100:Z100) -> 0
C101: 3.교육위원회 | E101: =SUM(F101:Z101) -> 0
D102: 1.업무추진비 | E102: =SUM(F102:Z102) -> 0
...

Sheet 4월
B2: 2025학년도 4월 세출명세서
A4: 과목 | F4: 내역
A5: 장 | B5: 관 | C5: 항 | D5: 목 | E5: 계
A6: 1. 인적자원운용비 | E6: =SUM(F6:Z6) -> 0
B7: 1. 교직원보수 | E7: =SUM(F7:Z7) -> 0
C8: 1. 교원보수 | E8: =SUM(F8:Z8) -> 0
D9: 1.기본급 | E9: =SUM(F9:AA9) -> 16850000 | F9: 상급박규현 | G9: 2550000 | H9: 상급김훈희 | I9: 2250000 | J9: 이영해 | K9: 2450000 | L9: 조수연 | M9: 2350000 | N9: 정효진 | O9: 2300000 | P9: 위윤이 | Q9: 2250000 | R9: 김미정 | S9: 2200000 | T9: 상급지도이성웅 | V9: 500000
D10: 2.기간제교원인건비 | E10: =SUM(F10:AU10) -> 10795000 | F10: 농사/텃밭관리서규섭 | G10: 466000 | H10: 목공김철희 | I10: 792000 | J10: 프로젝트김학철 | K10: 264000 | L10: 요리박도희 | M10: 99000 | N10: 정가박세은 | O10: 165000 | P10: 미술심미용 | Q10: 330000 | R10: 영어이정연 | S10: 825000 | T10: 도움수업이미순 | U10: 990000 | V10: 이성웅체육공통교양 | W10: 858000 | X10: 체육이형남 | Y10: 693000 | Z10: 음악정유희 | AA10: 594000 | AB10: 한국무용정혜원 | AC10: 165000 | AD10: 음악최지원 | AE10: 792000 | AF10: 수학하경희 | AG10: 462000 | AH10: 영어한만형 | AI10: 396000 | AJ10: 미술양호빈 | AK10: 825000 | AL10: 퍼머컬쳐임경수 | AM10: 330000 | AN10: 영어한종인 | AO10: 297000 | AP10: 영어이슬아 | AQ10: 858000 | AR10: 벼농사 배준호 | AS10: 66000 | AT10: 수공예김현숙 | AU10: 528000
C11: 2.교원제수당 | E11: =SUM(F11:Z11) -> 0
D12: 1.정액급식비 | E12: =SUM(F12:Z12) -> 1362000 | F12: 교사급식비 | G12: 1362000
D13: 2.정근수당 | E13: =SUM(F13:Z13) -> 0
D14: 3.직급수당 | E14: =SUM(F14:Z14) -> 800000 | F14: 박규현 교장직급수당 | H14: 500000 | I14: 이영해 대표교사직급수당 | K14: 300000
D15: 4.상여금 | E15: =SUM(F15:Z15) -> 0
C16: 3. 직원보수 | E16: =SUM(F16:Z16) -> 0
D17: 1.기본급 | E17: =SUM(F17:Z17) -> 2550000 | F17: 살림김진숙 | G17: 2550000
D18: 2.기간제직원인건비 | E18: =SUM(F18:Z18) -> 1250000 | F18: 행정박미영 | G18: 1000000 | H18: 카리나생활지원금 | I18: 250000
C19: 4.직원제수당 | E19: =SUM(F19:Z19) -> 0
D20: 1.정액급식비 | E20: =SUM(F20:Z20) -> 264000 | F20: 교직원2명 김진숙 카리나 | G20: 264000
D21: 2.상여금 | E21: =SUM(F21:Z21) -> 0
B22: 2.교직원 복지 및 역량 강화 | E22: =SUM(F22:Z22) -> 0
C23: 1.기관부담보험료 | E23: =SUM(F23:Z23) -> 0
D24: 1.연금및보험료 | E24: =SUM(F24:Z24) -> 1510110 | F24: 전임 사회보험료 | G24: 1510110
C25: 2.연수비 | E25: =SUM(F25:Z25) -> 0
D26: 1.자율연수 | E26: =SUM(F26:Z26) -> 240000 | F26: 자율연수 | G26: 100000 | H26: 40000 | I26: 100000
D27: 2.교사회멘토링 | E27: =SUM(F27:Z27) -> 0
C28: 3.업무추진비 | E28: =SUM(F28:Z28) -> 0
C29: 4.도서비 | E29: =SUM(F29:Z29) -> 28000 | F29: 연구도서 | G29: 28000
C30: 5.교직원행사비 | E30: =SUM(F30:Z30) -> 0
C31: 6.포상비 | E31: =SUM(F31:Z31) -> 0
C32: 7.맞춤형복지비 | E32: =SUM(F32:Z32) -> 0
C33: 8.직급보조비 | E33: =SUM(F33:Z33) -> 0
C34: 9.성과상여금 | E34: =SUM(F34:Z34) -> 0
A35: 2.학생복지/교육격차해소 | E35: =SUM(F35:Z35) -> 0
B36: 1. 급식관리비 | E36: =SUM(F36:Z36) -> 0
C37: 1. 수용비 | E37: =SUM(F37:Z37) -> 233180 | F37: 과일 잡곡 등 | G37: 145140 | H37: 88040
C38: 2. 기타식자재구입비 | E38: =SUM(F38:Z38) -> 0
C39: 3. 위탁급식비 | E39: =SUM(F39:Z39) -> 6278320 | F39: 부모부담분 | G39: 1660000 | H39: 급식지원금 지출 | I39: 4618320
B40: 2. 보건관리비 | E40: =SUM(F40:Z40) -> 0
C41: 1.학생과 교직원보건안전 | E41: =SUM(F41:Z41) -> 0
D42: 1.의료비 | E42: =SUM(F42:Z42) -> 0
D43: 2.보건실운영 | E43: =SUM(F43:Z43) -> 0
D44: 3.학교안전공제회비 | E44: =SUM(F44:Z44) -> 0
C45: 2.학교위생관리 | E45: =SUM(F45:Z45) -> 0
D46: 1.식수운영 | E46: =SUM(F46:Z46) -> 0 | F46: 정수필터
D47: 2.수용비 | E47: =SUM(F47:Z47) -> 0 | F47: 휴지
D48: 3.방역비 | E48: =SUM(F48:Z48) -> 0
A49: 3.기본적교육활동비 | E49: =SUM(F49:Z49) -> 0
B50: 1.교과활동지원 | E50: =SUM(F50:Z50) -> 0
C51: 1.담임교사교육운영비 | E51: =SUM(F51:Z51) -> 87470 | F51: 건강검진이동보험료 | G51: 13130 | H51: 교실용품 | I51: 74340
C52: 2.교사용지도서 | E52: =SUM(F52:Z52) -> 0
B53: 2.외국어교과활동 | E53: =SUM(F53:Z53) -> 0
B54: 3.수공예교과활동 | E54: =SUM(F54:Z54) -> 0
B55: 4.음악교과활동 | E55: =SUM(F55:Z55) -> 0
B56: 5.미술교과활동 | E56: =SUM(F56:Z56) -> 0
B57: 6.목공예교과활동 | E57: =SUM(F57:Z57) -> 0
B58: 7.체육교과활동 | E58: =SUM(F58:Z58) -> 104560 | F58: 체육활동조끼 | G58: 104560
B59: 8 기타교과활동 | E59: =SUM(F59:Z59) -> 50000 | F59: 신문구독료2개월 | G59: 50000
B60: 9.창의체험활동 | E60: =SUM(F60:Z60) -> 0
C61: 1. 축제및행사 | E61: =SUM(F61:Z61) -> 40500 | F61: 현수막 | G61: 40500
C62: 2. 캠프 | E62: =SUM(F62:Z62) -> 0
A63: 4.선택적교육활동 | E63: =SUM(F63:Z63) -> 0
B64: 1.방과후 학교 | E64: =SUM(F64:Z64) -> 0
C65: 1.방과후학교 | E65: =SUM(F65:Z65) -> 0
D66: 1.강사인건비 | E66: =SUM(F66:Z66) -> 0
D67: 2.간식비 | E67: =SUM(F67:Z67) -> 234000 | F67: 간식비 | G67: 234000
D68: 3.교육운영비 | E68: =SUM(F68:Z68) -> 24200 | F68: 수업재료 | G68: 5400 | H68: 10500 | I68: 8300
B69: 2.독서활동 | E69: =SUM(F69:Z69) -> 0
C70: 1. 독서활동운영 | E70: =SUM(F70:Z70) -> 0
D71: 1.도서구입 | E71: =SUM(F71:Z71) -> 0
A72: 5.교육활동지원 | E72: =SUM(F72:Z72) -> 0
B73: 1.교무업무운영 | E73: =SUM(F73:Z73) -> 0
C74: 1.교무학사운영 | E74: =SUM(F74:Z74) -> 0
D75: 1.수용비 | E75: =SUM(F75:Z75) -> 15000 | F75: 복사지 | G75: 15000
C76: 2.입학식,졸업식 | E76: =SUM(F76:Z76) -> 0
C77: 3.신입생홍보운영 | E77: =SUM(F77:Z77) -> 0
C78: 4.입학설명회운영 | E78: =SUM(F78:Z78) -> 0
B79: 2.교육환경개선 | E79: =SUM(F79:Z79) -> 0
C80: 1.교실비품 | E80: =SUM(F80:Z80) -> 0
C81: 2.책걸상구입 | E81: =SUM(F81:Z81) -> 0
A82: 6.일반학교운영 | E82: =SUM(F82:Z82) -> 0
B83: 1.시설장비유지 | E83: =SUM(F83:Z83) -> 0
C84: 1.학교시설장비유지 | E84: =SUM(F84:Z84) -> 0
D85: 1. 전기요금 | E85: =SUM(F85:Z85) -> 148250 | F85: 전기료 | G85: 148250
D86: 2. 상하수도료 | E86: =SUM(F86:Z86) -> 32260 | F86: 상하수도료 | G86: 32260
D87: 3. 일반수용비 | E87: =SUM(F87:Z87) -> 233190 | F87: 주방고체비누 | G87: 17900 | H87: 22500 | I87: 휴지 외 | J87: 72790 | K87: 밥솥수리 | L87: 20000 | M87: 피아노조율 | N87: 100000
D88: 4. 기타공공요금 | E88: =SUM(F88:Z88) -> 2362180 | F88: 인터넷사용료 | G88: 49520 | H88: 28860 | I88: 행정폰이용료 | J88: 33000 | K88: 국세 | L88: 18000 | M88: 지방세 | N88: 1800 | O88: 평화나무농장연회비 | Q88: 양대련상반기회비 | S88: 대안교육연대연회비 | U88: 2226500 | V88: 수수료 | W88: 4500
D89: 5.시설관리용역비 | E89: =SUM(F89:Z89) -> 0
D90: 6. 수용비 | E90: =SUM(F90:Z90) -> 1770000 | F90: 월세 | G90: 1770000
C91: 2.연료비 | E91: =SUM(F91:Z91) -> 480000 | F91: 난방유 | G91: 24000 | H91: 456000
C92: 3.시설일반관리 | E92: =SUM(F92:Z92) -> 0
D93: 1.수용비 | E93: =SUM(F93:Z93) -> 6600 | F93: 공구 | G93: 6600
D94: 2.시설비 | E94: =SUM(F94:Z94) -> 0
D95: 3.장비취득비 | E95: =SUM(F95:Z95) -> 0
B96: 2.학교운영협력비 | E96: =SUM(F96:Z96) -> 0
C97: 1.학교운영위원회운영 | E97: =SUM(F97:Z97) -> 0
D98: 1.일반업무추진비 | E98: =SUM(F98:Z98) -> 110000 | F98: 근조화환 | G98: 110000
C99: 2.학부모협력 | E99: =SUM(F99:Z99) -> 0
D100: 1.신편입학부모교육 | E100: =SUM(F100:Z100) -> 0
C101: 3.교육위원회 | E101: =SUM(F101:Z101) -> 0
D102: 1.업무추진비 | E102: =SUM(F102:Z102) -> 0
...

Sheet 5월
B2: 2025학년도 5월 세출명세서
A4: 과목 | F4: 내역
A5: 장 | B5: 관 | C5: 항 | D5: 목 | E5: 계
A6: 1. 인적자원운용비 | E6: =SUM(F6:Z6) -> 0
B7: 1. 교직원보수 | E7: =SUM(F7:Z7) -> 0
C8: 1. 교원보수 | E8: =SUM(F8:Z8) -> 0
D9: 1.기본급 | E9: =SUM(F9:AA9) -> 16850000 | F9: 상급박규현 | G9: 2550000 | H9: 상급김훈희 | I9: 2250000 | J9: 이영해 | K9: 2450000 | L9: 조수연 | M9: 2350000 | N9: 정효진 | O9: 2300000 | P9: 위윤이 | Q9: 2250000 | R9: 김미정 | S9: 2200000 | T9: 상급지도이성웅 | V9: 500000
D10: 2.기간제교원인건비 | E10: =SUM(F10:AU10) -> 8782000 | F10: 농사/텃밭관리서규섭 | G10: 466000 | H10: 프로젝트김학철 | I10: 198000 | J10: 퍼머컬쳐임경수 | K10: 198000 | L10: 상급수학하경희 | M10: 297000 | N10: 미술심미용 | O10: 198000 | P10: 한국무용정혜원 | Q10: 99000 | R10: 정가박세은 | S10: 99000 | T10: 영어한만형 | U10: 264000 | V10: 영어한종인 | W10: 165000 | X10: 영어이슬아 | Y10: 528000 | Z10: 영어이정연 | AA10: 528000 | AB10: 체육이형남 | AC10: 594000 | AD10: 수공예김복순 | AE10: 396000 | AF10: 수공예김현숙 | AG10: 363000 | AH10: 요리박도희 | AI10: 66000 | AJ10: 음악최지원 | AK10: 660000 | AL10: 이성웅체육공통교양이성웅 | AM10: 561000 | AN10: 미술양호빈 | AO10: 1353000 | AP10: 도움수업이미순 | AQ10: 627000 | AR10: 목공김철희 | AS10: 528000 | AT10: 음악정유희 | AU10: 594000
C11: 2.교원제수당 | E11: =SUM(F11:Z11) -> 0
D12: 1.정액급식비 | E12: =SUM(F12:Z12) -> 1020000 | F12: 교사급식비 | G12: 1020000
D13: 2.정근수당 | E13: =SUM(F13:Z13) -> 0
D14: 3.직급수당 | E14: =SUM(F14:Z14) -> 800000 | F14: 박규현 교장직급수당 | H14: 500000 | I14: 이영해 대표교사직급수당 | K14: 300000
D15: 4.상여금 | E15: =SUM(F15:Z15) -> 0
C16: 3. 직원보수 | E16: =SUM(F16:Z16) -> 0
D17: 1.기본급 | E17: =SUM(F17:Z17) -> 2550000 | F17: 살림김진숙 | G17: 2550000
D18: 2.기간제직원인건비 | E18: =SUM(F18:Z18) -> 1250000 | F18: 행정박미영 | G18: 1000000 | H18: 카리나생활지원금 | I18: 250000
C19: 4.직원제수당 | E19: =SUM(F19:Z19) -> 0
D20: 1.정액급식비 | E20: =SUM(F20:Z20) -> 240000 | F20: 교직원2명 김진숙 카리나 | G20: 240000
D21: 2.상여금 | E21: =SUM(F21:Z21) -> 0
B22: 2.교직원 복지 및 역량 강화 | E22: =SUM(F22:Z22) -> 0
C23: 1.기관부담보험료 | E23: =SUM(F23:Z23) -> 0
D24: 1.연금및보험료 | E24: =SUM(F24:Z24) -> 1292640 | F24: 전임 사회보험료 | G24: 1292640
C25: 2.연수비 | E25: =SUM(F25:Z25) -> 0
D26: 1.자율연수 | E26: =SUM(F26:Z26) -> 40000 | F26: 자율연수 | G26: 40000
D27: 2.교사회멘토링 | E27: =SUM(F27:Z27) -> 0
C28: 3.업무추진비 | E28: =SUM(F28:Z28) -> 0
C29: 4.도서비 | E29: =SUM(F29:Z29) -> 0
C30: 5.교직원행사비 | E30: =SUM(F30:Z30) -> 0
C31: 6.포상비 | E31: =SUM(F31:Z31) -> 0
C32: 7.맞춤형복지비 | E32: =SUM(F32:Z32) -> 0
C33: 8.직급보조비 | E33: =SUM(F33:Z33) -> 0
C34: 9.성과상여금 | E34: =SUM(F34:Z34) -> 0
A35: 2.학생복지/교육격차해소 | E35: =SUM(F35:Z35) -> 0
B36: 1. 급식관리비 | E36: =SUM(F36:Z36) -> 0
C37: 1. 수용비 | E37: =SUM(F37:Z37) -> 751910 | F37: 과일 잡곡 등 | G37: 119300 | H37: 61100 | I37: 172600 | J37: 85640 | K37: 75000 | L37: 101900 | M37: 63920 | N37: 72450
C38: 2. 기타식자재구입비 | E38: =SUM(F38:Z38) -> 0
C39: 3. 위탁급식비 | E39: =SUM(F39:Z39) -> 11186800 | F39: 부모부담분 | G39: 1442000 | H39: 4월 급식지원금 지출 | I39: 5665360 | J39: 5월 급식비 지원금 지출 | K39: 4079440
B40: 2. 보건관리비 | E40: =SUM(F40:Z40) -> 0
C41: 1.학생과 교직원보건안전 | E41: =SUM(F41:Z41) -> 0
D42: 1.의료비 | E42: =SUM(F42:Z42) -> 0
D43: 2.보건실운영 | E43: =SUM(F43:Z43) -> 0
D44: 3.학교안전공제회비 | E44: =SUM(F44:Z44) -> 0
C45: 2.학교위생관리 | E45: =SUM(F45:Z45) -> 0
D46: 1.식수운영 | E46: =SUM(F46:Z46) -> 0 | F46: 정수필터
D47: 2.수용비 | E47: =SUM(F47:Z47) -> 0 | F47: 휴지
D48: 3.방역비 | E48: =SUM(F48:Z48) -> 0
A49: 3.기본적교육활동비 | E49: =SUM(F49:Z49) -> 0
B50: 1.교과활동지원 | E50: =SUM(F50:Z50) -> 0
C51: 1.담임교사교육운영비 | E51: =SUM(F51:Z51) -> 161570 | F51: 교실환경구성 | G51: 42730 | H51: 수업교구 | I51: 15000 | J51: 공용미술용품 | K51: 68480 | L51: 1학년교육운영비 | M51: 29160 | N51: 마커펜 | O51: 6200
C52: 2.교사용지도서 | E52: =SUM(F52:Z52) -> 0
B53: 2.외국어교과활동 | E53: =SUM(F53:Z53) -> 0
B54: 3.수공예교과활동 | E54: =SUM(F54:Z54) -> 0
B55: 4.음악교과활동 | E55: =SUM(F55:Z55) -> 0
B56: 5.미술교과활동 | E56: =SUM(F56:Z56) -> 77980 | F56: 공용미술용품 | G56: 77980
B57: 6.목공예교과활동 | E57: =SUM(F57:Z57) -> 0
B58: 7.체육교과활동 | E58: =SUM(F58:Z58) -> 0
B59: 8 기타교과활동 | E59: =SUM(F59:Z59) -> 25000 | F59: 신문구독 | G59: 25000
B60: 9.창의체험활동 | E60: =SUM(F60:Z60) -> 0
C61: 1. 축제및행사 | E61: =SUM(F61:Z61) -> 43730 | F61: 연등재료 | G61: 15510 | H61: 단오제 상품용 쌀 | I61: 28220
C62: 2. 캠프 | E62: =SUM(F62:Z62) -> 0
A63: 4.선택적교육활동 | E63: =SUM(F63:Z63) -> 0
B64: 1.방과후 학교 | E64: =SUM(F64:Z64) -> 0
C65: 1.방과후학교 | E65: =SUM(F65:Z65) -> 0
D66: 1.강사인건비 | E66: =SUM(F66:Z66) -> 396000 | F66: 합창수업료 4,5월 | G66: 396000
D67: 2.간식비 | E67: =SUM(F67:Z67) -> 252000 | F67: 간식비 | G67: 252000
D68: 3.교육운영비 | E68: =SUM(F68:Z68) -> 11800 | F68: 수업재료 | G68: 11800
B69: 2.독서활동 | E69: =SUM(F69:Z69) -> 0
C70: 1. 독서활동운영 | E70: =SUM(F70:Z70) -> 0
D71: 1.도서구입 | E71: =SUM(F71:Z71) -> 0
A72: 5.교육활동지원 | E72: =SUM(F72:Z72) -> 0
B73: 1.교무업무운영 | E73: =SUM(F73:Z73) -> 0
C74: 1.교무학사운영 | E74: =SUM(F74:Z74) -> 0
D75: 1.수용비 | E75: =SUM(F75:Z75) -> 41900 | F75: 복사지 | G75: 41900
C76: 2.입학식,졸업식 | E76: =SUM(F76:Z76) -> 0
C77: 3.신입생홍보운영 | E77: =SUM(F77:Z77) -> 0
C78: 4.입학설명회운영 | E78: =SUM(F78:Z78) -> 16360 | F78: 설명회포스터 | G78: 16360
B79: 2.교육환경개선 | E79: =SUM(F79:Z79) -> 0
C80: 1.교실비품 | E80: =SUM(F80:Z80) -> 121500 | F80: 교실비품 | G80: 46500 | H80: 교실게시판 | I80: 58100 | J80: 신관도어스토퍼 | K80: 16900
C81: 2.책걸상구입 | E81: =SUM(F81:Z81) -> 0
A82: 6.일반학교운영 | E82: =SUM(F82:Z82) -> 0
B83: 1.시설장비유지 | E83: =SUM(F83:Z83) -> 0
C84: 1.학교시설장비유지 | E84: =SUM(F84:Z84) -> 0
D85: 1. 전기요금 | E85: =SUM(F85:Z85) -> 151000 | F85: 전기료 | G85: 151000
D86: 2. 상하수도료 | E86: =SUM(F86:Z86) -> 75420 | F86: 상하수도료 | G86: 75420
D87: 3. 일반수용비 | E87: =SUM(F87:Z87) -> 389020 | F87: 데크방수오일 등 | G87: 41000 | H87: 배수구망 | I87: 81000 | J87: 신관유리파손교체 | K87: 260000 | L87: 세외수입kpn | M87: 7020
D88: 4. 기타공공요금 | E88: =SUM(F88:Z88) -> 221630 | F88: 인터넷사용료 | G88: 46440 | H88: 26910 | I88: 행정폰이용료 | J88: 33400 | K88: 국세(사업소득세) | L88: 100800 | M88: 지방세 | N88: 10080 | O88: 평화나무농장연회비 | Q88: 양대련상반기회비 | S88: 대안교육연대연회비 | U88: 송금수수료 | V88: 4000
D89: 5.시설관리용역비 | E89: =SUM(F89:Z89) -> 0
D90: 6. 수용비 | E90: =SUM(F90:Z90) -> 1770000 | F90: 월세 | G90: 1770000
C91: 2.연료비 | E91: =SUM(F91:Z91) -> 0 | F91: 난방유
C92: 3.시설일반관리 | E92: =SUM(F92:Z92) -> 0
D93: 1.수용비 | E93: =SUM(F93:Z93) -> 0
D94: 2.시설비 | E94: =SUM(F94:Z94) -> 0
D95: 3.장비취득비 | E95: =SUM(F95:Z95) -> 0
B96: 2.학교운영협력비 | E96: =SUM(F96:Z96) -> 0
C97: 1.학교운영위원회운영 | E97: =SUM(F97:Z97) -> 0
D98: 1.일반업무추진비 | E98: =SUM(F98:Z98) -> 193000 | F98: 근조화환 | G98: 100000 | H98: 이영구님아들결혼축하화환 | I98: 93000
C99: 2.학부모협력 | E99: =SUM(F99:Z99) -> 0
D100: 1.신편입학부모교육 | E100: =SUM(F100:Z100) -> 0
C101: 3.교육위원회 | E101: =SUM(F101:Z101) -> 0
D102: 1.업무추진비 | E102: =SUM(F102:Z102) -> 0
...

Sheet 6월
B2: 2025학년도 6월 세출명세서
A4: 과목 | F4: 내역
A5: 장 | B5: 관 | C5: 항 | D5: 목 | E5: 계
A6: 1. 인적자원운용비 | E6: =SUM(F6:Z6) -> 0
B7: 1. 교직원보수 | E7: =SUM(F7:Z7) -> 0
C8: 1. 교원보수 | D8: 수수료2500원 | E8: =SUM(F8:Z8) -> 0
D9: 1.기본급 | E9: =SUM(F9:AA9) -> 16850000 | F9: 상급박규현 | G9: 2550000 | H9: 상급김훈희 | I9: 2250000 | J9: 이영해 | K9: 2450000 | L9: 조수연 | M9: 2350000 | N9: 정효진 | O9: 2300000 | P9: 위윤이 | Q9: 2250000 | R9: 김미정 | S9: 2200000 | T9: 상급지도이성웅 | V9: 500000
D10: 2.기간제교원인건비 | E10: =SUM(F10:AU10) -> 11306760 | F10: 농사/텃밭관리서규섭 | G10: 466000 | H10: 영어이슬아 | I10: 693000 | J10: 영어이정연 | K10: 726000 | L10: 체육이형남 | M10: 825000 | N10: 수공예김복순 | O10: 660000 | P10: 수공예김현숙 | Q10: 528000 | R10: 요리박도희 | S10: 99000 | T10: 음악 최지원 | U10: 693000 | V10: 프로젝트김학철 | W10: 330000 | X10: 퍼머컬쳐임경수 | Y10: 264000 | Z10: 상급수학하경희 | AA10: 429000 | AB10: 미술심미용 | AC10: 264000 | AD10: 무용정혜원 | AE10: 99000 | AF10: 정가박세은 | AG10: 99000 | AH10: 상급영어한만형 | AI10: 297000 | AJ10: 상급영어한종인 | AK10: 198000 | AL10: 체육사회이성웅 | AM10: 858000 | AN10: 미술양호빈 | AO10: 1485000 | AP10: 도움수업이미순 | AQ10: 924000 | AR10: 목공김철희 | AS10: 643760 | AT10: 음악정유희 | AU10: 726000
C11: 2.교원제수당 | E11: =SUM(F11:Z11) -> 0
D12: 1.정액급식비 | E12: =SUM(F12:Z12) -> 1416000 | F12: 교사급식비 | G12: 1416000
D13: 2.정근수당 | E13: =SUM(F13:Z13) -> 0
D14: 3.직급수당 | E14: =SUM(F14:Z14) -> 800000 | F14: 박규현 교장직급수당 | H14: 500000 | I14: 이영해 대표교사직급수당 | K14: 300000
D15: 4.상여금 | E15: =SUM(F15:Z15) -> 0
C16: 3. 직원보수 | E16: =SUM(F16:Z16) -> 0
D17: 1.기본급 | E17: =SUM(F17:Z17) -> 2550000 | F17: 살림김진숙 | G17: 2550000
D18: 2.기간제직원인건비 | E18: =SUM(F18:Z18) -> 1250000 | F18: 행정박미영 | G18: 1000000 | H18: 카리나생활지원금 | I18: 250000
C19: 4.직원제수당 | E19: =SUM(F19:Z19) -> 0
D20: 1.정액급식비 | E20: =SUM(F20:Z20) -> 276000 | F20: 교직원2명 김진숙 카리나 | H20: 276000
D21: 2.상여금 | E21: =SUM(F21:Z21) -> 0
B22: 2.교직원 복지 및 역량 강화 | E22: =SUM(F22:Z22) -> 0
C23: 1.기관부담보험료 | E23: =SUM(F23:Z23) -> 0
D24: 1.연금및보험료 | E24: =SUM(F24:Z24) -> 1292640 | F24: 전임 사회보험료 | G24: 1292640
C25: 2.연수비 | E25: =SUM(F25:Z25) -> 0
D26: 1.자율연수 | E26: =SUM(F26:Z26) -> 37500 | F26: 자율연수 | G26: 37500
D27: 2.교사회멘토링 | E27: =SUM(F27:Z27) -> 0
C28: 3.업무추진비 | E28: =SUM(F28:Z28) -> 0
C29: 4.도서비 | E29: =SUM(F29:Z29) -> 0
C30: 5.교직원행사비 | E30: =SUM(F30:Z30) -> 0
C31: 6.포상비 | E31: =SUM(F31:Z31) -> 0
C32: 7.맞춤형복지비 | E32: =SUM(F32:Z32) -> 0
C33: 8.직급보조비 | E33: =SUM(F33:Z33) -> 0
C34: 9.성과상여금 | E34: =SUM(F34:Z34) -> 0
A35: 2.학생복지/교육격차해소 | E35: =SUM(F35:Z35) -> 0
B36: 1. 급식관리비 | E36: =SUM(F36:Z36) -> 0
C37: 1. 수용비 | E37: =SUM(F37:Z37) -> 0 | F37: 과일 잡곡 등
C38: 2. 기타식자재구입비 | E38: =SUM(F38:Z38) -> 0
C39: 3. 위탁급식비 | E39: =SUM(F39:Z39) -> 1871000 | F39: 부모부담분 | G39: 1776000 | H39: 급식비납부지연분추가송금 | I39: 95000 | J39: 급식지원금 지출
B40: 2. 보건관리비 | E40: =SUM(F40:Z40) -> 0
C41: 1.학생과 교직원보건안전 | E41: =SUM(F41:Z41) -> 0
D42: 1.의료비 | E42: =SUM(F42:Z42) -> 0
D43: 2.보건실운영 | E43: =SUM(F43:Z43) -> 25800 | F43: 탕비실침대커튼레일 | G43: 25800
D44: 3.학교안전공제회비 | E44: =SUM(F44:Z44) -> 0
C45: 2.학교위생관리 | E45: =SUM(F45:Z45) -> 0
D46: 1.식수운영 | E46: =SUM(F46:Z46) -> 0 | F46: 정수필터
D47: 2.수용비 | E47: =SUM(F47:Z47) -> 0 | F47: 휴지
D48: 3.방역비 | E48: =SUM(F48:Z48) -> 0
A49: 3.기본적교육활동비 | E49: =SUM(F49:Z49) -> 0
B50: 1.교과활동지원 | E50: =SUM(F50:Z50) -> 0
C51: 1.담임교사교육운영비 | E51: =SUM(F51:Z51) -> 120520 | F51: 화학실험도구 | G51: 100500 | H51: 보두마커 리필 | I51: 20020
C52: 2.교사용지도서 | E52: =SUM(F52:Z52) -> 0
B53: 2.외국어교과활동 | E53: =SUM(F53:Z53) -> 0
B54: 3.수공예교과활동 | E54: =SUM(F54:Z54) -> 0
B55: 4.음악교과활동 | E55: =SUM(F55:Z55) -> 0
B56: 5.미술교과활동 | E56: =SUM(F56:Z56) -> 0
B57: 6.목공예교과활동 | E57: =SUM(F57:Z57) -> 0
B58: 7.체육교과활동 | E58: =SUM(F58:Z58) -> 0
B59: 8 기타교과활동 | E59: =SUM(F59:Z59) -> 73770 | F59: 모내기깃발천 | G59: 7800 | H59: 모내기깃발 | I59: 29440 | J59: 모내기준비물 | K59: 14800 | L59: 독일문화수업재료 | M59: 21730
B60: 9.창의체험활동 | E60: =SUM(F60:Z60) -> 0
C61: 1. 축제및행사 | E61: =SUM(F61:Z61) -> 50000 | F61: 단오떡메떡 | G61: 50000
C62: 2. 캠프 | E62: =SUM(F62:Z62) -> 0
A63: 4.선택적교육활동 | E63: =SUM(F63:Z63) -> 0
B64: 1.방과후 학교 | E64: =SUM(F64:Z64) -> 0
C65: 1.방과후학교 | E65: =SUM(F65:Z65) -> 0
D66: 1.강사인건비 | E66: =SUM(F66:Z66) -> 330000 | F66: 합창수업료 | G66: 330000
D67: 2.간식비 | E67: =SUM(F67:Z67) -> 268000 | F67: 간식비 | G67: 268000
D68: 3.교육운영비 | E68: =SUM(F68:Z68) -> 0 | F68: 수업재료
B69: 2.독서활동 | E69: =SUM(F69:Z69) -> 0
C70: 1. 독서활동운영 | E70: =SUM(F70:Z70) -> 0
D71: 1.도서구입 | E71: =SUM(F71:Z71) -> 0
A72: 5.교육활동지원 | E72: =SUM(F72:Z72) -> 0
B73: 1.교무업무운영 | E73: =SUM(F73:Z73) -> 0
C74: 1.교무학사운영 | E74: =SUM(F74:Z74) -> 0
D75: 1.수용비 | E75: =SUM(F75:Z75) -> 0
C76: 2.입학식,졸업식 | E76: =SUM(F76:Z76) -> 0
C77: 3.신입생홍보운영 | E77: =SUM(F77:Z77) -> 0
C78: 4.입학설명회운영 | E78: =SUM(F78:Z78) -> 0
B79: 2.교육환경개선 | E79: =SUM(F79:Z79) -> 0
C80: 1.교실비품 | E80: =SUM(F80:Z80) -> 18900 | F80: 신관비품 | G80: 8000 | H80: 신관건조대 | I80: 10900
C81: 2.책걸상구입 | E81: =SUM(F81:Z81) -> 0
A82: 6.일반학교운영 | E82: =SUM(F82:Z82) -> 0
B83: 1.시설장비유지 | E83: =SUM(F83:Z83) -> 0
C84: 1.학교시설장비유지 | E84: =SUM(F84:Z84) -> 0
D85: 1. 전기요금 | E85: =SUM(F85:Z85) -> 0 | F85: 전기료
D86: 2. 상하수도료 | E86: =SUM(F86:Z86) -> 166720 | F86: 상하수도료 | G86: 166720
D87: 3. 일반수용비 | E87: =SUM(F87:Z87) -> 98270 | F87: 화장실 휴지 | G87: 23300 | H87: 신관본관 화장실 청소도구 | I87: 33770 | J87: 휴지 | K87: 23300 | L87: 주방고체비누 | M87: 17900
D88: 4. 기타공공요금 | E88: =SUM(F88:Z88) -> 327830 | F88: 인터넷사용료 | G88: 92220 | H88: 39570 | I88: 28880 | J88: 행정폰이용료 | K88: 40080 | L88: 국세 | M88: 112800 | N88: 지방세 | O88: 11280 | P88: 송금수수료 | Q88: 3000
D89: 5.시설관리용역비 | E89: =SUM(F89:Z89) -> 0
D90: 6. 수용비 | E90: =SUM(F90:Z90) -> 0 | F90: 월세
C91: 2.연료비 | E91: =SUM(F91:Z91) -> 0 | F91: 난방유
C92: 3.시설일반관리 | E92: =SUM(F92:Z92) -> 0
D93: 1.수용비 | E93: =SUM(F93:Z93) -> 0
D94: 2.시설비 | E94: =SUM(F94:Z94) -> 0
D95: 3.장비취득비 | E95: =SUM(F95:Z95) -> 0
B96: 2.학교운영협력비 | E96: =SUM(F96:Z96) -> 0
C97: 1.학교운영위원회운영 | E97: =SUM(F97:Z97) -> 0
D98: 1.일반업무추진비 | E98: =SUM(F98:Z98) -> 0
C99: 2.학부모협력 | E99: =SUM(F99:Z99) -> 0
D100: 1.신편입학부모교육 | E100: =SUM(F100:Z100) -> 0
C101: 3.교육위원회 | E101: =SUM(F101:Z101) -> 0
D102: 1.업무추진비 | E102: =SUM(F102:Z102) -> 0
...

Sheet 7월
B2: 2025학년도 7월 세출명세서
A4: 과목 | F4: 내역
A5: 장 | B5: 관 | C5: 항 | D5: 목 | E5: 계
A6: 1. 인적자원운용비 | E6: =SUM(F6:Z6) -> 0
B7: 1. 교직원보수 | E7: =SUM(F7:Z7) -> 0
C8: 1. 교원보수 | E8: =SUM(F8:Z8) -> 0
D9: 1.기본급 | E9: =SUM(F9:AA9) -> 16850000 | F9: 상급박규현 | G9: 2550000 | H9: 상급김훈희 | I9: 2250000 | J9: 이영해 | K9: 2450000 | L9: 조수연 | M9: 2350000 | N9: 정효진 | O9: 2300000 | P9: 위윤이 | Q9: 2250000 | R9: 김미정 | S9: 2200000 | T9: 상급지도이성웅 | V9: 500000
D10: 2.기간제교원인건비 | E10: =SUM(F10:AQ10) -> 1868240 | F10: 농사/텃밭관리서규섭 | G10: 400000 | H10: 공통교양이성웅 | I10: 132000 | J10: 도움수업이미순 | K10: 99000 | L10: 목공김철희 | M10: 16240 | N10: 영어이슬아 | O10: 99000 | P10: 영어이정연 | Q10: 66000 | R10: 요리박도희 | S10: 33000 | T10: 미술양호빈 | U10: 297000 | V10: 영어한종인 | W10: 33000 | X10: 체육이형남 | Y10: 99000 | Z10: 무용장혜원 | AA10: 33000 | AB10: 정가박세은 | AC10: 33000 | AD10: 음악정유희 | AE10: 198000 | AF10: 퍼머컬쳐임경수 | AG10: 66000 | AH10: 미술심미용 | AI10: 66000 | AJ10: 상급수학하경희 | AK10: 66000 | AL10: 수공예김현숙 | AM10: 132000
C11: 2.교원제수당 | E11: =SUM(F11:Z11) -> 0
D12: 1.정액급식비 | E12: =SUM(F12:Z12) -> 0 | F12: 교사급식비
D13: 2.정근수당 | E13: =SUM(F13:Z13) -> 0
D14: 3.직급수당 | E14: =SUM(F14:Z14) -> 800000 | F14: 박규현 교장직급수당 | H14: 500000 | I14: 이영해 대표교사직급수당 | K14: 300000
D15: 4.상여금 | E15: =SUM(F15:Z15) -> 0
C16: 3. 직원보수 | E16: =SUM(F16:Z16) -> 0
D17: 1.기본급 | E17: =SUM(F17:Z17) -> 2550000 | F17: 살림김진숙 | G17: 2550000
D18: 2.기간제직원인건비 | E18: =SUM(F18:Z18) -> 1250000 | F18: 행정박미영 | G18: 1000000 | H18: 카리나생활지원금 | I18: 250000
C19: 4.직원제수당 | E19: =SUM(F19:Z19) -> 0
D20: 1.정액급식비 | E20: =SUM(F20:Z20) -> 0 | F20: 교직원2명 김진숙 카리나
D21: 2.상여금 | E21: =SUM(F21:Z21) -> 0
B22: 2.교직원 복지 및 역량 강화 | E22: =SUM(F22:Z22) -> 0
C23: 1.기관부담보험료 | E23: =SUM(F23:Z23) -> 0
D24: 1.연금및보험료 | E24: =SUM(F24:Z24) -> 1406150 | F24: 전임 사회보험료 | G24: 1406150
C25: 2.연수비 | E25: =SUM(F25:Z25) -> 0
D26: 1.자율연수 | E26: =SUM(F26:Z26) -> 0 | F26: 자율연수
D27: 2.교사회멘토링 | E27: =SUM(F27:Z27) -> 0
C28: 3.업무추진비 | E28: =SUM(F28:Z28) -> 0
C29: 4.도서비 | E29: =SUM(F29:Z29) -> 0
C30: 5.교직원행사비 | E30: =SUM(F30:Z30) -> 0
C31: 6.포상비 | E31: =SUM(F31:Z31) -> 0
C32: 7.맞춤형복지비 | E32: =SUM(F32:Z32) -> 0
C33: 8.직급보조비 | E33: =SUM(F33:Z33) -> 0
C34: 9.성과상여금 | E34: =SUM(F34:Z34) -> 0
A35: 2.학생복지/교육격차해소 | E35: =SUM(F35:Z35) -> 0
B36: 1. 급식관리비 | E36: =SUM(F36:Z36) -> 0
C37: 1. 수용비 | E37: =SUM(F37:Z37) -> 44900 | F37: 과일 잡곡 등 | G37: 44900
C38: 2. 기타식자재구입비 | E38: =SUM(F38:Z38) -> 0
C39: 3. 위탁급식비 | E39: =SUM(F39:Z39) -> 4531790 | F39: 부모부담분 | H39: 급식지원금 지출 | I39: 4531790
B40: 2. 보건관리비 | E40: =SUM(F40:Z40) -> 0
C41: 1.학생과 교직원보건안전 | E41: =SUM(F41:Z41) -> 0
D42: 1.의료비 | E42: =SUM(F42:Z42) -> 0
D43: 2.보건실운영 | E43: =SUM(F43:Z43) -> 120500 | F43: 동종레머디세트구입 | G43: 120500
D44: 3.학교안전공제회비 | E44: =SUM(F44:Z44) -> 0
C45: 2.학교위생관리 | E45: =SUM(F45:Z45) -> 0
D46: 1.식수운영 | E46: =SUM(F46:Z46) -> 0 | F46: 정수필터
D47: 2.수용비 | E47: =SUM(F47:Z47) -> 0 | F47: 휴지
D48: 3.방역비 | E48: =SUM(F48:Z48) -> 0
A49: 3.기본적교육활동비 | E49: =SUM(F49:Z49) -> 0
B50: 1.교과활동지원 | E50: =SUM(F50:Z50) -> 0
C51: 1.담임교사교육운영비 | E51: =SUM(F51:Z51) -> 0
C52: 2.교사용지도서 | E52: =SUM(F52:Z52) -> 0
B53: 2.외국어교과활동 | E53: =SUM(F53:Z53) -> 0 | F53: 과학클라드니판
B54: 3.수공예교과활동 | E54: =SUM(F54:Z54) -> 0
B55: 4.음악교과활동 | E55: =SUM(F55:Z55) -> 0
B56: 5.미술교과활동 | E56: =SUM(F56:Z56) -> 0
B57: 6.목공예교과활동 | E57: =SUM(F57:Z57) -> 0
B58: 7.체육교과활동 | E58: =SUM(F58:Z58) -> 0
B59: 8 기타교과활동 | E59: =SUM(F59:Z59) -> 66000 | F59: 신예진 강의료 | G59: 66000
B60: 9.창의체험활동 | E60: =SUM(F60:Z60) -> 0
C61: 1. 축제및행사 | E61: =SUM(F61:Z61) -> 0
C62: 2. 캠프 | E62: =SUM(F62:Z62) -> 0
A63: 4.선택적교육활동 | E63: =SUM(F63:Z63) -> 0
B64: 1.방과후 학교 | E64: =SUM(F64:Z64) -> 0
C65: 1.방과후학교 | E65: =SUM(F65:Z65) -> 0
D66: 1.강사인건비 | E66: =SUM(F66:Z66) -> 0
D67: 2.간식비 | E67: =SUM(F67:Z67) -> 0 | F67: 간식비
D68: 3.교육운영비 | E68: =SUM(F68:Z68) -> 0 | F68: 수업재료
B69: 2.독서활동 | E69: =SUM(F69:Z69) -> 0
C70: 1. 독서활동운영 | E70: =SUM(F70:Z70) -> 0
D71: 1.도서구입 | E71: =SUM(F71:Z71) -> 0
A72: 5.교육활동지원 | E72: =SUM(F72:Z72) -> 0
B73: 1.교무업무운영 | E73: =SUM(F73:Z73) -> 0
C74: 1.교무학사운영 | E74: =SUM(F74:Z74) -> 0
D75: 1.수용비 | E75: =SUM(F75:Z75) -> 40640 | F75: 마이크커버 | G75: 13140 | H75: A4용지 | I75: 27500
C76: 2.입학식,졸업식 | E76: =SUM(F76:Z76) -> 0
C77: 3.신입생홍보운영 | E77: =SUM(F77:Z77) -> 0
C78: 4.입학설명회운영 | E78: =SUM(F78:Z78) -> 9600 | F78: 입학설명회용 실내화 | G78: 9600
B79: 2.교육환경개선 | E79: =SUM(F79:Z79) -> 0
C80: 1.교실비품 | E80: =SUM(F80:Z80) -> 47550 | F80: 신관싱크대선반 | G80: 47550
C81: 2.책걸상구입 | E81: =SUM(F81:Z81) -> 0
A82: 6.일반학교운영 | E82: =SUM(F82:Z82) -> 0
B83: 1.시설장비유지 | E83: =SUM(F83:Z83) -> 0
C84: 1.학교시설장비유지 | E84: =SUM(F84:Z84) -> 0
D85: 1. 전기요금 | E85: =SUM(F85:Z85) -> 334920 | F85: 전기료 5~6월분 | G85: 334920
D86: 2. 상하수도료 | E86: =SUM(F86:Z86) -> 146800 | F86: 상하수도료 | G86: 146800
D87: 3. 일반수용비 | E87: =SUM(F87:Z87) -> 301630 | F87: 습기제거제 및 방지제 | G87: 4000 | H87: 69500 | I87: 26800 | J87: 65830 | K87: 135500
D88: 4. 기타공공요금 | E88: =SUM(F88:Z88) -> 188290 | F88: 인터넷사용료 | G88: 56540 | H88: 46770 | I88: 28860 | J88: 행정폰이용료 | K88: 33000 | L88: 국세-사업소득세 | M88: 19200 | N88: 지방세 | O88: 1920 | P88: 송금수수료 | Q88: 2000 | R88: 평화나무농장연회비 | T88: 양대련상반기회비 | V88: 대안교육연대연회비
D89: 5.시설관리용역비 | E89: =SUM(F89:Z89) -> 0
D90: 6. 수용비 | E90: =SUM(F90:Z90) -> 1770000 | F90: 월세 | G90: 1770000
C91: 2.연료비 | E91: =SUM(F91:Z91) -> 0 | F91: 난방유
C92: 3.시설일반관리 | E92: =SUM(F92:Z92) -> 0
D93: 1.수용비 | E93: =SUM(F93:Z93) -> 0
D94: 2.시설비 | E94: =SUM(F94:Z94) -> 0
D95: 3.장비취득비 | E95: =SUM(F95:Z95) -> 0
B96: 2.학교운영협력비 | E96: =SUM(F96:Z96) -> 0
C97: 1.학교운영위원회운영 | E97: =SUM(F97:Z97) -> 0
D98: 1.일반업무추진비 | E98: =SUM(F98:Z98) -> 0
C99: 2.학부모협력 | E99: =SUM(F99:Z99) -> 0
D100: 1.신편입학부모교육 | E100: =SUM(F100:Z100) -> 0
C101: 3.교육위원회 | E101: =SUM(F101:Z101) -> 0
D102: 1.업무추진비 | E102: =SUM(F102:Z102) -> 0
...

Sheet 8월
B2: 2025학년도 8월 세출명세서
A4: 과목 | F4: 내역
A5: 장 | B5: 관 | C5: 항 | D5: 목 | E5: 계
A6: 1. 인적자원운용비 | E6: =SUM(F6:Z6) -> 0
B7: 1. 교직원보수 | E7: =SUM(F7:Z7) -> 0
C8: 1. 교원보수 | E8: =SUM(F8:Z8) -> 0
D9: 1.기본급 | E9: =SUM(F9:AA9) -> 16850000 | F9: 상급박규현 | G9: 2550000 | H9: 상급김훈희 | I9: 2250000 | J9: 이영해 | K9: 2450000 | L9: 조수연 | M9: 2350000 | N9: 정효진 | O9: 2300000 | P9: 위윤이 | Q9: 2250000 | R9: 김미정 | S9: 2200000 | T9: 상급지도이성웅 | V9: 500000
D10: 2.기간제교원인건비 | E10: =SUM(F10:AO10) -> 1885000 | F10: 농사/텃밭관리서규섭 | G10: 400000 | H10: 체육이성웅 | I10: 132000 | J10: 영어이슬아 | K10: 165000 | L10: 영어이정연 | M10: 132000 | N10: 체육이형남 | O10: 99000 | P10: 농사서규섭 | Q10: 33000 | R10: 수공예최은영 | S10: 132000 | T10: 음악 정유희 | U10: 198000 | V10: 음악최지원 | W10: 198000 | X10: 목공김철희 | Y10: 198000 | Z10: 퍼머컬쳐 임경수 | AA10: 66000 | AB10: 상급수학하경희 | AC10: 66000 | AD10: 무용정혜원 | AE10: 33000 | AF10: 정가 박세은 | AG10: 33000
C11: 2.교원제수당 | E11: =SUM(F11:Z11) -> 0
D12: 1.정액급식비 | E12: =SUM(F12:Z12) -> 0 | F12: 교사급식비
D13: 2.정근수당 | E13: =SUM(F13:Z13) -> 0
D14: 3.직급수당 | E14: =SUM(F14:Z14) -> 800000 | F14: 박규현 교장직급수당 | H14: 500000 | I14: 이영해 대표교사직급수당 | K14: 300000
D15: 4.상여금 | E15: =SUM(F15:Z15) -> 0
C16: 3. 직원보수 | E16: =SUM(F16:Z16) -> 0
D17: 1.기본급 | E17: =SUM(F17:Z17) -> 2550000 | F17: 살림김진숙 | G17: 2550000
D18: 2.기간제직원인건비 | E18: =SUM(F18:Z18) -> 1250000 | F18: 행정박미영 | G18: 1000000 | H18: 카리나생활지원금 | I18: 250000
C19: 4.직원제수당 | E19: =SUM(F19:Z19) -> 0
D20: 1.정액급식비 | E20: =SUM(F20:Z20) -> 0 | F20: 교직원2명 김진숙 카리나
D21: 2.상여금 | E21: =SUM(F21:Z21) -> 0
B22: 2.교직원 복지 및 역량 강화 | E22: =SUM(F22:Z22) -> 0
C23: 1.기관부담보험료 | E23: =SUM(F23:Z23) -> 0
D24: 1.연금및보험료 | E24: =SUM(F24:Z24) -> 1404670 | F24: 전임 사회보험료 | G24: 1404670
C25: 2.연수비 | E25: =SUM(F25:Z25) -> 0
D26: 1.자율연수 | E26: =SUM(F26:Z26) -> 0 | F26: 자율연수
D27: 2.교사회멘토링 | E27: =SUM(F27:Z27) -> 0
C28: 3.업무추진비 | E28: =SUM(F28:Z28) -> 0
C29: 4.도서비 | E29: =SUM(F29:Z29) -> 0
C30: 5.교직원행사비 | E30: =SUM(F30:Z30) -> 0
C31: 6.포상비 | E31: =SUM(F31:Z31) -> 0
C32: 7.맞춤형복지비 | E32: =SUM(F32:Z32) -> 0
C33: 8.직급보조비 | E33: =SUM(F33:Z33) -> 0
C34: 9.성과상여금 | E34: =SUM(F34:Z34) -> 0
A35: 2.학생복지/교육격차해소 | E35: =SUM(F35:Z35) -> 0
B36: 1. 급식관리비 | E36: =SUM(F36:Z36) -> 0
C37: 1. 수용비 | E37: =SUM(F37:Z37) -> 0 | F37: 과일 잡곡 등
C38: 2. 기타식자재구입비 | E38: =SUM(F38:Z38) -> 0
C39: 3. 위탁급식비 | E39: =SUM(F39:Z39) -> 4647790 | F39: 부모부담분 | H39: 급식지원금 지출 | I39: 4647790
B40: 2. 보건관리비 | E40: =SUM(F40:Z40) -> 0
C41: 1.학생과 교직원보건안전 | E41: =SUM(F41:Z41) -> 0
D42: 1.의료비 | E42: =SUM(F42:Z42) -> 0
D43: 2.보건실운영 | E43: =SUM(F43:Z43) -> 0
D44: 3.학교안전공제회비 | E44: =SUM(F44:Z44) -> 0
C45: 2.학교위생관리 | E45: =SUM(F45:Z45) -> 0
D46: 1.식수운영 | E46: =SUM(F46:Z46) -> 0 | F46: 정수필터
D47: 2.수용비 | E47: =SUM(F47:Z47) -> 0 | F47: 휴지
D48: 3.방역비 | E48: =SUM(F48:Z48) -> 0
A49: 3.기본적교육활동비 | E49: =SUM(F49:Z49) -> 0
B50: 1.교과활동지원 | E50: =SUM(F50:Z50) -> 0
C51: 1.담임교사교육운영비 | E51: =SUM(F51:Z51) -> 172000 | F51: 2학기공책용지 | G51: 148000 | H51: 귀도리택배발송 | I51: 15000 | J51: 칠판용품 | K51: 9000
C52: 2.교사용지도서 | E52: =SUM(F52:Z52) -> 0
B53: 2.외국어교과활동 | E53: =SUM(F53:Z53) -> 0
B54: 3.수공예교과활동 | E54: =SUM(F54:Z54) -> 0
B55: 4.음악교과활동 | E55: =SUM(F55:Z55) -> 0
B56: 5.미술교과활동 | E56: =SUM(F56:Z56) -> 191820 | F56: 미술용품 종이 외 | G56: 81020 | H56: 공용미술용품 찰흙 | I56: 110800
B57: 6.목공예교과활동 | E57: =SUM(F57:Z57) -> 0
B58: 7.체육교과활동 | E58: =SUM(F58:Z58) -> 0
B59: 8 기타교과활동 | E59: =SUM(F59:Z59) -> 0
B60: 9.창의체험활동 | E60: =SUM(F60:Z60) -> 0
C61: 1. 축제및행사 | E61: =SUM(F61:Z61) -> 0
C62: 2. 캠프 | E62: =SUM(F62:Z62) -> 2284360 | F62: 여름캠프 지출총액 | G62: 2284360
A63: 4.선택적교육활동 | E63: =SUM(F63:Z63) -> 0
B64: 1.방과후 학교 | E64: =SUM(F64:Z64) -> 0
C65: 1.방과후학교 | E65: =SUM(F65:Z65) -> 0
D66: 1.강사인건비 | E66: =SUM(F66:Z66) -> 0
D67: 2.간식비 | E67: =SUM(F67:Z67) -> 0 | F67: 간식비
D68: 3.교육운영비 | E68: =SUM(F68:Z68) -> 9700 | F68: 수업재료 | G68: 9700
B69: 2.독서활동 | E69: =SUM(F69:Z69) -> 0
C70: 1. 독서활동운영 | E70: =SUM(F70:Z70) -> 0
D71: 1.도서구입 | E71: =SUM(F71:Z71) -> 0
A72: 5.교육활동지원 | E72: =SUM(F72:Z72) -> 0
B73: 1.교무업무운영 | E73: =SUM(F73:Z73) -> 0
C74: 1.교무학사운영 | E74: =SUM(F74:Z74) -> 0
D75: 1.수용비 | E75: =SUM(F75:Z75) -> 0
C76: 2.입학식,졸업식 | E76: =SUM(F76:Z76) -> 0
C77: 3.신입생홍보운영 | E77: =SUM(F77:Z77) -> 0
C78: 4.입학설명회운영 | E78: =SUM(F78:Z78) -> 0
B79: 2.교육환경개선 | E79: =SUM(F79:Z79) -> 0
C80: 1.교실비품 | E80: =SUM(F80:Z80) -> 0
C81: 2.책걸상구입 | E81: =SUM(F81:Z81) -> 0
A82: 6.일반학교운영 | E82: =SUM(F82:Z82) -> 0
B83: 1.시설장비유지 | E83: =SUM(F83:Z83) -> 0
C84: 1.학교시설장비유지 | E84: =SUM(F84:Z84) -> 0
D85: 1. 전기요금 | E85: =SUM(F85:Z85) -> 216940 | F85: 전기료 | G85: 216940
D86: 2. 상하수도료 | E86: =SUM(F86:Z86) -> 121900 | F86: 상하수도료 | G86: 121900
D87: 3. 일반수용비 | E87: =SUM(F87:Z87) -> 147360 | F87: 신관본관세제 | G87: 33700 | H87: 쓰레기봉투 | I87: 21000 | J87: 주방용 도구 | K87: 20830 | L87: 수세미 | M87: 19700 | N87: 휴지 | O87: 23300 | P87: 방수제 | Q87: 28830
D88: 4. 기타공공요금 | E88: =SUM(F88:Z88) -> 146489 | F88: 인터넷사용료 | G88: 27920 | H88: 28860 | I88: 33000 | J88: 행정폰이용료 | K88: 33000 | L88: 국세-사업소득세 | M88: 18000 | N88: 지방세 | O88: 1800 | P88: 송금수수료 | Q88: 2000 | R88: 대안교육연대연회비 | T88: 평화나무농장 회비 | V88: 양대련회비 | W88: 카드 수수료 | X88: 716 | Y88: 1193
D89: 5.시설관리용역비 | E89: =SUM(F89:Z89) -> 0
D90: 6. 수용비 | E90: =SUM(F90:Z90) -> 0 | F90: 월세
C91: 2.연료비 | E91: =SUM(F91:Z91) -> 0 | F91: 난방유
C92: 3.시설일반관리 | E92: =SUM(F92:Z92) -> 0
D93: 1.수용비 | E93: =SUM(F93:Z93) -> 0
D94: 2.시설비 | E94: =SUM(F94:Z94) -> 0
D95: 3.장비취득비 | E95: =SUM(F95:Z95) -> 0
B96: 2.학교운영협력비 | E96: =SUM(F96:Z96) -> 0
C97: 1.학교운영위원회운영 | E97: =SUM(F97:Z97) -> 0
D98: 1.일반업무추진비 | E98: =SUM(F98:Z98) -> 0
C99: 2.학부모협력 | E99: =SUM(F99:Z99) -> 0
D100: 1.신편입학부모교육 | E100: =SUM(F100:Z100) -> 0
C101: 3.교육위원회 | E101: =SUM(F101:Z101) -> 0
D102: 1.업무추진비 | E102: =SUM(F102:Z102) -> 0
...

Sheet 9월
B2: 2025학년도 9월 세출명세서
A4: 과목 | F4: 내역
A5: 장 | B5: 관 | C5: 항 | D5: 목 | E5: 계
A6: 1. 인적자원운용비 | E6: =SUM(F6:Z6) -> 0
B7: 1. 교직원보수 | E7: =SUM(F7:Z7) -> 0
C8: 1. 교원보수 | E8: =SUM(F8:Z8) -> 0
D9: 1.기본급 | E9: =SUM(F9:AA9) -> 16850000 | F9: 상급박규현 | G9: 2550000 | H9: 상급김훈희 | I9: 2250000 | J9: 이영해 | K9: 2450000 | L9: 조수연 | M9: 2350000 | N9: 정효진 | O9: 2300000 | P9: 위윤이 | Q9: 2250000 | R9: 김미정 | S9: 2200000 | T9: 상급지도이성웅 | V9: 500000
D10: 2.기간제교원인건비 | E10: =SUM(F10:AY10) -> 10498000 | F10: 농사/텃밭관리서규섭 | G10: 400000 | H10: 농사서규섭 | I10: 99000 | J10: 체육사회이성웅 | K10: 990000 | L10: 도움수업이미순 | M10: 858000 | N10: 목공김철희 | O10: 660000 | P10: 음악정유희 | Q10: 660000 | R10: 영어이슬아 | S10: 759000 | T10: 영어이정연 | U10: 132000 | V10: 체육이형남 | W10: 924000 | X10: 수공예김복순 | Y10: 660000 | Z10: 수공예최은영 | AA10: 858000 | AB10: 요리박도희 | AC10: 165000 | AD10: 음악최지원 | AE10: 660000 | AF10: 프로젝트김학철 | AG10: 330000 | AH10: 퍼머컬쳐임경수 | AI10: 66000 | AJ10: 상급수학하경희 | AK10: 429000 | AL10: 미술심미용 | AM10: 330000 | AN10: 한국무용정혜원 | AO10: 165000 | AP10: 정가박세은 | AQ10: 165000 | AR10: 영어한종인 | AS10: 660000 | AT10: 김영백가죽공예 | AU10: 396000 | AV10: 이종진상급퍼머컬쳐 | AW10: 66000 | AX10: 김성규 상급퍼머컹ㄹ쳐 | AY10: 66000
C11: 2.교원제수당 | E11: =SUM(F11:Z11) -> 0
D12: 1.정액급식비 | E12: =SUM(F12:Z12) -> 1638000 | F12: 교사급식비 8월분 | G12: 300000 | H12: 9월분 | I12: 1338000
D13: 2.정근수당 | E13: =SUM(F13:Z13) -> 0
D14: 3.직급수당 | E14: =SUM(F14:Z14) -> 800000 | F14: 박규현 교장직급수당 | H14: 500000 | I14: 이영해 대표교사직급수당 | K14: 300000
D15: 4.상여금 | E15: =SUM(F15:Z15) -> 0
C16: 3. 직원보수 | E16: =SUM(F16:Z16) -> 0
D17: 1.기본급 | E17: =SUM(F17:Z17) -> 2550000 | F17: 살림김진숙 | G17: 2550000
D18: 2.기간제직원인건비 | E18: =SUM(F18:Z18) -> 1250000 | F18: 행정박미영 | G18: 1000000 | H18: 타미생활지원금 | I18: 250000
C19: 4.직원제수당 | E19: =SUM(F19:Z19) -> 0
D20: 1.정액급식비 | E20: =SUM(F20:Z20) -> 324000 | F20: 교직원2명 김진숙 타미 8월 | H20: 60000 | I20: 9월분 | J20: 264000
D21: 2.상여금 | E21: =SUM(F21:Z21) -> 0
B22: 2.교직원 복지 및 역량 강화 | E22: =SUM(F22:Z22) -> 0
C23: 1.기관부담보험료 | E23: =SUM(F23:Z23) -> 0
D24: 1.연금및보험료 | E24: =SUM(F24:Z24) -> 1404670 | F24: 전임 사회보험료 | G24: 1404670
C25: 2.연수비 | E25: =SUM(F25:Z25) -> 0
D26: 1.자율연수 | E26: =SUM(F26:Z26) -> 70000 | F26: 자율연수 | G26: 70000
D27: 2.교사회멘토링 | E27: =SUM(F27:Z27) -> 0
C28: 3.업무추진비 | E28: =SUM(F28:Z28) -> 0
C29: 4.도서비 | E29: =SUM(F29:Z29) -> 0
C30: 5.교직원행사비 | E30: =SUM(F30:Z30) -> 0
C31: 6.포상비 | E31: =SUM(F31:Z31) -> 0
C32: 7.맞춤형복지비 | E32: =SUM(F32:Z32) -> 0
C33: 8.직급보조비 | E33: =SUM(F33:Z33) -> 0
C34: 9.성과상여금 | E34: =SUM(F34:Z34) -> 0
A35: 2.학생복지/교육격차해소 | E35: =SUM(F35:Z35) -> 0
B36: 1. 급식관리비 | E36: =SUM(F36:Z36) -> 0
C37: 1. 수용비 | E37: =SUM(F37:Z37) -> 0 | F37: 과일 잡곡 등
C38: 2. 기타식자재구입비 | E38: =SUM(F38:Z38) -> 0
C39: 3. 위탁급식비 | E39: =SUM(F39:Z39) -> 8382840 | F39: 부모부담분 | G39: 2132000 | H39: 급식지원금 지출 8월분 | J39: 964120 | K39: 9월분 | L39: 5286720
B40: 2. 보건관리비 | E40: =SUM(F40:Z40) -> 0
C41: 1.학생과 교직원보건안전 | E41: =SUM(F41:Z41) -> 0
D42: 1.의료비 | E42: =SUM(F42:Z42) -> 0
D43: 2.보건실운영 | E43: =SUM(F43:Z43) -> 0
D44: 3.학교안전공제회비 | E44: =SUM(F44:Z44) -> 0
C45: 2.학교위생관리 | E45: =SUM(F45:Z45) -> 0
D46: 1.식수운영 | E46: =SUM(F46:Z46) -> 0 | F46: 정수필터
D47: 2.수용비 | E47: =SUM(F47:Z47) -> 0 | F47: 휴지
D48: 3.방역비 | E48: =SUM(F48:Z48) -> 0
A49: 3.기본적교육활동비 | E49: =SUM(F49:Z49) -> 0
B50: 1.교과활동지원 | E50: =SUM(F50:Z50) -> 0
C51: 1.담임교사교육운영비 | E51: =SUM(F51:Z51) -> 161680 | F51: 귀돌이착불 | G51: 10000 | H51: 귀돌이작업비 | I51: 30000 | J51: 4학년 수업재료 | K51: 46080 | L51: 과학수업준비물 | M51: 18500 | N51: 전통매듭재료 | O51: 57100
C52: 2.교사용지도서 | E52: =SUM(F52:Z52) -> 0
B53: 2.외국어교과활동 | E53: =SUM(F53:Z53) -> 0
B54: 3.수공예교과활동 | E54: =SUM(F54:Z54) -> 0
B55: 4.음악교과활동 | E55: =SUM(F55:Z55) -> 0
B56: 5.미술교과활동 | E56: =SUM(F56:Z56) -> 68480 | F56: 미술재료 | G56: 68480
B57: 6.목공예교과활동 | E57: =SUM(F57:Z57) -> 27620 | F57: 목공용나사 | G57: 27620
B58: 7.체육교과활동 | E58: =SUM(F58:Z58) -> 0
B59: 8 기타교과활동 | E59: =SUM(F59:Z59) -> 25000 | F59: 신문구독 | G59: 25000
B60: 9.창의체험활동 | E60: =SUM(F60:Z60) -> 0
C61: 1. 축제및행사 | E61: =SUM(F61:Z61) -> 26340 | F61: 행사용필기구와종이 | G61: 2500 | H61: 8000 | I61: 한글날제수용과일 | J61: 7900 | K61: 추석행사보자기 | L61: 7940
C62: 2. 캠프 | E62: =SUM(F62:Z62) -> 80000 | F62: 여름캠프차량교통범칙금 | G62: 80000
A63: 4.선택적교육활동 | E63: =SUM(F63:Z63) -> 0
B64: 1.방과후 학교 | E64: =SUM(F64:Z64) -> 0
C65: 1.방과후학교 | E65: =SUM(F65:Z65) -> 0
D66: 1.강사인건비 | E66: =SUM(F66:Z66) -> 0 | F66: 합창수업료 | G66: 10월에 지급예정
D67: 2.간식비 | E67: =SUM(F67:Z67) -> 249000 | F67: 간식비 | G67: 249000
D68: 3.교육운영비 | E68: =SUM(F68:Z68) -> 0 | F68: 수업재료
B69: 2.독서활동 | E69: =SUM(F69:Z69) -> 0
C70: 1. 독서활동운영 | E70: =SUM(F70:Z70) -> 0
D71: 1.도서구입 | E71: =SUM(F71:Z71) -> 0
A72: 5.교육활동지원 | E72: =SUM(F72:Z72) -> 0
B73: 1.교무업무운영 | E73: =SUM(F73:Z73) -> 0
C74: 1.교무학사운영 | E74: =SUM(F74:Z74) -> 0
D75: 1.수용비 | E75: =SUM(F75:Z75) -> 137920 | F75: 복사지 | G75: 39720 | H75: 38800 | I75: 교무실비품 | J75: 51400 | K75: 8절도화지 | L75: 8000
C76: 2.입학식,졸업식 | E76: =SUM(F76:Z76) -> 0
C77: 3.신입생홍보운영 | E77: =SUM(F77:Z77) -> 0
C78: 4.입학설명회운영 | E78: =SUM(F78:Z78) -> 25000 | F78: 입학설명회 간식 | G78: 25000
B79: 2.교육환경개선 | E79: =SUM(F79:Z79) -> 0
C80: 1.교실비품 | E80: =SUM(F80:Z80) -> 172940 | F80: 신관청소도구함 | G80: 16580 | H80: 신관청소비품 | I80: 53900 | J80: 칠판지우개 | K80: 25270 | L80: 신관tv받침대 | M80: 51920 | N80: 칠판지우개 | O80: 25270
C81: 2.책걸상구입 | E81: =SUM(F81:Z81) -> 0
A82: 6.일반학교운영 | E82: =SUM(F82:Z82) -> 0
B83: 1.시설장비유지 | E83: =SUM(F83:Z83) -> 0
C84: 1.학교시설장비유지 | E84: =SUM(F84:Z84) -> 0
D85: 1. 전기요금 | E85: =SUM(F85:Z85) -> 262130 | F85: 전기료 | G85: 262130
D86: 2. 상하수도료 | E86: =SUM(F86:Z86) -> 72100 | F86: 상하수도료 | G86: 72100
D87: 3. 일반수용비 | E87: =SUM(F87:Z87) -> 41630 | F87: 휴지 등 | G87: 31100 | H87: 욕실부착형벽걸이 | I87: 10530 | K87: 추후 확인 요함
D88: 4. 기타공공요금 | E88: =SUM(F88:Z88) -> 335540 | F88: 통신료 | G88: 33000 | H88: 33010 | I88: 31950 | J88: 28860 | K88: 국세 | L88: 85200 | M88: 지방세 | N88: 8520 | O88: 학교클라우드이용료 | P88: 55000 | Q88: 온살림터주민세 | R88: 55000 | S88: 송금수수료 | T88: 5000
D89: 5.시설관리용역비 | E89: =SUM(F89:Z89) -> 0
D90: 6. 수용비 | E90: =SUM(F90:Z90) -> 1770000 | F90: 월세 | G90: 1770000
C91: 2.연료비 | E91: =SUM(F91:Z91) -> 0 | F91: 난방유
C92: 3.시설일반관리 | E92: =SUM(F92:Z92) -> 0
D93: 1.수용비 | E93: =SUM(F93:Z93) -> 0
D94: 2.시설비 | E94: =SUM(F94:Z94) -> 0
D95: 3.장비취득비 | E95: =SUM(F95:Z95) -> 0
B96: 2.학교운영협력비 | E96: =SUM(F96:Z96) -> 0
C97: 1.학교운영위원회운영 | E97: =SUM(F97:Z97) -> 0
D98: 1.일반업무추진비 | E98: =SUM(F98:Z98) -> 100000 | F98: 기후영화제추진기부 | G98: 100000
C99: 2.학부모협력 | E99: =SUM(F99:Z99) -> 0
D100: 1.신편입학부모교육 | E100: =SUM(F100:Z100) -> 0
C101: 3.교육위원회 | E101: =SUM(F101:Z101) -> 0
D102: 1.업무추진비 | E102: =SUM(F102:Z102) -> 0
...

Sheet 10월
B2: 2025학년도 10월 세출명세서
A4: 과목 | F4: 내역
A5: 장 | B5: 관 | C5: 항 | D5: 목 | E5: 계
A6: 1. 인적자원운용비 | E6: =SUM(F6:Z6) -> 0
B7: 1. 교직원보수 | E7: =SUM(F7:Z7) -> 0
C8: 1. 교원보수 | E8: =SUM(F8:Z8) -> 0
D9: 1.기본급 | E9: =SUM(F9:AA9) -> 16850000 | F9: 상급박규현 | G9: 2550000 | H9: 상급김훈희 | I9: 2250000 | J9: 이영해 | K9: 2450000 | L9: 조수연 | M9: 2350000 | N9: 정효진 | O9: 2300000 | P9: 위윤이 | Q9: 2250000 | R9: 김미정 | S9: 2200000 | T9: 상급지도이성웅 | V9: 500000
D10: 2.기간제교원인건비 | E10: =SUM(F10:AY10) -> 8256160 | F10: 농사/텃밭관리서규섭 | G10: 466000 | H10: 사람책노국환 | I10: 66000 | J10: 사람책이병은 | K10: 66000 | L10: 사람책변영미 | M10: 66000 | N10: 사람책정운상 | O10: 66000 | P10: 영어 이슬아 | Q10: 561000 | R10: 체육이형남 | S10: 528000 | T10: 수공예김복순 | U10: 264000 | V10: 수공예최은영 | W10: 594000 | X10: 요리박도희 | Y10: 66000 | Z10: 음악최지원 | AA10: 594000 | AB10: 프로젝트김학철 | AC10: 198000 | AD10: 퍼머컬쳐임경수 | AE10: 132000 | AF10: 상급수학하경희 | AG10: 363000 | AH10: 미술심미용 | AI10: 462000 | AJ10: 한국무용정혜원 | AK10: 99000 | AL10: 정가박세은 | AM10: 99000 | AN10: 영어한종인 | AO10: 495000 | AP10: 사회체육이성웅 | AQ10: 660000 | AR10: 도움수업이미순 | AS10: 792000 | AT10: 목공김철희 | AU10: 561000 | AV10: 음악정유희 | AW10: 594000 | AX10: 미술양호빈 | AY10: 464160
C11: 2.교원제수당 | E11: =SUM(F11:Z11) -> 0
D12: 1.정액급식비 | E12: =SUM(F12:Z12) -> 1020000 | F12: 교사급식비 | G12: 1020000
D13: 2.정근수당 | E13: =SUM(F13:Z13) -> 0
D14: 3.직급수당 | E14: =SUM(F14:Z14) -> 800000 | F14: 박규현 교장직급수당 | H14: 500000 | I14: 이영해 대표교사직급수당 | K14: 300000
D15: 4.상여금 | E15: =SUM(F15:Z15) -> 1600000 | F15: 전임8명 추석상여금 | G15: 1600000
C16: 3. 직원보수 | E16: =SUM(F16:Z16) -> 0
D17: 1.기본급 | E17: =SUM(F17:Z17) -> 2550000 | F17: 살림김진숙 | G17: 2550000
D18: 2.기간제직원인건비 | E18: =SUM(F18:Z18) -> 1250000 | F18: 행정박미영 | G18: 1000000 | H18: 타마라생활지원금 | I18: 250000
C19: 4.직원제수당 | E19: =SUM(F19:Z19) -> 0
D20: 1.정액급식비 | E20: =SUM(F20:Z20) -> 204000 | F20: 교직원2명 김진숙 카리나 | H20: 204000
D21: 2.상여금 | E21: =SUM(F21:Z21) -> 200000 | F21: 추석상여 | G21: 200000
B22: 2.교직원 복지 및 역량 강화 | E22: =SUM(F22:Z22) -> 0
C23: 1.기관부담보험료 | E23: =SUM(F23:Z23) -> 0
D24: 1.연금및보험료 | E24: =SUM(F24:Z24) -> 1900180 | F24: 전임 사회보험료 | G24: 1900180
C25: 2.연수비 | E25: =SUM(F25:Z25) -> 0
D26: 1.자율연수 | E26: =SUM(F26:Z26) -> 0 | F26: 자율연수
D27: 2.교사회멘토링 | E27: =SUM(F27:Z27) -> 0
C28: 3.업무추진비 | E28: =SUM(F28:Z28) -> 0
C29: 4.도서비 | E29: =SUM(F29:Z29) -> 0
C30: 5.교직원행사비 | E30: =SUM(F30:Z30) -> 0
C31: 6.포상비 | E31: =SUM(F31:Z31) -> 0
C32: 7.맞춤형복지비 | E32: =SUM(F32:Z32) -> 0
C33: 8.직급보조비 | E33: =SUM(F33:Z33) -> 0
C34: 9.성과상여금 | E34: =SUM(F34:Z34) -> 0
A35: 2.학생복지/교육격차해소 | E35: =SUM(F35:Z35) -> 0
B36: 1. 급식관리비 | E36: =SUM(F36:Z36) -> 0
C37: 1. 수용비 | E37: =SUM(F37:Z37) -> 60700 | F37: 과일 잡곡 등 | G37: 60700
C38: 2. 기타식자재구입비 | E38: =SUM(F38:Z38) -> 0
C39: 3. 위탁급식비 | E39: =SUM(F39:Z39) -> 2668880 | F39: 부모부담분 | G39: 1364000 | H39: 9월 급식지원금 지출 | I39: 1304880
B40: 2. 보건관리비 | E40: =SUM(F40:Z40) -> 0
C41: 1.학생과 교직원보건안전 | E41: =SUM(F41:Z41) -> 0
D42: 1.의료비 | E42: =SUM(F42:Z42) -> 0
D43: 2.보건실운영 | E43: =SUM(F43:Z43) -> 0
D44: 3.학교안전공제회비 | E44: =SUM(F44:Z44) -> 0
C45: 2.학교위생관리 | E45: =SUM(F45:Z45) -> 0
D46: 1.식수운영 | E46: =SUM(F46:Z46) -> 0 | F46: 정수필터
D47: 2.수용비 | E47: =SUM(F47:Z47) -> 0 | F47: 휴지
D48: 3.방역비 | E48: =SUM(F48:Z48) -> 0
A49: 3.기본적교육활동비 | E49: =SUM(F49:Z49) -> 0
B50: 1.교과활동지원 | E50: =SUM(F50:Z50) -> 0
C51: 1.담임교사교육운영비 | E51: =SUM(F51:Z51) -> 0
C52: 2.교사용지도서 | E52: =SUM(F52:Z52) -> 0
B53: 2.외국어교과활동 | E53: =SUM(F53:Z53) -> 0
B54: 3.수공예교과활동 | E54: =SUM(F54:Z54) -> 0
B55: 4.음악교과활동 | E55: =SUM(F55:Z55) -> 0
B56: 5.미술교과활동 | E56: =SUM(F56:Z56) -> 0
B57: 6.목공예교과활동 | E57: =SUM(F57:Z57) -> 0
B58: 7.체육교과활동 | E58: =SUM(F58:Z58) -> 0
B59: 8 기타교과활동 | E59: =SUM(F59:Z59) -> 0
B60: 9.창의체험활동 | E60: =SUM(F60:Z60) -> 0
C61: 1. 축제및행사 | E61: =SUM(F61:Z61) -> 41140 | F61: 송편준비물 | G61: 22900 | H61: 18240
C62: 2. 캠프 | E62: =SUM(F62:Z62) -> 0
A63: 4.선택적교육활동 | E63: =SUM(F63:Z63) -> 0
B64: 1.방과후 학교 | E64: =SUM(F64:Z64) -> 0
C65: 1.방과후학교 | E65: =SUM(F65:Z65) -> 0
D66: 1.강사인건비 | E66: =SUM(F66:Z66) -> 528000 | F66: 9,10월 합창수업료 | G66: 528000
D67: 2.간식비 | E67: =SUM(F67:Z67) -> 214000 | F67: 간식비 | G67: 214000
D68: 3.교육운영비 | E68: =SUM(F68:Z68) -> 26280 | F68: 수업재료 | G68: 14300 | H68: 11980
B69: 2.독서활동 | E69: =SUM(F69:Z69) -> 0
C70: 1. 독서활동운영 | E70: =SUM(F70:Z70) -> 0
D71: 1.도서구입 | E71: =SUM(F71:Z71) -> 0
A72: 5.교육활동지원 | E72: =SUM(F72:Z72) -> 0
B73: 1.교무업무운영 | E73: =SUM(F73:Z73) -> 0
C74: 1.교무학사운영 | E74: =SUM(F74:Z74) -> 0
D75: 1.수용비 | E75: =SUM(F75:Z75) -> 0
C76: 2.입학식,졸업식 | E76: =SUM(F76:Z76) -> 0
C77: 3.신입생홍보운영 | E77: =SUM(F77:Z77) -> 0
C78: 4.입학설명회운영 | E78: =SUM(F78:Z78) -> 0
B79: 2.교육환경개선 | E79: =SUM(F79:Z79) -> 0
C80: 1.교실비품 | E80: =SUM(F80:Z80) -> 0
C81: 2.책걸상구입 | E81: =SUM(F81:Z81) -> 0
A82: 6.일반학교운영 | E82: =SUM(F82:Z82) -> 0
B83: 1.시설장비유지 | E83: =SUM(F83:Z83) -> 0
C84: 1.학교시설장비유지 | E84: =SUM(F84:Z84) -> 0
D85: 1. 전기요금 | E85: =SUM(F85:Z85) -> 0 | F85: 전기료
D86: 2. 상하수도료 | E86: =SUM(F86:Z86) -> 0 | F86: 상하수도료
D87: 3. 일반수용비 | E87: =SUM(F87:Z87) -> 56930 | F87: 주방비누 | G87: 17900 | H87: 세수비누 | I87: 11100 | J87: 신관변기악취제거 | K87: 13950 | L87: 휴지 | M87: 13980
D88: 4. 기타공공요금 | E88: =SUM(F88:Z88) -> 231490 | F88: 통신료 | G88: 33000 | H88: 28860 | I88: 45190 | J88: 33000 | K88: 국세 | L88: 80400 | M88: 지방세 | N88: 8040 | O88: 평화나무농장연회비 | Q88: 양대련상반기회비 | S88: 대안교육연대연회비 | U88: 송금수수료 | V88: 3000
D89: 5.시설관리용역비 | E89: =SUM(F89:Z89) -> 0
D90: 6. 수용비 | E90: =SUM(F90:Z90) -> 0 | F90: 월세
C91: 2.연료비 | E91: =SUM(F91:Z91) -> 591300 | F91: 난방유 | G91: 591300
C92: 3.시설일반관리 | E92: =SUM(F92:Z92) -> 0
D93: 1.수용비 | E93: =SUM(F93:Z93) -> 0
D94: 2.시설비 | E94: =SUM(F94:Z94) -> 0
D95: 3.장비취득비 | E95: =SUM(F95:Z95) -> 0
B96: 2.학교운영협력비 | E96: =SUM(F96:Z96) -> 0
C97: 1.학교운영위원회운영 | E97: =SUM(F97:Z97) -> 0
D98: 1.일반업무추진비 | E98: =SUM(F98:Z98) -> 0
C99: 2.학부모협력 | E99: =SUM(F99:Z99) -> 0
D100: 1.신편입학부모교육 | E100: =SUM(F100:Z100) -> 0
C101: 3.교육위원회 | E101: =SUM(F101:Z101) -> 0
D102: 1.업무추진비 | E102: =SUM(F102:Z102) -> 0
...

Sheet 11월
B2: 2025학년도 11월 세출명세서
A4: 과목 | F4: 내역
A5: 장 | B5: 관 | C5: 항 | D5: 목 | E5: 계
A6: 1. 인적자원운용비 | E6: =SUM(F6:Z6) -> 0
B7: 1. 교직원보수 | E7: =SUM(F7:Z7) -> 0
C8: 1. 교원보수 | E8: =SUM(F8:Z8) -> 0
D9: 1.기본급 | E9: =SUM(F9:AA9) -> 16850000 | F9: 상급박규현 | G9: 2550000 | H9: 상급김훈희 | I9: 2250000 | J9: 이영해 | K9: 2450000 | L9: 조수연 | M9: 2350000 | N9: 정효진 | O9: 2300000 | P9: 위윤이 | Q9: 2250000 | R9: 김미정 | S9: 2200000 | T9: 상급지도이성웅 | V9: 500000
D10: 2.기간제교원인건비 | E10: =SUM(F10:BA10) -> 10838320 | F10: 농사/텃밭관리서규섭 | G10: 266000 | H10: 영어이슬아 | I10: 660000 | J10: 도움수업이미순 | K10: 858000 | L10: 사회/체육이성웅 | M10: 759000 | N10: 체육이형남 | O10: 800000 | P10: 수공예김복순 | Q10: 594000 | R10: 수공예최은영 | S10: 660000 | T10: 요리박도희 | U10: 132000 | V10: 음악정유희 | W10: 792000 | X10: 음악최지원 | Y10: 627000 | Z10: 목공김철희 | AA10: 561000 | AB10: 프로젝트김학철 | AC10: 264000 | AD10: 퍼머컬쳐임경수 | AE10: 66000 | AF10: 수학하경희 | AG10: 396000 | AH10: 미술심미용 | AI10: 726000 | AJ10: 무용정혜원 | AK10: 99000 | AL10: 정가박세은 | AM10: 132000 | AN10: 영어한종인 | AO10: 528000 | AP10: 퍼머컬쳐박대령 | AQ10: 66000 | AR10: 퍼머컬쳐정민규 | AS10: 132000 | AT10: 장인수업김영백 | AU10: 66000 | AV10: 장인수업김복순 | AW10: 132000 | AX10: 영어박다정 | AY10: 594000 | AZ10: 미술양호빈 | BA10: 928320
C11: 2.교원제수당 | E11: =SUM(F11:Z11) -> 0
D12: 1.정액급식비 | E12: =SUM(F12:Z12) -> 1200000 | F12: 교사급식비 | G12: 1200000
D13: 2.정근수당 | E13: =SUM(F13:Z13) -> 0
D14: 3.직급수당 | E14: =SUM(F14:Z14) -> 800000 | F14: 박규현 교장직급수당 | H14: 500000 | I14: 이영해 대표교사직급수당 | K14: 300000
D15: 4.상여금 | E15: =SUM(F15:Z15) -> 0
C16: 3. 직원보수 | E16: =SUM(F16:Z16) -> 0
D17: 1.기본급 | E17: =SUM(F17:Z17) -> 2550000 | F17: 살림김진숙 | G17: 2550000
D18: 2.기간제직원인건비 | E18: =SUM(F18:Z18) -> 1250000 | F18: 행정박미영 | G18: 1000000 | H18: 타마라생활지원금 | I18: 250000
C19: 4.직원제수당 | E19: =SUM(F19:Z19) -> 0
D20: 1.정액급식비 | E20: =SUM(F20:Z20) -> 240000 | F20: 교직원2명 김진숙 카리나 | H20: 240000
D21: 2.상여금 | E21: =SUM(F21:Z21) -> 0
B22: 2.교직원 복지 및 역량 강화 | E22: =SUM(F22:Z22) -> 0
C23: 1.기관부담보험료 | E23: =SUM(F23:Z23) -> 0
D24: 1.연금및보험료 | E24: =SUM(F24:Z24) -> 1404670 | F24: 전임 사회보험료 | G24: 1404670
C25: 2.연수비 | E25: =SUM(F25:Z25) -> 0
D26: 1.자율연수 | E26: =SUM(F26:Z26) -> 0 | F26: 자율연수
D27: 2.교사회멘토링 | E27: =SUM(F27:Z27) -> 0
C28: 3.업무추진비 | E28: =SUM(F28:Z28) -> 0
C29: 4.도서비 | E29: =SUM(F29:Z29) -> 0
C30: 5.교직원행사비 | E30: =SUM(F30:Z30) -> 0
C31: 6.포상비 | E31: =SUM(F31:Z31) -> 0
C32: 7.맞춤형복지비 | E32: =SUM(F32:Z32) -> 0
C33: 8.직급보조비 | E33: =SUM(F33:Z33) -> 0
C34: 9.성과상여금 | E34: =SUM(F34:Z34) -> 0
A35: 2.학생복지/교육격차해소 | E35: =SUM(F35:Z35) -> 0
B36: 1. 급식관리비 | E36: =SUM(F36:Z36) -> 0
C37: 1. 수용비 | E37: =SUM(F37:Z37) -> 119000 | F37: 과일 잡곡 등 | G37: 119000
C38: 2. 기타식자재구입비 | E38: =SUM(F38:Z38) -> 0
C39: 3. 위탁급식비 | E39: =SUM(F39:Z39) -> 6601450 | F39: 부모부담분 | G39: 1550000 | H39: 급식지원금 지출 10월분 | J39: 4487550 | K39: 11월분 일부 | L39: 563900
B40: 2. 보건관리비 | E40: =SUM(F40:Z40) -> 0
C41: 1.학생과 교직원보건안전 | E41: =SUM(F41:Z41) -> 0
D42: 1.의료비 | E42: =SUM(F42:Z42) -> 0
D43: 2.보건실운영 | E43: =SUM(F43:Z43) -> 39500 | F43: 독감레머디외 | G43: 39500
D44: 3.학교안전공제회비 | E44: =SUM(F44:Z44) -> 0
C45: 2.학교위생관리 | E45: =SUM(F45:Z45) -> 0
D46: 1.식수운영 | E46: =SUM(F46:Z46) -> 0 | F46: 정수필터
D47: 2.수용비 | E47: =SUM(F47:Z47) -> 0 | F47: 휴지
D48: 3.방역비 | E48: =SUM(F48:Z48) -> 0
A49: 3.기본적교육활동비 | E49: =SUM(F49:Z49) -> 0
B50: 1.교과활동지원 | E50: =SUM(F50:Z50) -> 0
C51: 1.담임교사교육운영비 | E51: =SUM(F51:Z51) -> 3500 | F51: 스펀지배송비 | G51: 3500
C52: 2.교사용지도서 | E52: =SUM(F52:Z52) -> 0
B53: 2.외국어교과활동 | E53: =SUM(F53:Z53) -> 100600 | F53: 과학클라드니판 | G53: 59000 | H53: 복사지 | I53: 41600
B54: 3.수공예교과활동 | E54: =SUM(F54:Z54) -> 0
B55: 4.음악교과활동 | E55: =SUM(F55:Z55) -> 0
B56: 5.미술교과활동 | E56: =SUM(F56:Z56) -> 0
B57: 6.목공예교과활동 | E57: =SUM(F57:Z57) -> 0
B58: 7.체육교과활동 | E58: =SUM(F58:Z58) -> 63600 | F58: 체육교구 | G58: 63600
B59: 8 기타교과활동 | E59: =SUM(F59:Z59) -> 0
B60: 9.창의체험활동 | E60: =SUM(F60:Z60) -> 0
C61: 1. 축제및행사 | E61: =SUM(F61:Z61) -> 215240 | F61: 신관암막천 | G61: 165240 | H61: 운동회달걀간식 | I61: 50000
C62: 2. 캠프 | E62: =SUM(F62:Z62) -> 0
A63: 4.선택적교육활동 | E63: =SUM(F63:Z63) -> 0
B64: 1.방과후 학교 | E64: =SUM(F64:Z64) -> 0
C65: 1.방과후학교 | E65: =SUM(F65:Z65) -> 0
D66: 1.강사인건비 | E66: =SUM(F66:Z66) -> 132000 | F66: 합창수업료 | G66: 132000
D67: 2.간식비 | E67: =SUM(F67:Z67) -> 212000 | F67: 간식비 | G67: 212000
D68: 3.교육운영비 | E68: =SUM(F68:Z68) -> 24850 | F68: 수업재료 | G68: 14850 | H68: 10000
B69: 2.독서활동 | E69: =SUM(F69:Z69) -> 0
C70: 1. 독서활동운영 | E70: =SUM(F70:Z70) -> 0
D71: 1.도서구입 | E71: =SUM(F71:Z71) -> 0
A72: 5.교육활동지원 | E72: =SUM(F72:Z72) -> 0
B73: 1.교무업무운영 | E73: =SUM(F73:Z73) -> 0
C74: 1.교무학사운영 | E74: =SUM(F74:Z74) -> 0
D75: 1.수용비 | E75: =SUM(F75:Z75) -> 0
C76: 2.입학식,졸업식 | E76: =SUM(F76:Z76) -> 0
C77: 3.신입생홍보운영 | E77: =SUM(F77:Z77) -> 0
C78: 4.입학설명회운영 | E78: =SUM(F78:Z78) -> 0
B79: 2.교육환경개선 | E79: =SUM(F79:Z79) -> 0
C80: 1.교실비품 | E80: =SUM(F80:Z80) -> 0
C81: 2.책걸상구입 | E81: =SUM(F81:Z81) -> 0
A82: 6.일반학교운영 | E82: =SUM(F82:Z82) -> 0
B83: 1.시설장비유지 | E83: =SUM(F83:Z83) -> 0
C84: 1.학교시설장비유지 | E84: =SUM(F84:Z84) -> 0
D85: 1. 전기요금 | E85: =SUM(F85:Z85) -> 409740 | F85: 전기료 | G85: 397620 | H85: 신관전기 | I85: 12120
D86: 2. 상하수도료 | E86: =SUM(F86:Z86) -> 222250 | F86: 상하수도료 전월 | G86: 106960 | H86: 이달분 | I86: 115290
D87: 3. 일반수용비 | E87: =SUM(F87:Z87) -> 6900 | F87: 현관문자동닫힘도구 | G87: 6900
D88: 4. 기타공공요금 | E88: =SUM(F88:Z88) -> 292800 | F88: 통신료 | G88: 33000 | H88: 28860 | I88: 37790 | J88: 33000 | K88: 국세 | L88: 90000 | M88: 지방세 | N88: 9000 | O88: 온살림터주민세 | P88: 56650 | Q88: 송금수수료 | R88: 4500
D89: 5.시설관리용역비 | E89: =SUM(F89:Z89) -> 0
D90: 6. 수용비 | E90: =SUM(F90:Z90) -> 3540000 | F90: 월세 | G90: 1770000 | H90: 6월미납분 월세 | I90: 1770000
C91: 2.연료비 | E91: =SUM(F91:Z91) -> 679680 | F91: 난방유 | G91: 679680
C92: 3.시설일반관리 | E92: =SUM(F92:Z92) -> 0
D93: 1.수용비 | E93: =SUM(F93:Z93) -> 0
D94: 2.시설비 | E94: =SUM(F94:Z94) -> 0
D95: 3.장비취득비 | E95: =SUM(F95:Z95) -> 0
B96: 2.학교운영협력비 | E96: =SUM(F96:Z96) -> 0
C97: 1.학교운영위원회운영 | E97: =SUM(F97:Z97) -> 0
D98: 1.일반업무추진비 | E98: =SUM(F98:Z98) -> 0
C99: 2.학부모협력 | E99: =SUM(F99:Z99) -> 0
D100: 1.신편입학부모교육 | E100: =SUM(F100:Z100) -> 0
C101: 3.교육위원회 | E101: =SUM(F101:Z101) -> 0
D102: 1.업무추진비 | E102: =SUM(F102:Z102) -> 0
...

Sheet 12월
B2: 2025학년도 12월 세출명세서
A4: 과목 | F4: 내역
A5: 장 | B5: 관 | C5: 항 | D5: 목 | E5: 계
A6: 1. 인적자원운용비 | E6: =SUM(F6:Z6) -> 0
B7: 1. 교직원보수 | E7: =SUM(F7:Z7) -> 0
C8: 1. 교원보수 | E8: =SUM(F8:Z8) -> 0
D9: 1.기본급 | E9: =SUM(F9:AA9) -> 16850000 | F9: 상급박규현 | G9: 2550000 | H9: 상급김훈희 | I9: 2250000 | J9: 이영해 | K9: 2450000 | L9: 조수연 | M9: 2350000 | N9: 정효진 | O9: 2300000 | P9: 위윤이 | Q9: 2250000 | R9: 김미정 | S9: 2200000 | T9: 상급지도이성웅 | V9: 500000
D10: 2.기간제교원인건비 | E10: =SUM(F10:AS10) -> 11255000 | F10: 농사/텃밭관리서규섭 | G10: 266000 | H10: 사회체육이성웅 | I10: 792000 | J10: 영어이슬아 | K10: 792000 | L10: 도움수업이미순 | M10: 957000 | N10: 영어박다정 | O10: 858000 | P10: 체육이형남 | Q10: 792000 | R10: 수공예김복순 | S10: 792000 | T10: 수공예최은영 | U10: 726000 | V10: 요리박도희 | W10: 132000 | X10: 미술양호빈 | Y10: 330000 | Z10: 음악정유희 | AA10: 528000 | AB10: 음악최지원 | AC10: 627000 | AD10: 목공김철희 | AE10: 693000 | AF10: 프로젝트김학철 | AG10: 330000 | AH10: 퍼머컬쳐임경수 | AI10: 264000 | AJ10: 수학하경희 | AK10: 429000 | AL10: 미술심미용 | AM10: 990000 | AN10: 한국무용정혜원 | AO10: 132000 | AP10: 정가박세은 | AQ10: 132000 | AR10: 영어한종인 | AS10: 693000
C11: 2.교원제수당 | E11: =SUM(F11:Z11) -> 0
D12: 1.정액급식비 | E12: =SUM(F12:Z12) -> 1260000 | F12: 교사급식비 | G12: 1260000
D13: 2.정근수당 | E13: =SUM(F13:Z13) -> 0
D14: 3.직급수당 | E14: =SUM(F14:Z14) -> 800000 | F14: 박규현 교장직급수당 | H14: 500000 | I14: 이영해 대표교사직급수당 | K14: 300000
D15: 4.상여금 | E15: =SUM(F15:Z15) -> 0
C16: 3. 직원보수 | E16: =SUM(F16:Z16) -> 0
D17: 1.기본급 | E17: =SUM(F17:Z17) -> 2550000 | F17: 살림김진숙 | G17: 2550000
D18: 2.기간제직원인건비 | E18: =SUM(F18:Z18) -> 1250000 | F18: 행정박미영 | G18: 1000000 | H18: 타마라생활지원금 | I18: 250000
C19: 4.직원제수당 | E19: =SUM(F19:Z19) -> 0
D20: 1.정액급식비 | E20: =SUM(F20:Z20) -> 252000 | F20: 교직원2명 김진숙 타마라 | H20: 252000
D21: 2.상여금 | E21: =SUM(F21:Z21) -> 0
B22: 2.교직원 복지 및 역량 강화 | E22: =SUM(F22:Z22) -> 0
C23: 1.기관부담보험료 | E23: =SUM(F23:Z23) -> 0
D24: 1.연금및보험료 | E24: =SUM(F24:Z24) -> 1900180 | F24: 전임 사회보험료 | G24: 1900180
C25: 2.연수비 | E25: =SUM(F25:Z25) -> 0
D26: 1.자율연수 | E26: =SUM(F26:Z26) -> 650000 | F26: 자율연수 | G26: 150000 | H26: 150000 | I26: 150000 | J26: 200000
D27: 2.교사회멘토링 | E27: =SUM(F27:Z27) -> 0
C28: 3.업무추진비 | E28: =SUM(F28:Z28) -> 0
C29: 4.도서비 | E29: =SUM(F29:Z29) -> 292863 | F29: 연구도서 | G29: 74200 | H29: 218663
C30: 5.교직원행사비 | E30: =SUM(F30:Z30) -> 0
C31: 6.포상비 | E31: =SUM(F31:Z31) -> 0
C32: 7.맞춤형복지비 | E32: =SUM(F32:Z32) -> 0
C33: 8.직급보조비 | E33: =SUM(F33:Z33) -> 0
C34: 9.성과상여금 | E34: =SUM(F34:Z34) -> 0
A35: 2.학생복지/교육격차해소 | E35: =SUM(F35:Z35) -> 0
B36: 1. 급식관리비 | E36: =SUM(F36:Z36) -> 0
C37: 1. 수용비 | E37: =SUM(F37:Z37) -> 0 | F37: 과일 잡곡 등
C38: 2. 기타식자재구입비 | E38: =SUM(F38:Z38) -> 0
C39: 3. 위탁급식비 | E39: =SUM(F39:Z39) -> 1678000 | F39: 부모부담분 | G39: 1678000 | H39: 급식지원금 지출
B40: 2. 보건관리비 | E40: =SUM(F40:Z40) -> 0
C41: 1.학생과 교직원보건안전 | E41: =SUM(F41:Z41) -> 0
D42: 1.의료비 | E42: =SUM(F42:Z42) -> 0
D43: 2.보건실운영 | E43: =SUM(F43:Z43) -> 0
D44: 3.학교안전공제회비 | E44: =SUM(F44:Z44) -> 0
C45: 2.학교위생관리 | E45: =SUM(F45:Z45) -> 0
D46: 1.식수운영 | E46: =SUM(F46:Z46) -> 0 | F46: 정수필터
D47: 2.수용비 | E47: =SUM(F47:Z47) -> 200000 | F47: 정화조 작업비 | G47: 200000
D48: 3.방역비 | E48: =SUM(F48:Z48) -> 0
A49: 3.기본적교육활동비 | E49: =SUM(F49:Z49) -> 0
B50: 1.교과활동지원 | E50: =SUM(F50:Z50) -> 0
C51: 1.담임교사교육운영비 | E51: =SUM(F51:Z51) -> 90100 | F51: 과학실험재료 | G51: 90100
C52: 2.교사용지도서 | E52: =SUM(F52:Z52) -> 0
B53: 2.외국어교과활동 | E53: =SUM(F53:Z53) -> 49000 | F53: 프린트 토너 | G53: 32000 | H53: 토너박스 | I53: 17000
B54: 3.수공예교과활동 | E54: =SUM(F54:Z54) -> 300000 | F54: 수공예재료 | G54: 300000
B55: 4.음악교과활동 | E55: =SUM(F55:Z55) -> 0
B56: 5.미술교과활동 | E56: =SUM(F56:Z56) -> 0
B57: 6.목공예교과활동 | E57: =SUM(F57:Z57) -> 233350 | F57: 화학실험재료 | G57: 20000 | H57: 79200 | I57: 134150
B58: 7.체육교과활동 | E58: =SUM(F58:Z58) -> 0
B59: 8 기타교과활동 | E59: =SUM(F59:Z59) -> 50000 | F59: 신문구독료 | G59: 50000
B60: 9.창의체험활동 | E60: =SUM(F60:Z60) -> 0
C61: 1. 축제및행사 | E61: =SUM(F61:Z61) -> 436670 | F61: 추석송편가루 | G61: 36000 | H61: 학예회무대커튼 | I61: 189570 | J61: 커튼오버록 | K61: 39900 | L61: 학예회떡공임 | M61: 45000 | N61: 학예회꽃 | O61: 47000 | P61: 동지제사과 | Q61: 79200
C62: 2. 캠프 | E62: =SUM(F62:Z62) -> 0
A63: 4.선택적교육활동 | E63: =SUM(F63:Z63) -> 0
B64: 1.방과후 학교 | E64: =SUM(F64:Z64) -> 0
C65: 1.방과후학교 | E65: =SUM(F65:Z65) -> 0
D66: 1.강사인건비 | E66: =SUM(F66:Z66) -> 198000 | F66: 합창 김숙현 | G66: 198000
D67: 2.간식비 | E67: =SUM(F67:Z67) -> 180000 | F67: 간식비 | G67: 180000
D68: 3.교육운영비 | E68: =SUM(F68:Z68) -> 19100 | F68: 수업재료 | G68: 19100
B69: 2.독서활동 | E69: =SUM(F69:Z69) -> 0
C70: 1. 독서활동운영 | E70: =SUM(F70:Z70) -> 0
D71: 1.도서구입 | E71: =SUM(F71:Z71) -> 0
A72: 5.교육활동지원 | E72: =SUM(F72:Z72) -> 0
B73: 1.교무업무운영 | E73: =SUM(F73:Z73) -> 0
C74: 1.교무학사운영 | E74: =SUM(F74:Z74) -> 0
D75: 1.수용비 | E75: =SUM(F75:Z75) -> 117000 | F75: 토너 | G75: 117000
C76: 2.입학식,졸업식 | E76: =SUM(F76:Z76) -> 0
C77: 3.신입생홍보운영 | E77: =SUM(F77:Z77) -> 0
C78: 4.입학설명회운영 | E78: =SUM(F78:Z78) -> 0
B79: 2.교육환경개선 | E79: =SUM(F79:Z79) -> 0
C80: 1.교실비품 | E80: =SUM(F80:Z80) -> 0
C81: 2.책걸상구입 | E81: =SUM(F81:Z81) -> 0
A82: 6.일반학교운영 | E82: =SUM(F82:Z82) -> 0
B83: 1.시설장비유지 | E83: =SUM(F83:Z83) -> 0
C84: 1.학교시설장비유지 | E84: =SUM(F84:Z84) -> 0
D85: 1. 전기요금 | E85: =SUM(F85:Z85) -> 1262310 | F85: 전기료 | G85: 258890 | H85: 신관전기 | I85: 1140 | J85: 신관전기세 미납분 4~10월분 | L85: 1002280
D86: 2. 상하수도료 | E86: =SUM(F86:Z86) -> 0 | F86: 상하수도료
D87: 3. 일반수용비 | E87: =SUM(F87:Z87) -> 89450 | F87: 주방비누와휴지 | G87: 36700 | H87: 위생팩 | I87: 6750 | J87: 밥솥수리 | K87: 30000 | L87: 쥐끈끈이 | M87: 16000
D88: 4. 기타공공요금 | E88: =SUM(F88:Z88) -> 223990 | F88: 통신료 | G88: 33000 | H88: 33000 | I88: 39670 | J88: 28860 | K88: 국세 | L88: 63600 | M88: 지방세 | N88: 6360 | O88: cms계좌보증보험 | P88: 15500 | Q88: 송금수수료 | R88: 4000 | S88: 대안교육연대연회비
D89: 5.시설관리용역비 | E89: =SUM(F89:Z89) -> 0
D90: 6. 수용비 | E90: =SUM(F90:Z90) -> 3540000 | F90: 월세 | G90: 1770000 | H90: 8월미납분 | I90: 1770000
C91: 2.연료비 | E91: =SUM(F91:Z91) -> 714000 | F91: 난방유 | G91: 714000
C92: 3.시설일반관리 | E92: =SUM(F92:Z92) -> 0
D93: 1.수용비 | E93: =SUM(F93:Z93) -> 0
D94: 2.시설비 | E94: =SUM(F94:Z94) -> 0
D95: 3.장비취득비 | E95: =SUM(F95:Z95) -> 0
B96: 2.학교운영협력비 | E96: =SUM(F96:Z96) -> 0
C97: 1.학교운영위원회운영 | E97: =SUM(F97:Z97) -> 0
D98: 1.일반업무추진비 | E98: =SUM(F98:Z98) -> 0
C99: 2.학부모협력 | E99: =SUM(F99:Z99) -> 0
D100: 1.신편입학부모교육 | E100: =SUM(F100:Z100) -> 0
C101: 3.교육위원회 | E101: =SUM(F101:Z101) -> 0
D102: 1.업무추진비 | E102: =SUM(F102:Z102) -> 0
...

Sheet 26년 1월
B2: 2025학년도 26년 1월 세출명세서
A4: 과목 | F4: 내역
A5: 장 | B5: 관 | C5: 항 | D5: 목 | E5: 계
A6: 1. 인적자원운용비 | E6: =SUM(F6:Z6) -> 0 | H6: 미지출분
B7: 1. 교직원보수 | E7: =SUM(F7:Z7) -> 0 | H7: 실지출반영분
C8: 1. 교원보수 | E8: =SUM(F8:Z8) -> 0
D9: 1.기본급 | E9: =SUM(F9:AA9) -> 16850000 | F9: 상급박규현 | G9: 2550000 | H9: 상급김훈희 | I9: 2250000 | J9: 이영해 | K9: 2450000 | L9: 조수연 | M9: 2350000 | N9: 정효진 | O9: 2300000 | P9: 위윤이 | Q9: 2250000 | R9: 김미정 | S9: 2200000 | T9: 상급지도이성웅 | V9: 500000
D10: 2.기간제교원인건비 | E10: =SUM(F10:AQ10) -> 200000 | F10: 농사/텃밭관리서규섭 | G10: 200000 | H10: 목공김철희 | J10: 프로젝트김학철 | L10: 요리박도희 | N10: 정가박세은 | P10: 미술심미용 | R10: 영어이정연 | T10: 도움수업이미순 | V10: 체육공통교양이성웅 | X10: 체육이형남 | Z10: 음악정유희 | AB10: 한국무용정혜원 | AD10: 음악최지원 | AF10: 수학하경희 | AH10: 영어한만형 | AJ10: 미술양호빈 | AL10: 퍼머컬쳐임경수 | AN10: 영어한종인 | AP10: 영어이슬아
C11: 2.교원제수당 | E11: =SUM(F11:Z11) -> 0
D12: 1.정액급식비 | E12: =SUM(F12:Z12) -> 0 | F12: 교사급식비
D13: 2.정근수당 | E13: =SUM(F13:Z13) -> 0
D14: 3.직급수당 | E14: =SUM(F14:Z14) -> 800000 | F14: 박규현 교장직급수당 | H14: 500000 | I14: 이영해 대표교사직급수당 | K14: 300000
D15: 4.상여금 | E15: =SUM(F15:Z15) -> 0
C16: 3. 직원보수 | E16: =SUM(F16:Z16) -> 0
D17: 1.기본급 | E17: =SUM(F17:Z17) -> 2550000 | F17: 살림김진숙 | G17: 2550000
D18: 2.기간제직원인건비 | E18: =SUM(F18:Z18) -> 1250000 | F18: 행정박미영 | G18: 1000000 | H18: 타마라생활지원금 | I18: 250000
C19: 4.직원제수당 | E19: =SUM(F19:Z19) -> 0
D20: 1.정액급식비 | E20: =SUM(F20:Z20) -> 0 | F20: 교직원2명 김진숙 카리나
D21: 2.상여금 | E21: =SUM(F21:Z21) -> 0
B22: 2.교직원 복지 및 역량 강화 | E22: =SUM(F22:Z22) -> 0
C23: 1.기관부담보험료 | E23: =SUM(F23:Z23) -> 0
D24: 1.연금및보험료 | E24: =SUM(F24:Z24) -> 1400000 | F24: 전임 사회보험료 | G24: 1400000
C25: 2.연수비 | E25: =SUM(F25:Z25) -> 0
D26: 1.자율연수 | E26: =SUM(F26:Z26) -> 250000 | F26: 자율연수 | G26: 125000 | H26: 125000
D27: 2.교사회멘토링 | E27: =SUM(F27:Z27) -> 0
C28: 3.업무추진비 | E28: =SUM(F28:Z28) -> 0
C29: 4.도서비 | E29: =SUM(F29:Z29) -> 0
C30: 5.교직원행사비 | E30: =SUM(F30:Z30) -> 0
C31: 6.포상비 | E31: =SUM(F31:Z31) -> 0
C32: 7.맞춤형복지비 | E32: =SUM(F32:Z32) -> 0
C33: 8.직급보조비 | E33: =SUM(F33:Z33) -> 0
C34: 9.성과상여금 | E34: =SUM(F34:Z34) -> 0
A35: 2.학생복지/교육격차해소 | E35: =SUM(F35:Z35) -> 0
B36: 1. 급식관리비 | E36: =SUM(F36:Z36) -> 0
C37: 1. 수용비 | E37: =SUM(F37:Z37) -> 0 | F37: 과일 잡곡 등
C38: 2. 기타식자재구입비 | E38: =SUM(F38:Z38) -> 0
C39: 3. 위탁급식비 | E39: =SUM(F39:Z39) -> 0 | F39: 부모부담분 | H39: 급식지원금 지출
B40: 2. 보건관리비 | E40: =SUM(F40:Z40) -> 0
C41: 1.학생과 교직원보건안전 | E41: =SUM(F41:Z41) -> 0
D42: 1.의료비 | E42: =SUM(F42:Z42) -> 0
D43: 2.보건실운영 | E43: =SUM(F43:Z43) -> 0
D44: 3.학교안전공제회비 | E44: =SUM(F44:Z44) -> 0
C45: 2.학교위생관리 | E45: =SUM(F45:Z45) -> 0
D46: 1.식수운영 | E46: =SUM(F46:Z46) -> 0 | F46: 정수필터
D47: 2.수용비 | E47: =SUM(F47:Z47) -> 0 | F47: 휴지
D48: 3.방역비 | E48: =SUM(F48:Z48) -> 0
A49: 3.기본적교육활동비 | E49: =SUM(F49:Z49) -> 0
B50: 1.교과활동지원 | E50: =SUM(F50:Z50) -> 0
C51: 1.담임교사교육운영비 | E51: =SUM(F51:Z51) -> 0
C52: 2.교사용지도서 | E52: =SUM(F52:Z52) -> 126300 | F52: 연구도서 | G52: 126300
B53: 2.외국어교과활동 | E53: =SUM(F53:Z53) -> 0
B54: 3.수공예교과활동 | E54: =SUM(F54:Z54) -> 0
B55: 4.음악교과활동 | E55: =SUM(F55:Z55) -> 0
B56: 5.미술교과활동 | E56: =SUM(F56:Z56) -> 0
B57: 6.목공예교과활동 | E57: =SUM(F57:Z57) -> 0
B58: 7.체육교과활동 | E58: =SUM(F58:Z58) -> 323330 | F58: 수업교구 | G58: 323330
B59: 8 기타교과활동 | E59: =SUM(F59:Z59) -> 0
B60: 9.창의체험활동 | E60: =SUM(F60:Z60) -> 0
C61: 1. 축제및행사 | E61: =SUM(F61:Z61) -> 0
C62: 2. 캠프 | E62: =SUM(F62:Z62) -> 2186930 | F62: 겨울캠프 총지출 | G62: 2186930
A63: 4.선택적교육활동 | E63: =SUM(F63:Z63) -> 0
B64: 1.방과후 학교 | E64: =SUM(F64:Z64) -> 0
C65: 1.방과후학교 | E65: =SUM(F65:Z65) -> 0
D66: 1.강사인건비 | E66: =SUM(F66:Z66) -> 0
D67: 2.간식비 | E67: =SUM(F67:Z67) -> 0 | F67: 간식비
D68: 3.교육운영비 | E68: =SUM(F68:Z68) -> 0 | F68: 수업재료
B69: 2.독서활동 | E69: =SUM(F69:Z69) -> 0
C70: 1. 독서활동운영 | E70: =SUM(F70:Z70) -> 0
D71: 1.도서구입 | E71: =SUM(F71:Z71) -> 0
A72: 5.교육활동지원 | E72: =SUM(F72:Z72) -> 0
B73: 1.교무업무운영 | E73: =SUM(F73:Z73) -> 0
C74: 1.교무학사운영 | E74: =SUM(F74:Z74) -> 0
D75: 1.수용비 | E75: =SUM(F75:Z75) -> 0
C76: 2.입학식,졸업식 | E76: =SUM(F76:Z76) -> 0
C77: 3.신입생홍보운영 | E77: =SUM(F77:Z77) -> 0
C78: 4.입학설명회운영 | E78: =SUM(F78:Z78) -> 0
B79: 2.교육환경개선 | E79: =SUM(F79:Z79) -> 0
C80: 1.교실비품 | E80: =SUM(F80:Z80) -> 0
C81: 2.책걸상구입 | E81: =SUM(F81:Z81) -> 0
A82: 6.일반학교운영 | E82: =SUM(F82:Z82) -> 0
B83: 1.시설장비유지 | E83: =SUM(F83:Z83) -> 0
C84: 1.학교시설장비유지 | E84: =SUM(F84:Z84) -> 0
D85: 1. 전기요금 | E85: =SUM(F85:Z85) -> 348970 | F85: 전기료 | G85: 348970
D86: 2. 상하수도료 | E86: =SUM(F86:Z86) -> 322070 | F86: 상하수도료12월분 | G86: 187440 | H86: 당월분 | I86: 134630
D87: 3. 일반수용비 | E87: =SUM(F87:Z87) -> 0
D88: 4. 기타공공요금 | E88: =SUM(F88:Z88) -> 138000 | F88: 통신료 | G88: 33000 | H88: 33000 | I88: 40000 | J88: 30000 | K88: 국세 | M88: 지방세 | O88: 수수료 | P88: 2000 | Q88: 평화나무농장연회비 | S88: 양대련상반기회비 | U88: 대안교육연대연회비
D89: 5.시설관리용역비 | E89: =SUM(F89:Z89) -> 0
D90: 6. 수용비 | E90: =SUM(F90:Z90) -> 1770000 | F90: 월세 | G90: 1770000
C91: 2.연료비 | E91: =SUM(F91:Z91) -> 1254000 | F91: 신관난방유 | G91: 576000 | H91: 본관난방유 | I91: 678000
C92: 3.시설일반관리 | E92: =SUM(F92:Z92) -> 0
D93: 1.수용비 | E93: =SUM(F93:Z93) -> 0
D94: 2.시설비 | E94: =SUM(F94:Z94) -> 0
D95: 3.장비취득비 | E95: =SUM(F95:Z95) -> 0
B96: 2.학교운영협력비 | E96: =SUM(F96:Z96) -> 0
C97: 1.학교운영위원회운영 | E97: =SUM(F97:Z97) -> 0
D98: 1.일반업무추진비 | E98: =SUM(F98:Z98) -> 0
C99: 2.학부모협력 | E99: =SUM(F99:Z99) -> 0
D100: 1.신편입학부모교육 | E100: =SUM(F100:Z100) -> 800000 | F100: 26년신편입학부모 월세미나여름겨울아카데미 수업료 | I100: 800000
C101: 3.교육위원회 | E101: =SUM(F101:Z101) -> 0
D102: 1.업무추진비 | E102: =SUM(F102:Z102) -> 0
...

Sheet 26년 2월
B2: 2025학년도 26년2월 세출명세서
A4: 과목 | F4: 내역
A5: 장 | B5: 관 | C5: 항 | D5: 목 | E5: 계
A6: 1. 인적자원운용비 | E6: =SUM(F6:Z6) -> 0 | G6: 지출예정분
B7: 1. 교직원보수 | E7: =SUM(F7:Z7) -> 0
C8: 1. 교원보수 | E8: =SUM(F8:Z8) -> 0
D9: 1.기본급 | E9: =SUM(F9:AA9) -> 19050000 | F9: 상급지도박규현 | G9: 2550000 | H9: 이영해 | I9: 2450000 | J9: 조수연 | K9: 2350000 | L9: 정효진 | M9: 2300000 | N9: 위윤이 | O9: 2250000 | P9: 상급지도김훈희 | Q9: 2250000 | R9: 김미정 | S9: 2200000 | T9: 김숙현 | U9: 2200000 | V9: 이성웅 | W9: 500000
D10: 2.기간제교원인건비 | E10: =SUM(F10:AY10) -> 200000 | F10: 농사/텃밭관리 | G10: 200000
C11: 2.교원제수당 | E11: =SUM(F11:Z11) -> 0
D12: 1.정액급식비 | E12: =SUM(F12:Z12) -> 462000 | F12: 교사급식비 | G12: 462000
D13: 2.정근수당 | E13: =SUM(F13:Z13) -> 0
D14: 3.직급수당 | E14: =SUM(F14:Z14) -> 800000 | F14: 박규현 교장직급수당 | H14: 500000 | I14: 이영해 대표교사직급수당 | K14: 300000
D15: 4.상여금 | E15: =SUM(F15:Z15) -> 0
C16: 3. 직원보수 | E16: =SUM(F16:Z16) -> 0
D17: 1.기본급 | E17: =SUM(F17:Z17) -> 2550000 | F17: 살림김진숙 | G17: 2550000
D18: 2.기간제직원인건비 | E18: =SUM(F18:Z18) -> 1250000 | F18: 행정박미영 | G18: 1000000 | H18: 독일봉사자생활지원금 | I18: 250000
C19: 4.직원제수당 | E19: =SUM(F19:Z19) -> 0
D20: 1.정액급식비 | E20: =SUM(F20:Z20) -> 84000 | F20: 교직원2명 김진숙 카리나 | H20: 84000
D21: 2.상여금 | E21: =SUM(F21:Z21) -> 0
B22: 2.교직원 복지 및 역량 강화 | E22: =SUM(F22:Z22) -> 0
C23: 1.기관부담보험료 | E23: =SUM(F23:Z23) -> 0
D24: 1.연금및보험료 | E24: =SUM(F24:Z24) -> 1400000 | F24: 전임 사회보험료 | G24: 1400000
C25: 2.연수비 | E25: =SUM(F25:Z25) -> 0
D26: 1.자율연수 | E26: =SUM(F26:Z26) -> 0 | F26: 자율연수
D27: 2.교사회멘토링 | E27: =SUM(F27:Z27) -> 0
C28: 3.업무추진비 | E28: =SUM(F28:Z28) -> 0
C29: 4.도서비 | E29: =SUM(F29:Z29) -> 0
C30: 5.교직원행사비 | E30: =SUM(F30:Z30) -> 0
C31: 6.포상비 | E31: =SUM(F31:Z31) -> 0
C32: 7.맞춤형복지비 | E32: =SUM(F32:Z32) -> 0
C33: 8.직급보조비 | E33: =SUM(F33:Z33) -> 0
C34: 9.성과상여금 | E34: =SUM(F34:Z34) -> 0
A35: 2.학생복지/교육격차해소 | E35: =SUM(F35:Z35) -> 0
B36: 1. 급식관리비 | E36: =SUM(F36:Z36) -> 0
C37: 1. 수용비 | E37: =SUM(F37:Z37) -> 0 | F37: 과일 잡곡 등
C38: 2. 기타식자재구입비 | E38: =SUM(F38:Z38) -> 0
C39: 3. 위탁급식비 | E39: =SUM(F39:Z39) -> 2498470 | F39: 부모부담분 | G39: 488000 | H39: 급식지원금 지출 | I39: 2010470
B40: 2. 보건관리비 | E40: =SUM(F40:Z40) -> 0
C41: 1.학생과 교직원보건안전 | E41: =SUM(F41:Z41) -> 0
D42: 1.의료비 | E42: =SUM(F42:Z42) -> 0
D43: 2.보건실운영 | E43: =SUM(F43:Z43) -> 0
D44: 3.학교안전공제회비 | E44: =SUM(F44:Z44) -> 0
C45: 2.학교위생관리 | E45: =SUM(F45:Z45) -> 0
D46: 1.식수운영 | E46: =SUM(F46:Z46) -> 0 | F46: 정수필터
D47: 2.수용비 | E47: =SUM(F47:Z47) -> 0 | F47: 휴지
D48: 3.방역비 | E48: =SUM(F48:Z48) -> 0
A49: 3.기본적교육활동비 | E49: =SUM(F49:Z49) -> 0
B50: 1.교과활동지원 | E50: =SUM(F50:Z50) -> 0
C51: 1.담임교사교육운영비 | E51: =SUM(F51:Z51) -> 0
C52: 2.교사용지도서 | E52: =SUM(F52:Z52) -> 0
B53: 2.외국어교과활동 | E53: =SUM(F53:Z53) -> 0
B54: 3.수공예교과활동 | E54: =SUM(F54:Z54) -> 0
B55: 4.음악교과활동 | E55: =SUM(F55:Z55) -> 0
B56: 5.미술교과활동 | E56: =SUM(F56:Z56) -> 0
B57: 6.목공예교과활동 | E57: =SUM(F57:Z57) -> 0
B58: 7.체육교과활동 | E58: =SUM(F58:Z58) -> 0
B59: 8 기타교과활동 | E59: =SUM(F59:Z59) -> 0
B60: 9.창의체험활동 | E60: =SUM(F60:Z60) -> 0
C61: 1. 축제및행사 | E61: =SUM(F61:Z61) -> 0
C62: 2. 캠프 | E62: =SUM(F62:Z62) -> 0
A63: 4.선택적교육활동 | E63: =SUM(F63:Z63) -> 0
B64: 1.방과후 학교 | E64: =SUM(F64:Z64) -> 0
C65: 1.방과후학교 | E65: =SUM(F65:Z65) -> 0
D66: 1.강사인건비 | E66: =SUM(F66:Z66) -> 0
D67: 2.간식비 | E67: =SUM(F67:Z67) -> 48000 | F67: 간식비 | G67: 48000
D68: 3.교육운영비 | E68: =SUM(F68:Z68) -> 0 | F68: 합창수업료
B69: 2.독서활동 | E69: =SUM(F69:Z69) -> 0
C70: 1. 독서활동운영 | E70: =SUM(F70:Z70) -> 0
D71: 1.도서구입 | E71: =SUM(F71:Z71) -> 0
A72: 5.교육활동지원 | E72: =SUM(F72:Z72) -> 0
B73: 1.교무업무운영 | E73: =SUM(F73:Z73) -> 0
C74: 1.교무학사운영 | E74: =SUM(F74:Z74) -> 0
D75: 1.수용비 | E75: =SUM(F75:Z75) -> 0
C76: 2.입학식,졸업식 | E76: =SUM(F76:Z76) -> 0
C77: 3.신입생홍보운영 | E77: =SUM(F77:Z77) -> 0
C78: 4.입학설명회운영 | E78: =SUM(F78:Z78) -> 0
B79: 2.교육환경개선 | E79: =SUM(F79:Z79) -> 0
C80: 1.교실비품 | E80: =SUM(F80:Z80) -> 0
C81: 2.책걸상구입 | E81: =SUM(F81:Z81) -> 0
A82: 6.일반학교운영 | E82: =SUM(F82:Z82) -> 0
B83: 1.시설장비유지 | E83: =SUM(F83:Z83) -> 0
C84: 1.학교시설장비유지 | E84: =SUM(F84:Z84) -> 0
D85: 1. 전기요금 | E85: =SUM(F85:Z85) -> 300000 | F85: 전기료 | G85: 300000
D86: 2. 상하수도료 | E86: =SUM(F86:Z86) -> 150000 | F86: 상하수도료 | G86: 150000
D87: 3. 일반수용비 | E87: =SUM(F87:Z87) -> 0
D88: 4. 기타공공요금 | E88: =SUM(F88:Z88) -> 138000 | F88: 통신료 | G88: 33000 | H88: 33000 | I88: 40000 | J88: 30000 | K88: 국세 | M88: 지방세 | O88: 수수료 | P88: 2000 | R88: 대안교육연대연회비
D89: 5.시설관리용역비 | E89: =SUM(F89:Z89) -> 0
D90: 6. 수용비 | E90: =SUM(F90:Z90) -> 3540000 | F90: 월세 | G90: 1770000 | H90: 25년 미납분완료 | I90: 1770000
C91: 2.연료비 | E91: =SUM(F91:Z91) -> 1200000 | F91: 난방유 신관 | G91: 600000 | H91: 본관 난방유 | I91: 600000
C92: 3.시설일반관리 | E92: =SUM(F92:Z92) -> 0
D93: 1.수용비 | E93: =SUM(F93:Z93) -> 0
D94: 2.시설비 | E94: =SUM(F94:Z94) -> 0
D95: 3.장비취득비 | E95: =SUM(F95:Z95) -> 0
B96: 2.학교운영협력비 | E96: =SUM(F96:Z96) -> 0
C97: 1.학교운영위원회운영 | E97: =SUM(F97:Z97) -> 0
D98: 1.일반업무추진비 | E98: =SUM(F98:Z98) -> 0
C99: 2.학부모협력 | E99: =SUM(F99:Z99) -> 0
D100: 1.신편입학부모교육 | E100: =SUM(F100:Z100) -> 0
C101: 3.교육위원회 | E101: =SUM(F101:Z101) -> 0
D102: 1.업무추진비 | E102: =SUM(F102:Z102) -> 0
...
