Workbook
Name 위: #REF!
Name 위: #REF!
Name 위: #REF!
Name ㅟ: #REF!
Name ㅟ: #REF!

Sheet 총괄
B2: 2025학년도 세출명세서
A4: 과목
A5: 장 | B5: 관 | C5: 항 | D5: 목 | E5: 계 | F5: 3월 | G5: 4월 | H5: 5월 | I5: 6월 | J5: 7월 | K5: 8월 | L5: 9월 | M5: 10월 | N5: 11월 | O5: 12월 | P5: 1월 | Q5: 2월
A6: 1. 인적자원운용비
B7: 1. 교직원보수
C8: 1. 교원보수
D9: 1.기본급 | E9: =SUM(F9:P9) -> 168500000 | F9: ='3월'!E9 -> 16850000 | G9: ='4월'!E9 -> 16850000 | H9: ='5월'!E9 -> 16850000 | I9: ='6월'!E9 -> 16850000 | J9: ='7월'!E9 -> 16850000 | K9: ='8월'!E9 -> 16850000 | L9: ='9월'!E9 -> 16850000 | M9: ='10월'!E9 -> 16850000 | N9: 0 | O9: ='12월'!E9 -> 16850000 | P9: ='12월'!E9 -> 16850000 | Q9: ='26년 2월'!E9 -> 19050000
D10: 2.기간제교원인건비 | E10: =SUM(F10:Q10) -> 86811480 | F10: ='3월'!E10 -> 10927000 | G10: ='4월'!E10 -> 10795000 | H10: ='5월'!E10 -> 8782000 | I10: ='6월'!E10 -> 11306760 | J10: ='7월'!E10 -> 1868240 | K10: ='8월'!E10 -> 1885000 | L10: ='9월'!E10 -> 10498000 | M10: ='10월'!E10 -> 8256160 | N10: ='11월'!E10 -> 10838320 | O10: ='12월'!E10 -> 11255000 | P10: ='26년 1월'!E10 -> 200000 | Q10: ='26년 2월'!E10 -> 200000
C11: 2.교원제수당 | E11: =SUM(F11:Q11) -> 0 | F11: ='3월'!E11 -> 0 | G11: ='4월'!E11 -> 0 | H11: ='5월'!E11 -> 0 | I11: ='6월'!E11 -> 0 | J11: ='7월'!E11 -> 0 | K11: ='8월'!E11 -> 0 | L11: ='9월'!E11 -> 0 | M11: ='10월'!E11 -> 0 | N11: ='11월'!E11 -> 0 | O11: ='12월'!E11 -> 0 | P11: ='26년 1월'!E11 -> 0 | Q11: ='26년 2월'!E11 -> 0
D12: 1.정액급식비 | E12: =SUM(F12:Q12) -> 11154000 | F12: ='3월'!E12 -> 1776000 | G12: ='4월'!E12 -> 1362000 | H12: ='5월'!E12 -> 1020000 | I12: ='6월'!E12 -> 1416000 | J12: ='7월'!E12 -> 0 | K12: ='8월'!E12 -> 0 | L12: ='9월'!E12 -> 1638000 | M12: ='10월'!E12 -> 1020000 | N12: ='11월'!E12 -> 1200000 | O12: ='12월'!E12 -> 1260000 | P12: ='26년 1월'!E12 -> 0 | Q12: ='26년 2월'!E12 -> 462000
D13: 2.정근수당 | E13: =SUM(F13:Q13) -> 0 | F13: ='3월'!E13 -> 0 | G13: ='4월'!E13 -> 0 | H13: ='5월'!E13 -> 0 | I13: ='6월'!E13 -> 0 | J13: ='7월'!E13 -> 0 | K13: ='8월'!E13 -> 0 | L13: ='9월'!E13 -> 0 | M13: ='10월'!E13 -> 0 | N13: ='11월'!E13 -> 0 | O13: ='12월'!E13 -> 0 | P13: ='26년 1월'!E13 -> 0 | Q13: ='26년 2월'!E13 -> 0
D14: 3.직급수당 | E14: =SUM(F14:Q14) -> 9600000 | F14: ='3월'!E14 -> 800000 | G14: ='4월'!E14 -> 800000 | H14: ='5월'!E14 -> 800000 | I14: ='6월'!E14 -> 800000 | J14: ='7월'!E14 -> 800000 | K14: ='8월'!E14 -> 800000 | L14: ='9월'!E14 -> 800000 | M14: ='10월'!E14 -> 800000 | N14: ='11월'!E14 -> 800000 | O14: ='12월'!E14 -> 800000 | P14: ='26년 1월'!E14 -> 800000 | Q14: ='26년 2월'!E14 -> 800000
D15: 4.상여금 | E15: =SUM(F15:Q15) -> 1600000 | F15: ='3월'!E15 -> 0 | G15: ='4월'!E15 -> 0 | H15: ='5월'!E15 -> 0 | I15: ='6월'!E15 -> 0 | J15: ='7월'!E15 -> 0 | K15: ='8월'!E15 -> 0 | L15: ='9월'!E15 -> 0 | M15: ='10월'!E15 -> 1600000 | N15: ='11월'!E15 -> 0 | O15: ='12월'!E15 -> 0 | P15: ='26년 1월'!E15 -> 0 | Q15: ='26년 2월'!E15 -> 0
C16: 3. 직원보수 | E16: =SUM(F16:Q16) -> 0 | F16: ='3월'!E16 -> 0 | G16: ='4월'!E16 -> 0 | H16: ='5월'!E16 -> 0 | I16: ='6월'!E16 -> 0 | J16: ='7월'!E16 -> 0 | K16: ='8월'!E16 -> 0 | L16: ='9월'!E16 -> 0 | M16: ='10월'!E16 -> 0 | N16: ='11월'!E16 -> 0 | O16: ='12월'!E16 -> 0 | P16: ='26년 1월'!E16 -> 0 | Q16: ='26년 2월'!E16 -> 0
D17: 1.기본급 | E17: =SUM(F17:Q17) -> 30600000 | F17: ='3월'!E17 -> 2550000 | G17: ='4월'!E17 -> 2550000 | H17: ='5월'!E17 -> 2550000 | I17: ='6월'!E17 -> 2550000 | J17: ='7월'!E17 -> 2550000 | K17: ='8월'!E17 -> 2550000 | L17: ='9월'!E17 -> 2550000 | M17: ='10월'!E17 -> 2550000 | N17: ='11월'!E17 -> 2550000 | O17: ='12월'!E17 -> 2550000 | P17: ='26년 1월'!E17 -> 2550000 | Q17: ='26년 2월'!E17 -> 2550000
D18: 2.기간제직원인건비 | E18: =SUM(F18:Q18) -> 15000000 | F18: ='3월'!E18 -> 1250000 | G18: ='4월'!E18 -> 1250000 | H18: ='5월'!E18 -> 1250000 | I18: ='6월'!E18 -> 1250000 | J18: ='7월'!E18 -> 1250000 | K18: ='8월'!E18 -> 1250000 | L18: ='9월'!E18 -> 1250000 | M18: ='10월'!E18 -> 1250000 | N18: ='11월'!E18 -> 1250000 | O18: ='12월'!E18 -> 1250000 | P18: ='26년 1월'!E18 -> 1250000 | Q18: ='26년 2월'!E18 -> 1250000
C19: 4.직원제수당 | E19: =SUM(F19:Q19) -> 0 | F19: ='3월'!E19 -> 0 | G19: ='4월'!E19 -> 0 | H19: ='5월'!E19 -> 0 | I19: ='6월'!E19 -> 0 | J19: ='7월'!E19 -> 0 | K19: ='8월'!E19 -> 0 | L19: ='9월'!E19 -> 0 | M19: ='10월'!E19 -> 0 | N19: ='11월'!E19 -> 0 | O19: ='12월'!E19 -> 0 | P19: ='26년 1월'!E19 -> 0 | Q19: ='26년 2월'!E19 -> 0
D20: 1.정액급식비 | E20: =SUM(F20:Q20) -> 2244000 | F20: ='3월'!E20 -> 360000 | G20: ='4월'!E20 -> 264000 | H20: ='5월'!E20 -> 240000 | I20: ='6월'!E20 -> 276000 | J20: ='7월'!E20 -> 0 | K20: ='8월'!E20 -> 0 | L20: ='9월'!E20 -> 324000 | M20: ='10월'!E20 -> 204000 | N20: ='11월'!E20 -> 240000 | O20: ='12월'!E20 -> 252000 | P20: ='26년 1월'!E20 -> 0 | Q20: ='26년 2월'!E20 -> 84000
D21: 2.상여금 | E21: =SUM(F21:Q21) -> 200000 | F21: ='3월'!E21 -> 0 | G21: ='4월'!E21 -> 0 | H21: ='5월'!E21 -> 0 | I21: ='6월'!E21 -> 0 | J21: ='7월'!E21 -> 0 | K21: ='8월'!E21 -> 0 | L21: ='9월'!E21 -> 0 | M21: ='10월'!E21 -> 200000 | N21: ='11월'!E21 -> 0 | O21: ='12월'!E21 -> 0 | P21: ='26년 1월'!E21 -> 0 | Q21: ='26년 2월'!E21 -> 0
B22: 2.교직원 복지 및 역량 강화 | E22: =SUM(F22:Q22) -> 0 | F22: ='3월'!E22 -> 0 | G22: ='4월'!E22 -> 0 | H22: ='5월'!E22 -> 0 | I22: ='6월'!E22 -> 0 | J22: ='7월'!E22 -> 0 | K22: ='8월'!E22 -> 0 | L22: ='9월'!E22 -> 0 | M22: ='10월'!E22 -> 0 | N22: ='11월'!E22 -> 0 | O22: ='12월'!E22 -> 0 | P22: ='26년 1월'!E22 -> 0 | Q22: ='26년 2월'!E22 -> 0
C23: 1.기관부담보험료 | E23: =SUM(F23:Q23) -> 0 | F23: ='3월'!E23 -> 0 | G23: ='4월'!E23 -> 0 | H23: ='5월'!E23 -> 0 | I23: ='6월'!E23 -> 0 | J23: ='7월'!E23 -> 0 | K23: ='8월'!E23 -> 0 | L23: ='9월'!E23 -> 0 | M23: ='10월'!E23 -> 0 | N23: ='11월'!E23 -> 0 | O23: ='12월'!E23 -> 0 | P23: ='26년 1월'!E23 -> 0 | Q23: ='26년 2월'!E23 -> 0
D24: 1.연금및보험료 | E24: =SUM(F24:Q24) -> 17376820 | F24: ='3월'!E24 -> 1060910 | G24: ='4월'!E24 -> 1510110 | H24: ='5월'!E24 -> 1292640 | I24: ='6월'!E24 -> 1292640 | J24: ='7월'!E24 -> 1406150 | K24: ='8월'!E24 -> 1404670 | L24: ='9월'!E24 -> 1404670 | M24: ='10월'!E24 -> 1900180 | N24: ='11월'!E24 -> 1404670 | O24: ='12월'!E24 -> 1900180 | P24: ='26년 1월'!E24 -> 1400000 | Q24: ='26년 2월'!E24 -> 1400000
C25: 2.연수비 | E25: =SUM(F25:Q25) -> 0 | F25: ='3월'!E25 -> 0 | G25: ='4월'!E25 -> 0 | H25: ='5월'!E25 -> 0 | I25: ='6월'!E25 -> 0 | J25: ='7월'!E25 -> 0 | K25: ='8월'!E25 -> 0 | L25: ='9월'!E25 -> 0 | M25: ='10월'!E25 -> 0 | N25: ='11월'!E25 -> 0 | O25: ='12월'!E25 -> 0 | P25: ='26년 1월'!E25 -> 0 | Q25: ='26년 2월'!E25 -> 0
D26: 1.자율연수 | E26: =SUM(F26:Q26) -> 1708608 | F26: ='3월'!E26 -> 421108 | G26: ='4월'!E26 -> 240000 | H26: ='5월'!E26 -> 40000 | I26: ='6월'!E26 -> 37500 | J26: ='7월'!E26 -> 0 | K26: ='8월'!E26 -> 0 | L26: ='9월'!E26 -> 70000 | M26: ='10월'!E26 -> 0 | N26: ='11월'!E26 -> 0 | O26: ='12월'!E26 -> 650000 | P26: ='26년 1월'!E26 -> 250000 | Q26: ='26년 2월'!E26 -> 0
D27: 2.교사회멘토링 | E27: =SUM(F27:Q27) -> 0 | F27: ='3월'!E27 -> 0 | G27: ='4월'!E27 -> 0 | H27: ='5월'!E27 -> 0 | I27: ='6월'!E27 -> 0 | J27: ='7월'!E27 -> 0 | K27: ='8월'!E27 -> 0 | L27: ='9월'!E27 -> 0 | M27: ='10월'!E27 -> 0 | N27: ='11월'!E27 -> 0 | O27: ='12월'!E27 -> 0 | P27: ='26년 1월'!E27 -> 0 | Q27: ='26년 2월'!E27 -> 0
C28: 3.업무추진비 | E28: =SUM(F28:Q28) -> 0 | F28: ='3월'!E28 -> 0 | G28: ='4월'!E28 -> 0 | H28: ='5월'!E28 -> 0 | I28: ='6월'!E28 -> 0 | J28: ='7월'!E28 -> 0 | K28: ='8월'!E28 -> 0 | L28: ='9월'!E28 -> 0 | M28: ='10월'!E28 -> 0 | N28: ='11월'!E28 -> 0 | O28: ='12월'!E28 -> 0 | P28: ='26년 1월'!E28 -> 0 | Q28: ='26년 2월'!E28 -> 0
C29: 4.도서비 | E29: =SUM(F29:Q29) -> 469753 | F29: ='3월'!E29 -> 148890 | G29: ='4월'!E29 -> 28000 | H29: ='5월'!E29 -> 0 | I29: ='6월'!E29 -> 0 | J29: ='7월'!E29 -> 0 | K29: ='8월'!E29 -> 0 | L29: ='9월'!E29 -> 0 | M29: ='10월'!E29 -> 0 | N29: ='11월'!E29 -> 0 | O29: ='12월'!E29 -> 292863 | P29: ='26년 1월'!E29 -> 0 | Q29: ='26년 2월'!E29 -> 0
C30: 5.교직원행사비 | E30: =SUM(F30:Q30) -> 0 | F30: ='3월'!E30 -> 0 | G30: ='4월'!E30 -> 0 | H30: ='5월'!E30 -> 0 | I30: ='6월'!E30 -> 0 | J30: ='7월'!E30 -> 0 | K30: ='8월'!E30 -> 0 | L30: ='9월'!E30 -> 0 | M30: ='10월'!E30 -> 0 | N30: ='11월'!E30 -> 0 | O30: ='12월'!E30 -> 0 | P30: ='26년 1월'!E30 -> 0 | Q30: ='26년 2월'!E30 -> 0
C31: 6.포상비 | E31: =SUM(F31:Q31) -> 0 | F31: ='3월'!E31 -> 0 | G31: ='4월'!E31 -> 0 | H31: ='5월'!E31 -> 0 | I31: ='6월'!E31 -> 0 | J31: ='7월'!E31 -> 0 | K31: ='8월'!E31 -> 0 | L31: ='9월'!E31 -> 0 | M31: ='10월'!E31 -> 0 | N31: ='11월'!E31 -> 0 | O31: ='12월'!E31 -> 0 | P31: ='26년 1월'!E31 -> 0 | Q31: ='26년 2월'!E31 -> 0
C32: 7.맞춤형복지비 | E32: =SUM(F32:Q32) -> 0 | F32: ='3월'!E32 -> 0 | G32: ='4월'!E32 -> 0 | H32: ='5월'!E32 -> 0 | I32: ='6월'!E32 -> 0 | J32: ='7월'!E32 -> 0 | K32: ='8월'!E32 -> 0 | L32: ='9월'!E32 -> 0 | M32: ='10월'!E32 -> 0 | N32: ='11월'!E32 -> 0 | O32: ='12월'!E32 -> 0 | P32: ='26년 1월'!E32 -> 0 | Q32: ='26년 2월'!E32 -> 0
C33: 8.직급보조비 | E33: =SUM(F33:Q33) -> 0 | F33: ='3월'!E33 -> 0 | G33: ='4월'!E33 -> 0 | H33: ='5월'!E33 -> 0 | I33: ='6월'!E33 -> 0 | J33: ='7월'!E33 -> 0 | K33: ='8월'!E33 -> 0 | L33: ='9월'!E33 -> 0 | M33: ='10월'!E33 -> 0 | N33: ='11월'!E33 -> 0 | O33: ='12월'!E33 -> 0 | P33: ='26년 1월'!E33 -> 0 | Q33: ='26년 2월'!E33 -> 0
C34: 9.성과상여금 | E34: =SUM(F34:Q34) -> 0 | F34: ='3월'!E34 -> 0 | G34: ='4월'!E34 -> 0 | H34: ='5월'!E34 -> 0 | I34: ='6월'!E34 -> 0 | J34: ='7월'!E34 -> 0 | K34: ='8월'!E34 -> 0 | L34: ='9월'!E34 -> 0 | M34: ='10월'!E34 -> 0 | N34: ='11월'!E34 -> 0 | O34: ='12월'!E34 -> 0 | P34: ='26년 1월'!E34 -> 0 | Q34: ='26년 2월'!E34 -> 0
A35: 2.학생복지/교육격차해소 | E35: =SUM(F35:Q35) -> 0 | F35: ='3월'!E35 -> 0 | G35: ='4월'!E35 -> 0 | H35: ='5월'!E35 -> 0 | I35: ='6월'!E35 -> 0 | J35: ='7월'!E35 -> 0 | K35: ='8월'!E35 -> 0 | L35: ='9월'!E35 -> 0 | M35: ='10월'!E35 -> 0 | N35: ='11월'!E35 -> 0 | O35: ='12월'!E35 -> 0 | P35: ='26년 1월'!E35 -> 0 | Q35: ='26년 2월'!E35 -> 0
B36: 1. 급식관리비 | E36: =SUM(F36:Q36) -> 0 | F36: ='3월'!E36 -> 0 | G36: ='4월'!E36 -> 0 | H36: ='5월'!E36 -> 0 | I36: ='6월'!E36 -> 0 | J36: ='7월'!E36 -> 0 | K36: ='8월'!E36 -> 0 | L36: ='9월'!E36 -> 0 | M36: ='10월'!E36 -> 0 | N36: ='11월'!E36 -> 0 | O36: ='12월'!E36 -> 0 | P36: ='26년 1월'!E36 -> 0 | Q36: ='26년 2월'!E36 -> 0
C37: 1. 수용비 | E37: =SUM(F37:Q37) -> 1748460 | F37: ='3월'!E37 -> 538770 | G37: ='4월'!E37 -> 233180 | H37: ='5월'!E37 -> 751910 | I37: ='6월'!E37 -> 0 | J37: ='7월'!E37 -> 44900 | K37: ='8월'!E37 -> 0 | L37: ='9월'!E37 -> 0 | M37: ='10월'!E37 -> 60700 | N37: ='11월'!E37 -> 119000 | O37: ='12월'!E37 -> 0 | P37: ='26년 1월'!E37 -> 0 | Q37: ='26년 2월'!E37 -> 0
C38: 2. 기타식자재구입비 | E38: =SUM(F38:Q38) -> 0 | F38: ='3월'!E38 -> 0 | G38: ='4월'!E38 -> 0 | H38: ='5월'!E38 -> 0 | I38: ='6월'!E38 -> 0 | J38: ='7월'!E38 -> 0 | K38: ='8월'!E38 -> 0 | L38: ='9월'!E38 -> 0 | M38: ='10월'!E38 -> 0 | N38: ='11월'!E38 -> 0 | O38: ='12월'!E38 -> 0 | P38: ='26년 1월'!E38 -> 0 | Q38: ='26년 2월'!E38 -> 0
C39: 3. 위탁급식비 | E39: =SUM(F39:Q39) -> 54540550 | F39: ='3월'!E39 -> 4195210 | G39: ='4월'!E39 -> 6278320 | H39: ='5월'!E39 -> 11186800 | I39: ='6월'!E39 -> 1871000 | J39: ='7월'!E39 -> 4531790 | K39: ='8월'!E39 -> 4647790 | L39: ='9월'!E39 -> 8382840 | M39: ='10월'!E39 -> 2668880 | N39: ='11월'!E39 -> 6601450 | O39: ='12월'!E39 -> 1678000 | P39: ='26년 1월'!E39 -> 0 | Q39: ='26년 2월'!E39 -> 2498470
B40: 2. 보건관리비 | E40: =SUM(F40:Q40) -> 0 | F40: ='3월'!E40 -> 0 | G40: ='4월'!E40 -> 0 | H40: ='5월'!E40 -> 0 | I40: ='6월'!E40 -> 0 | J40: ='7월'!E40 -> 0 | K40: ='8월'!E40 -> 0 | L40: ='9월'!E40 -> 0 | M40: ='10월'!E40 -> 0 | N40: ='11월'!E40 -> 0 | O40: ='12월'!E40 -> 0 | P40: ='26년 1월'!E40 -> 0 | Q40: ='26년 2월'!E40 -> 0
C41: 1.학생과 교직원보건안전 | E41: =SUM(F41:Q41) -> 0 | F41: ='3월'!E41 -> 0 | G41: ='4월'!E41 -> 0 | H41: ='5월'!E41 -> 0 | I41: ='6월'!E41 -> 0 | J41: ='7월'!E41 -> 0 | K41: ='8월'!E41 -> 0 | L41: ='9월'!E41 -> 0 | M41: ='10월'!E41 -> 0 | N41: ='11월'!E41 -> 0 | O41: ='12월'!E41 -> 0 | P41: ='26년 1월'!E41 -> 0 | Q41: ='26년 2월'!E41 -> 0
D42: 1.의료비 | E42: =SUM(F42:Q42) -> 0 | F42: ='3월'!E42 -> 0 | G42: ='4월'!E42 -> 0 | H42: ='5월'!E42 -> 0 | I42: ='6월'!E42 -> 0 | J42: ='7월'!E42 -> 0 | K42: ='8월'!E42 -> 0 | L42: ='9월'!E42 -> 0 | M42: ='10월'!E42 -> 0 | N42: ='11월'!E42 -> 0 | O42: ='12월'!E42 -> 0 | P42: ='26년 1월'!E42 -> 0 | Q42: ='26년 2월'!E42 -> 0
...

Sheet 3월
B2: 2025학년도 3월 세출명세서(총회후 25년 2월 지출 포함)
A4: 과목 | F4: 내역
A5: 장 | B5: 관 | C5: 항 | D5: 목 | E5: 계
A6: 1. 인적자원운용비 | E6: =SUM(F6:Z6) -> 0
B7: 1. 교직원보수 | E7: =SUM(F7:Z7) -> 0
C8: 1. 교원보수 | E8: =SUM(F8:Z8) -> 0
D9: 1.기본급 | E9: =SUM(F9:AA9) -> 16850000 | F9: 상급박규현 | G9: 2550000 | H9: 상급김훈희 | I9: 2250000 | J9: 이영해 | K9: 2450000 | L9: 조수연 | M9: 2350000 | N9: 정효진 | O9: 2300000 | P9: 위윤이 | Q9: 2250000 | R9: 김미정 | S9: 2200000 | T9: 상급지도이성웅 | V9: 500000
D10: 2.기간제교원인건비 | E10: =SUM(F10:AW10) -> 10927000 | F10: 농사/텃밭관리서규섭 | G10: 499000 | H10: 목공김철희 | I10: 1122000 | J10: 프로젝트김학철 | K10: 132000 | L10: 2월요리이서영 | M10: 66000 | N10: 요리박도희 | O10: 132000 | P10: 정가박세은 | Q10: 99000 | R10: 미술심미용 | S10: 363000 | T10: 영어이정연 | U10: 792000 | V10: 도움수업이미순 | W10: 1089000 | X10: 체육공통교양이성웅 | Y10: 660000 | Z10: 체육이형남 | AA10: 759000 | AB10: 음악정유희 | AC10: 1386000 | AD10: 한국무용정혜원 | AE10: 132000 | AF10: 음악최지원 | AG10: 726000 | AH10: 수학하경희 | AI10: 396000 | AJ10: 영어한만형 | AK10: 330000 | AL10: 미술양호빈 | AM10: 594000 | AN10: 퍼머컬쳐임경수 | AO10: 132000 | AP10: 영어한종인 | AQ10: 264000 | AR10: 영어이슬아 | AS10: 627000 | AT10: 수공예김현숙 | AU10: 594000 | AV10: 공통교양김훈희 | AW10: 33000
C11: 2.교원제수당 | E11: =SUM(F11:AU11) -> 0
D12: 1.정액급식비 | E12: =SUM(F12:Z12) -> 1776000 | F12: 교사급식비 2월 | G12: 540000 | H12: 3월 | I12: 1236000
D13: 2.정근수당 | E13: =SUM(F13:Z13) -> 0
D14: 3.직급수당 | E14: =SUM(F14:Z14) -> 800000 | F14: 박규현 교장직급수당 | H14: 500000 | I14: 이영해 대표교사직급수당 | K14: 300000
D15: 4.상여금 | E15: =SUM(F15:Z15) -> 0
C16: 3. 직원보수 | E16: =SUM(F16:Z16) -> 0
D17: 1.기본급 | E17: =SUM(F17:Z17) -> 2550000 | F17: 살림김진숙 | G17: 2550000
D18: 2.기간제직원인건비 | E18: =SUM(F18:Z18) -> 1250000 | F18: 행정박미영 | G18: 1000000 | H18: 카리나생활지원금 | I18: 250000
C19: 4.직원제수당 | E19: =SUM(F19:Z19) -> 0
D20: 1.정액급식비 | E20: =SUM(F20:Z20) -> 360000 | F20: 교직원2명 김진숙 카리나 2월 | G20: 120000 | H20: 3월 | I20: 240000
D21: 2.상여금 | E21: =SUM(F21:Z21) -> 0
B22: 2.교직원 복지 및 역량 강화 | E22: =SUM(F22:Z22) -> 0
C23: 1.기관부담보험료 | E23: =SUM(F23:Z23) -> 0
D24: 1.연금및보험료 | E24: =SUM(F24:Z24) -> 1060910 | F24: 전임 사회보험료 | G24: 1060910
C25: 2.연수비 | E25: =SUM(F25:Z25) -> 0
D26: 1.자율연수 | E26: =SUM(F26:Z26) -> 421108 | F26: 자율연수 | G26: 96108 | H26: 75000 | I26: 50000 | J26: 100000 | K26: 100000
D27: 2.교사회멘토링 | E27: =SUM(F27:Z27) -> 0
C28: 3.업무추진비 | E28: =SUM(F28:Z28) -> 0
C29: 4.도서비 | E29: =SUM(F29:Z29) -> 148890 | F29: 수업참고서 | G29: 135890 | H29: 13000
C30: 5.교직원행사비 | E30: =SUM(F30:Z30) -> 0
C31: 6.포상비 | E31: =SUM(F31:Z31) -> 0
C32: 7.맞춤형복지비 | E32: =SUM(F32:Z32) -> 0
C33: 8.직급보조비 | E33: =SUM(F33:Z33) -> 0
C34: 9.성과상여금 | E34: =SUM(F34:Z34) -> 0
A35: 2.학생복지/교육격차해소 | E35: =SUM(F35:Z35) -> 0
B36: 1. 급식관리비 | E36: =SUM(F36:Z36) -> 0
C37: 1. 수용비 | E37: =SUM(F37:Z37) -> 538770 | F37: 과일 잡곡 등 | G37: 55650 | H37: 173360 | I37: 135560 | J37: 174200
C38: 2. 기타식자재구입비 | E38: =SUM(F38:Z38) -> 0
C39: 3. 위탁급식비 | E39: =SUM(F39:Z39) -> 4195210 | F39: 부모부담분 2~3월 | G39: 2174000 | H39: 급식지원금 지출 | I39: 2021210
B40: 2. 보건관리비 | E40: =SUM(F40:Z40) -> 0
C41: 1.학생과 교직원보건안전 | E41: =SUM(F41:Z41) -> 0
D42: 1.의료비 | E42: =SUM(F42:Z42) -> 0
...

Sheet 4월
B2: 2025학년도 4월 세출명세서
A4: 과목 | F4: 내역
A5: 장 | B5: 관 | C5: 항 | D5: 목 | E5: 계
A6: 1. 인적자원운용비 | E6: =SUM(F6:Z6) -> 0
B7: 1. 교직원보수 | E7: =SUM(F7:Z7) -> 0
C8: 1. 교원보수 | E8: =SUM(F8:Z8) -> 0
D9: 1.기본급 | E9: =SUM(F9:AA9) -> 16850000 | F9: 상급박규현 | G9: 2550000 | H9: 상급김훈희 | I9: 2250000 | J9: 이영해 | K9: 2450000 | L9: 조수연 | M9: 2350000 | N9: 정효진 | O9: 2300000 | P9: 위윤이 | Q9: 2250000 | R9: 김미정 | S9: 2200000 | T9: 상급지도이성웅 | V9: 500000
D10: 2.기간제교원인건비 | E10: =SUM(F10:AU10) -> 10795000 | F10: 농사/텃밭관리서규섭 | G10: 466000 | H10: 목공김철희 | I10: 792000 | J10: 프로젝트김학철 | K10: 264000 | L10: 요리박도희 | M10: 99000 | N10: 정가박세은 | O10: 165000 | P10: 미술심미용 | Q10: 330000 | R10: 영어이정연 | S10: 825000 | T10: 도움수업이미순 | U10: 990000 | V10: 이성웅체육공통교양 | W10: 858000 | X10: 체육이형남 | Y10: 693000 | Z10: 음악정유희 | AA10: 594000 | AB10: 한국무용정혜원 | AC10: 165000 | AD10: 음악최지원 | AE10: 792000 | AF10: 수학하경희 | AG10: 462000 | AH10: 영어한만형 | AI10: 396000 | AJ10: 미술양호빈 | AK10: 825000 | AL10: 퍼머컬쳐임경수 | AM10: 330000 | AN10: 영어한종인 | AO10: 297000 | AP10: 영어이슬아 | AQ10: 858000 | AR10: 벼농사 배준호 | AS10: 66000 | AT10: 수공예김현숙 | AU10: 528000
C11: 2.교원제수당 | E11: =SUM(F11:Z11) -> 0
D12: 1.정액급식비 | E12: =SUM(F12:Z12) -> 1362000 | F12: 교사급식비 | G12: 1362000
D13: 2.정근수당 | E13: =SUM(F13:Z13) -> 0
D14: 3.직급수당 | E14: =SUM(F14:Z14) -> 800000 | F14: 박규현 교장직급수당 | H14: 500000 | I14: 이영해 대표교사직급수당 | K14: 300000
D15: 4.상여금 | E15: =SUM(F15:Z15) -> 0
C16: 3. 직원보수 | E16: =SUM(F16:Z16) -> 0
D17: 1.기본급 | E17: =SUM(F17:Z17) -> 2550000 | F17: 살림김진숙 | G17: 2550000
D18: 2.기간제직원인건비 | E18: =SUM(F18:Z18) -> 1250000 | F18: 행정박미영 | G18: 1000000 | H18: 카리나생활지원금 | I18: 250000
C19: 4.직원제수당 | E19: =SUM(F19:Z19) -> 0
D20: 1.정액급식비 | E20: =SUM(F20:Z20) -> 264000 | F20: 교직원2명 김진숙 카리나 | G20: 264000
D21: 2.상여금 | E21: =SUM(F21:Z21) -> 0
B22: 2.교직원 복지 및 역량 강화 | E22: =SUM(F22:Z22) -> 0
C23: 1.기관부담보험료 | E23: =SUM(F23:Z23) -> 0
D24: 1.연금및보험료 | E24: =SUM(F24:Z24) -> 1510110 | F24: 전임 사회보험료 | G24: 1510110
C25: 2.연수비 | E25: =SUM(F25:Z25) -> 0
D26: 1.자율연수 | E26: =SUM(F26:Z26) -> 240000 | F26: 자율연수 | G26: 100000 | H26: 40000 | I26: 100000
D27: 2.교사회멘토링 | E27: =SUM(F27:Z27) -> 0
C28: 3.업무추진비 | E28: =SUM(F28:Z28) -> 0
C29: 4.도서비 | E29: =SUM(F29:Z29) -> 28000 | F29: 연구도서 | G29: 28000
C30: 5.교직원행사비 | E30: =SUM(F30:Z30) -> 0
C31: 6.포상비 | E31: =SUM(F31:Z31) -> 0
C32: 7.맞춤형복지비 | E32: =SUM(F32:Z32) -> 0
C33: 8.직급보조비 | E33: =SUM(F33:Z33) -> 0
C34: 9.성과상여금 | E34: =SUM(F34:Z34) -> 0
A35: 2.학생복지/교육격차해소 | E35: =SUM(F35:Z35) -> 0
B36: 1. 급식관리비 | E36: =SUM(F36:Z36) -> 0
C37: 1. 수용비 | E37: =SUM(F37:Z37) -> 233180 | F37: 과일 잡곡 등 | G37: 145140 | H37: 88040
C38: 2. 기타식자재구입비 | E38: =SUM(F38:Z38) -> 0
C39: 3. 위탁급식비 | E39: =SUM(F39:Z39) -> 6278320 | F39: 부모부담분 | G39: 1660000 | H39: 급식지원금 지출 | I39: 4618320
B40: 2. 보건관리비 | E40: =SUM(F40:Z40) -> 0
C41: 1.학생과 교직원보건안전 | E41: =SUM(F41:Z41) -> 0
D42: 1.의료비 | E42: =SUM(F42:Z42) -> 0
...

Sheet 5월
B2: 2025학년도 5월 세출명세서
A4: 과목 | F4: 내역
A5: 장 | B5: 관 | C5: 항 | D5: 목 | E5: 계
A6: 1. 인적자원운용비 | E6: =SUM(F6:Z6) -> 0
B7: 1. 교직원보수 | E7: =SUM(F7:Z7) -> 0
C8: 1. 교원보수 | E8: =SUM(F8:Z8) -> 0
D9: 1.기본급 | E9: =SUM(F9:AA9) -> 16850000 | F9: 상급박규현 | G9: 2550000 | H9: 상급김훈희 | I9: 2250000 | J9: 이영해 | K9: 2450000 | L9: 조수연 | M9: 2350000 | N9: 정효진 | O9: 2300000 | P9: 위윤이 | Q9: 2250000 | R9: 김미정 | S9: 2200000 | T9: 상급지도이성웅 | V9: 500000
D10: 2.기간제교원인건비 | E10: =SUM(F10:AU10) -> 8782000 | F10: 농사/텃밭관리서규섭 | G10: 466000 | H10: 프로젝트김학철 | I10: 198000 | J10: 퍼머컬쳐임경수 | K10: 198000 | L10: 상급수학하경희 | M10: 297000 | N10: 미술심미용 | O10: 198000 | P10: 한국무용정혜원 | Q10: 99000 | R10: 정가박세은 | S10: 99000 | T10: 영어한만형 | U10: 264000 | V10: 영어한종인 | W10: 165000 | X10: 영어이슬아 | Y10: 528000 | Z10: 영어이정연 | AA10: 528000 | AB10: 체육이형남 | AC10: 594000 | AD10: 수공예김복순 | AE10: 396000 | AF10: 수공예김현숙 | AG10: 363000 | AH10: 요리박도희 | AI10: 66000 | AJ10: 음악최지원 | AK10: 660000 | AL10: 이성웅체육공통교양이성웅 | AM10: 561000 | AN10: 미술양호빈 | AO10: 1353000 | AP10: 도움수업이미순 | AQ10: 627000 | AR10: 목공김철희 | AS10: 528000 | AT10: 음악정유희 | AU10: 594000
C11: 2.교원제수당 | E11: =SUM(F11:Z11) -> 0
D12: 1.정액급식비 | E12: =SUM(F12:Z12) -> 1020000 | F12: 교사급식비 | G12: 1020000
D13: 2.정근수당 | E13: =SUM(F13:Z13) -> 0
D14: 3.직급수당 | E14: =SUM(F14:Z14) -> 800000 | F14: 박규현 교장직급수당 | H14: 500000 | I14: 이영해 대표교사직급수당 | K14: 300000
D15: 4.상여금 | E15: =SUM(F15:Z15) -> 0
C16: 3. 직원보수 | E16: =SUM(F16:Z16) -> 0
D17: 1.기본급 | E17: =SUM(F17:Z17) -> 2550000 | F17: 살림김진숙 | G17: 2550000
D18: 2.기간제직원인건비 | E18: =SUM(F18:Z18) -> 1250000 | F18: 행정박미영 | G18: 1000000 | H18: 카리나생활지원금 | I18: 250000
C19: 4.직원제수당 | E19: =SUM(F19:Z19) -> 0
D20: 1.정액급식비 | E20: =SUM(F20:Z20) -> 240000 | F20: 교직원2명 김진숙 카리나 | G20: 240000
D21: 2.상여금 | E21: =SUM(F21:Z21) -> 0
B22: 2.교직원 복지 및 역량 강화 | E22: =SUM(F22:Z22) -> 0
C23: 1.기관부담보험료 | E23: =SUM(F23:Z23) -> 0
D24: 1.연금및보험료 | E24: =SUM(F24:Z24) -> 1292640 | F24: 전임 사회보험료 | G24: 1292640
C25: 2.연수비 | E25: =SUM(F25:Z25) -> 0
D26: 1.자율연수 | E26: =SUM(F26:Z26) -> 40000 | F26: 자율연수 | G26: 40000
D27: 2.교사회멘토링 | E27: =SUM(F27:Z27) -> 0
C28: 3.업무추진비 | E28: =SUM(F28:Z28) -> 0
C29: 4.도서비 | E29: =SUM(F29:Z29) -> 0
C30: 5.교직원행사비 | E30: =SUM(F30:Z30) -> 0
C31: 6.포상비 | E31: =SUM(F31:Z31) -> 0
C32: 7.맞춤형복지비 | E32: =SUM(F32:Z32) -> 0
C33: 8.직급보조비 | E33: =SUM(F33:Z33) -> 0
C34: 9.성과상여금 | E34: =SUM(F34:Z34) -> 0
A35: 2.학생복지/교육격차해소 | E35: =SUM(F35:Z35) -> 0
B36: 1. 급식관리비 | E36: =SUM(F36:Z36) -> 0
C37: 1. 수용비 | E37: =SUM(F37:Z37) -> 751910 | F37: 과일 잡곡 등 | G37: 119300 | H37: 61100 | I37: 172600 | J37: 85640 | K37: 75000 | L37: 101900 | M37: 63920 | N37: 72450
C38: 2. 기타식자재구입비 | E38: =SUM(F38:Z38) -> 0
C39: 3. 위탁급식비 | E39: =SUM(F39:Z39) -> 11186800 | F39: 부모부담분 | G39: 1442000 | H39: 4월 급식지원금 지출 | I39: 5665360 | J39: 5월 급식비 지원금 지출 | K39: 4079440
B40: 2. 보건관리비 | E40: =SUM(F40:Z40) -> 0
C41: 1.학생과 교직원보건안전 | E41: =SUM(F41:Z41) -> 0
D42: 1.의료비 | E42: =SUM(F42:Z42) -> 0
...

Sheet 6월
B2: 2025학년도 6월 세출명세서
A4: 과목 | F4: 내역
A5: 장 | B5: 관 | C5: 항 | D5: 목 | E5: 계
A6: 1. 인적자원운용비 | E6: =SUM(F6:Z6) -> 0
B7: 1. 교직원보수 | E7: =SUM(F7:Z7) -> 0
C8: 1. 교원보수 | D8: 수수료2500원 | E8: =SUM(F8:Z8) -> 0
D9: 1.기본급 | E9: =SUM(F9:AA9) -> 16850000 | F9: 상급박규현 | G9: 2550000 | H9: 상급김훈희 | I9: 2250000 | J9: 이영해 | K9: 2450000 | L9: 조수연 | M9: 2350000 | N9: 정효진 | O9: 2300000 | P9: 위윤이 | Q9: 2250000 | R9: 김미정 | S9: 2200000 | T9: 상급지도이성웅 | V9: 500000
D10: 2.기간제교원인건비 | E10: =SUM(F10:AU10) -> 11306760 | F10: 농사/텃밭관리서규섭 | G10: 466000 | H10: 영어이슬아 | I10: 693000 | J10: 영어이정연 | K10: 726000 | L10: 체육이형남 | M10: 825000 | N10: 수공예김복순 | O10: 660000 | P10: 수공예김현숙 | Q10: 528000 | R10: 요리박도희 | S10: 99000 | T10: 음악 최지원 | U10: 693000 | V10: 프로젝트김학철 | W10: 330000 | X10: 퍼머컬쳐임경수 | Y10: 264000 | Z10: 상급수학하경희 | AA10: 429000 | AB10: 미술심미용 | AC10: 264000 | AD10: 무용정혜원 | AE10: 99000 | AF10: 정가박세은 | AG10: 99000 | AH10: 상급영어한만형 | AI10: 297000 | AJ10: 상급영어한종인 | AK10: 198000 | AL10: 체육사회이성웅 | AM10: 858000 | AN10: 미술양호빈 | AO10: 1485000 | AP10: 도움수업이미순 | AQ10: 924000 | AR10: 목공김철희 | AS10: 643760 | AT10: 음악정유희 | AU10: 726000
C11: 2.교원제수당 | E11: =SUM(F11:Z11) -> 0
D12: 1.정액급식비 | E12: =SUM(F12:Z12) -> 1416000 | F12: 교사급식비 | G12: 1416000
D13: 2.정근수당 | E13: =SUM(F13:Z13) -> 0
D14: 3.직급수당 | E14: =SUM(F14:Z14) -> 800000 | F14: 박규현 교장직급수당 | H14: 500000 | I14: 이영해 대표교사직급수당 | K14: 300000
D15: 4.상여금 | E15: =SUM(F15:Z15) -> 0
C16: 3. 직원보수 | E16: =SUM(F16:Z16) -> 0
D17: 1.기본급 | E17: =SUM(F17:Z17) -> 2550000 | F17: 살림김진숙 | G17: 2550000
D18: 2.기간제직원인건비 | E18: =SUM(F18:Z18) -> 1250000 | F18: 행정박미영 | G18: 1000000 | H18: 카리나생활지원금 | I18: 250000
C19: 4.직원제수당 | E19: =SUM(F19:Z19) -> 0
D20: 1.정액급식비 | E20: =SUM(F20:Z20) -> 276000 | F20: 교직원2명 김진숙 카리나 | H20: 276000
D21: 2.상여금 | E21: =SUM(F21:Z21) -> 0
B22: 2.교직원 복지 및 역량 강화 | E22: =SUM(F22:Z22) -> 0
C23: 1.기관부담보험료 | E23: =SUM(F23:Z23) -> 0
D24: 1.연금및보험료 | E24: =SUM(F24:Z24) -> 1292640 | F24: 전임 사회보험료 | G24: 1292640
C25: 2.연수비 | E25: =SUM(F25:Z25) -> 0
D26: 1.자율연수 | E26: =SUM(F26:Z26) -> 37500 | F26: 자율연수 | G26: 37500
D27: 2.교사회멘토링 | E27: =SUM(F27:Z27) -> 0
C28: 3.업무추진비 | E28: =SUM(F28:Z28) -> 0
C29: 4.도서비 | E29: =SUM(F29:Z29) -> 0
C30: 5.교직원행사비 | E30: =SUM(F30:Z30) -> 0
C31: 6.포상비 | E31: =SUM(F31:Z31) -> 0
C32: 7.맞춤형복지비 | E32: =SUM(F32:Z32) -> 0
C33: 8.직급보조비 | E33: =SUM(F33:Z33) -> 0
C34: 9.성과상여금 | E34: =SUM(F34:Z34) -> 0
A35: 2.학생복지/교육격차해소 | E35: =SUM(F35:Z35) -> 0
B36: 1. 급식관리비 | E36: =SUM(F36:Z36) -> 0
C37: 1. 수용비 | E37: =SUM(F37:Z37) -> 0 | F37: 과일 잡곡 등
C38: 2. 기타식자재구입비 | E38: =SUM(F38:Z38) -> 0
C39: 3. 위탁급식비 | E39: =SUM(F39:Z39) -> 1871000 | F39: 부모부담분 | G39: 1776000 | H39: 급식비납부지연분추가송금 | I39: 95000 | J39: 급식지원금 지출
B40: 2. 보건관리비 | E40: =SUM(F40:Z40) -> 0
C41: 1.학생과 교직원보건안전 | E41: =SUM(F41:Z41) -> 0
D42: 1.의료비 | E42: =SUM(F42:Z42) -> 0
...

Sheet 7월
B2: 2025학년도 7월 세출명세서
A4: 과목 | F4: 내역
A5: 장 | B5: 관 | C5: 항 | D5: 목 | E5: 계
A6: 1. 인적자원운용비 | E6: =SUM(F6:Z6) -> 0
B7: 1. 교직원보수 | E7: =SUM(F7:Z7) -> 0
C8: 1. 교원보수 | E8: =SUM(F8:Z8) -> 0
D9: 1.기본급 | E9: =SUM(F9:AA9) -> 16850000 | F9: 상급박규현 | G9: 2550000 | H9: 상급김훈희 | I9: 2250000 | J9: 이영해 | K9: 2450000 | L9: 조수연 | M9: 2350000 | N9: 정효진 | O9: 2300000 | P9: 위윤이 | Q9: 2250000 | R9: 김미정 | S9: 2200000 | T9: 상급지도이성웅 | V9: 500000
D10: 2.기간제교원인건비 | E10: =SUM(F10:AQ10) -> 1868240 | F10: 농사/텃밭관리서규섭 | G10: 400000 | H10: 공통교양이성웅 | I10: 132000 | J10: 도움수업이미순 | K10: 99000 | L10: 목공김철희 | M10: 16240 | N10: 영어이슬아 | O10: 99000 | P10: 영어이정연 | Q10: 66000 | R10: 요리박도희 | S10: 33000 | T10: 미술양호빈 | U10: 297000 | V10: 영어한종인 | W10: 33000 | X10: 체육이형남 | Y10: 99000 | Z10: 무용장혜원 | AA10: 33000 | AB10: 정가박세은 | AC10: 33000 | AD10: 음악정유희 | AE10: 198000 | AF10: 퍼머컬쳐임경수 | AG10: 66000 | AH10: 미술심미용 | AI10: 66000 | AJ10: 상급수학하경희 | AK10: 66000 | AL10: 수공예김현숙 | AM10: 132000
C11: 2.교원제수당 | E11: =SUM(F11:Z11) -> 0
D12: 1.정액급식비 | E12: =SUM(F12:Z12) -> 0 | F12: 교사급식비
D13: 2.정근수당 | E13: =SUM(F13:Z13) -> 0
D14: 3.직급수당 | E14: =SUM(F14:Z14) -> 800000 | F14: 박규현 교장직급수당 | H14: 500000 | I14: 이영해 대표교사직급수당 | K14: 300000
D15: 4.상여금 | E15: =SUM(F15:Z15) -> 0
C16: 3. 직원보수 | E16: =SUM(F16:Z16) -> 0
D17: 1.기본급 | E17: =SUM(F17:Z17) -> 2550000 | F17: 살림김진숙 | G17: 2550000
D18: 2.기간제직원인건비 | E18: =SUM(F18:Z18) -> 1250000 | F18: 행정박미영 | G18: 1000000 | H18: 카리나생활지원금 | I18: 250000
C19: 4.직원제수당 | E19: =SUM(F19:Z19) -> 0
D20: 1.정액급식비 | E20: =SUM(F20:Z20) -> 0 | F20: 교직원2명 김진숙 카리나
D21: 2.상여금 | E21: =SUM(F21:Z21) -> 0
B22: 2.교직원 복지 및 역량 강화 | E22: =SUM(F22:Z22) -> 0
C23: 1.기관부담보험료 | E23: =SUM(F23:Z23) -> 0
D24: 1.연금및보험료 | E24: =SUM(F24:Z24) -> 1406150 | F24: 전임 사회보험료 | G24: 1406150
C25: 2.연수비 | E25: =SUM(F25:Z25) -> 0
D26: 1.자율연수 | E26: =SUM(F26:Z26) -> 0 | F26: 자율연수
D27: 2.교사회멘토링 | E27: =SUM(F27:Z27) -> 0
C28: 3.업무추진비 | E28: =SUM(F28:Z28) -> 0
C29: 4.도서비 | E29: =SUM(F29:Z29) -> 0
C30: 5.교직원행사비 | E30: =SUM(F30:Z30) -> 0
C31: 6.포상비 | E31: =SUM(F31:Z31) -> 0
C32: 7.맞춤형복지비 | E32: =SUM(F32:Z32) -> 0
C33: 8.직급보조비 | E33: =SUM(F33:Z33) -> 0
C34: 9.성과상여금 | E34: =SUM(F34:Z34) -> 0
A35: 2.학생복지/교육격차해소 | E35: =SUM(F35:Z35) -> 0
B36: 1. 급식관리비 | E36: =SUM(F36:Z36) -> 0
C37: 1. 수용비 | E37: =SUM(F37:Z37) -> 44900 | F37: 과일 잡곡 등 | G37: 44900
C38: 2. 기타식자재구입비 | E38: =SUM(F38:Z38) -> 0
C39: 3. 위탁급식비 | E39: =SUM(F39:Z39) -> 4531790 | F39: 부모부담분 | H39: 급식지원금 지출 | I39: 4531790
B40: 2. 보건관리비 | E40: =SUM(F40:Z40) -> 0
C41: 1.학생과 교직원보건안전 | E41: =SUM(F41:Z41) -> 0
D42: 1.의료비 | E42: =SUM(F42:Z42) -> 0
...

Sheet 8월
B2: 2025학년도 8월 세출명세서
A4: 과목 | F4: 내역
A5: 장 | B5: 관 | C5: 항 | D5: 목 | E5: 계
A6: 1. 인적자원운용비 | E6: =SUM(F6:Z6) -> 0
B7: 1. 교직원보수 | E7: =SUM(F7:Z7) -> 0
C8: 1. 교원보수 | E8: =SUM(F8:Z8) -> 0
D9: 1.기본급 | E9: =SUM(F9:AA9) -> 16850000 | F9: 상급박규현 | G9: 2550000 | H9: 상급김훈희 | I9: 2250000 | J9: 이영해 | K9: 2450000 | L9: 조수연 | M9: 2350000 | N9: 정효진 | O9: 2300000 | P9: 위윤이 | Q9: 2250000 | R9: 김미정 | S9: 2200000 | T9: 상급지도이성웅 | V9: 500000
D10: 2.기간제교원인건비 | E10: =SUM(F10:AO10) -> 1885000 | F10: 농사/텃밭관리서규섭 | G10: 400000 | H10: 체육이성웅 | I10: 132000 | J10: 영어이슬아 | K10: 165000 | L10: 영어이정연 | M10: 132000 | N10: 체육이형남 | O10: 99000 | P10: 농사서규섭 | Q10: 33000 | R10: 수공예최은영 | S10: 132000 | T10: 음악 정유희 | U10: 198000 | V10: 음악최지원 | W10: 198000 | X10: 목공김철희 | Y10: 198000 | Z10: 퍼머컬쳐 임경수 | AA10: 66000 | AB10: 상급수학하경희 | AC10: 66000 | AD10: 무용정혜원 | AE10: 33000 | AF10: 정가 박세은 | AG10: 33000
C11: 2.교원제수당 | E11: =SUM(F11:Z11) -> 0
D12: 1.정액급식비 | E12: =SUM(F12:Z12) -> 0 | F12: 교사급식비
D13: 2.정근수당 | E13: =SUM(F13:Z13) -> 0
D14: 3.직급수당 | E14: =SUM(F14:Z14) -> 800000 | F14: 박규현 교장직급수당 | H14: 500000 | I14: 이영해 대표교사직급수당 | K14: 300000
D15: 4.상여금 | E15: =SUM(F15:Z15) -> 0
C16: 3. 직원보수 | E16: =SUM(F16:Z16) -> 0
D17: 1.기본급 | E17: =SUM(F17:Z17) -> 2550000 | F17: 살림김진숙 | G17: 2550000
D18: 2.기간제직원인건비 | E18: =SUM(F18:Z18) -> 1250000 | F18: 행정박미영 | G18: 1000000 | H18: 카리나생활지원금 | I18: 250000
C19: 4.직원제수당 | E19: =SUM(F19:Z19) -> 0
D20: 1.정액급식비 | E20: =SUM(F20:Z20) -> 0 | F20: 교직원2명 김진숙 카리나
D21: 2.상여금 | E21: =SUM(F21:Z21) -> 0
B22: 2.교직원 복지 및 역량 강화 | E22: =SUM(F22:Z22) -> 0
C23: 1.기관부담보험료 | E23: =SUM(F23:Z23) -> 0
D24: 1.연금및보험료 | E24: =SUM(F24:Z24) -> 1404670 | F24: 전임 사회보험료 | G24: 1404670
C25: 2.연수비 | E25: =SUM(F25:Z25) -> 0
D26: 1.자율연수 | E26: =SUM(F26:Z26) -> 0 | F26: 자율연수
D27: 2.교사회멘토링 | E27: =SUM(F27:Z27) -> 0
C28: 3.업무추진비 | E28: =SUM(F28:Z28) -> 0
C29: 4.도서비 | E29: =SUM(F29:Z29) -> 0
C30: 5.교직원행사비 | E30: =SUM(F30:Z30) -> 0
C31: 6.포상비 | E31: =SUM(F31:Z31) -> 0
C32: 7.맞춤형복지비 | E32: =SUM(F32:Z32) -> 0
C33: 8.직급보조비 | E33: =SUM(F33:Z33) -> 0
C34: 9.성과상여금 | E34: =SUM(F34:Z34) -> 0
A35: 2.학생복지/교육격차해소 | E35: =SUM(F35:Z35) -> 0
B36: 1. 급식관리비 | E36: =SUM(F36:Z36) -> 0
C37: 1. 수용비 | E37: =SUM(F37:Z37) -> 0 | F37: 과일 잡곡 등
C38: 2. 기타식자재구입비 | E38: =SUM(F38:Z38) -> 0
C39: 3. 위탁급식비 | E39: =SUM(F39:Z39) -> 4647790 | F39: 부모부담분 | H39: 급식지원금 지출 | I39: 4647790
B40: 2. 보건관리비 | E40: =SUM(F40:Z40) -> 0
C41: 1.학생과 교직원보건안전 | E41: =SUM(F41:Z41) -> 0
D42: 1.의료비 | E42: =SUM(F42:Z42) -> 0
...

Sheet 9월
B2: 2025학년도 9월 세출명세서
A4: 과목 | F4: 내역
A5: 장 | B5: 관 | C5: 항 | D5: 목 | E5: 계
A6: 1. 인적자원운용비 | E6: =SUM(F6:Z6) -> 0
B7: 1. 교직원보수 | E7: =SUM(F7:Z7) -> 0
C8: 1. 교원보수 | E8: =SUM(F8:Z8) -> 0
D9: 1.기본급 | E9: =SUM(F9:AA9) -> 16850000 | F9: 상급박규현 | G9: 2550000 | H9: 상급김훈희 | I9: 2250000 | J9: 이영해 | K9: 2450000 | L9: 조수연 | M9: 2350000 | N9: 정효진 | O9: 2300000 | P9: 위윤이 | Q9: 2250000 | R9: 김미정 | S9: 2200000 | T9: 상급지도이성웅 | V9: 500000
D10: 2.기간제교원인건비 | E10: =SUM(F10:AY10) -> 10498000 | F10: 농사/텃밭관리서규섭 | G10: 400000 | H10: 농사서규섭 | I10: 99000 | J10: 체육사회이성웅 | K10: 990000 | L10: 도움수업이미순 | M10: 858000 | N10: 목공김철희 | O10: 660000 | P10: 음악정유희 | Q10: 660000 | R10: 영어이슬아 | S10: 759000 | T10: 영어이정연 | U10: 132000 | V10: 체육이형남 | W10: 924000 | X10: 수공예김복순 | Y10: 660000 | Z10: 수공예최은영 | AA10: 858000 | AB10: 요리박도희 | AC10: 165000 | AD10: 음악최지원 | AE10: 660000 | AF10: 프로젝트김학철 | AG10: 330000 | AH10: 퍼머컬쳐임경수 | AI10: 66000 | AJ10: 상급수학하경희 | AK10: 429000 | AL10: 미술심미용 | AM10: 330000 | AN10: 한국무용정혜원 | AO10: 165000 | AP10: 정가박세은 | AQ10: 165000 | AR10: 영어한종인 | AS10: 660000 | AT10: 김영백가죽공예 | AU10: 396000 | AV10: 이종진상급퍼머컬쳐 | AW10: 66000 | AX10: 김성규 상급퍼머컹ㄹ쳐 | AY10: 66000
C11: 2.교원제수당 | E11: =SUM(F11:Z11) -> 0
D12: 1.정액급식비 | E12: =SUM(F12:Z12) -> 1638000 | F12: 교사급식비 8월분 | G12: 300000 | H12: 9월분 | I12: 1338000
D13: 2.정근수당 | E13: =SUM(F13:Z13) -> 0
D14: 3.직급수당 | E14: =SUM(F14:Z14) -> 800000 | F14: 박규현 교장직급수당 | H14: 500000 | I14: 이영해 대표교사직급수당 | K14: 300000
D15: 4.상여금 | E15: =SUM(F15:Z15) -> 0
C16: 3. 직원보수 | E16: =SUM(F16:Z16) -> 0
D17: 1.기본급 | E17: =SUM(F17:Z17) -> 2550000 | F17: 살림김진숙 | G17: 2550000
D18: 2.기간제직원인건비 | E18: =SUM(F18:Z18) -> 1250000 | F18: 행정박미영 | G18: 1000000 | H18: 타미생활지원금 | I18: 250000
C19: 4.직원제수당 | E19: =SUM(F19:Z19) -> 0
D20: 1.정액급식비 | E20: =SUM(F20:Z20) -> 324000 | F20: 교직원2명 김진숙 타미 8월 | H20: 60000 | I20: 9월분 | J20: 264000
D21: 2.상여금 | E21: =SUM(F21:Z21) -> 0
B22: 2.교직원 복지 및 역량 강화 | E22: =SUM(F22:Z22) -> 0
C23: 1.기관부담보험료 | E23: =SUM(F23:Z23) -> 0
D24: 1.연금및보험료 | E24: =SUM(F24:Z24) -> 1404670 | F24: 전임 사회보험료 | G24: 1404670
C25: 2.연수비 | E25: =SUM(F25:Z25) -> 0
D26: 1.자율연수 | E26: =SUM(F26:Z26) -> 70000 | F26: 자율연수 | G26: 70000
D27: 2.교사회멘토링 | E27: =SUM(F27:Z27) -> 0
C28: 3.업무추진비 | E28: =SUM(F28:Z28) -> 0
C29: 4.도서비 | E29: =SUM(F29:Z29) -> 0
C30: 5.교직원행사비 | E30: =SUM(F30:Z30) -> 0
C31: 6.포상비 | E31: =SUM(F31:Z31) -> 0
C32: 7.맞춤형복지비 | E32: =SUM(F32:Z32) -> 0
C33: 8.직급보조비 | E33: =SUM(F33:Z33) -> 0
C34: 9.성과상여금 | E34: =SUM(F34:Z34) -> 0
A35: 2.학생복지/교육격차해소 | E35: =SUM(F35:Z35) -> 0
B36: 1. 급식관리비 | E36: =SUM(F36:Z36) -> 0
C37: 1. 수용비 | E37: =SUM(F37:Z37) -> 0 | F37: 과일 잡곡 등
C38: 2. 기타식자재구입비 | E38: =SUM(F38:Z38) -> 0
C39: 3. 위탁급식비 | E39: =SUM(F39:Z39) -> 8382840 | F39: 부모부담분 | G39: 2132000 | H39: 급식지원금 지출 8월분 | J39: 964120 | K39: 9월분 | L39: 5286720
B40: 2. 보건관리비 | E40: =SUM(F40:Z40) -> 0
C41: 1.학생과 교직원보건안전 | E41: =SUM(F41:Z41) -> 0
D42: 1.의료비 | E42: =SUM(F42:Z42) -> 0
...

Sheet 10월
B2: 2025학년도 10월 세출명세서
A4: 과목 | F4: 내역
A5: 장 | B5: 관 | C5: 항 | D5: 목 | E5: 계
A6: 1. 인적자원운용비 | E6: =SUM(F6:Z6) -> 0
B7: 1. 교직원보수 | E7: =SUM(F7:Z7) -> 0
C8: 1. 교원보수 | E8: =SUM(F8:Z8) -> 0
D9: 1.기본급 | E9: =SUM(F9:AA9) -> 16850000 | F9: 상급박규현 | G9: 2550000 | H9: 상급김훈희 | I9: 2250000 | J9: 이영해 | K9: 2450000 | L9: 조수연 | M9: 2350000 | N9: 정효진 | O9: 2300000 | P9: 위윤이 | Q9: 2250000 | R9: 김미정 | S9: 2200000 | T9: 상급지도이성웅 | V9: 500000
D10: 2.기간제교원인건비 | E10: =SUM(F10:AY10) -> 8256160 | F10: 농사/텃밭관리서규섭 | G10: 466000 | H10: 사람책노국환 | I10: 66000 | J10: 사람책이병은 | K10: 66000 | L10: 사람책변영미 | M10: 66000 | N10: 사람책정운상 | O10: 66000 | P10: 영어 이슬아 | Q10: 561000 | R10: 체육이형남 | S10: 528000 | T10: 수공예김복순 | U10: 264000 | V10: 수공예최은영 | W10: 594000 | X10: 요리박도희 | Y10: 66000 | Z10: 음악최지원 | AA10: 594000 | AB10: 프로젝트김학철 | AC10: 198000 | AD10: 퍼머컬쳐임경수 | AE10: 132000 | AF10: 상급수학하경희 | AG10: 363000 | AH10: 미술심미용 | AI10: 462000 | AJ10: 한국무용정혜원 | AK10: 99000 | AL10: 정가박세은 | AM10: 99000 | AN10: 영어한종인 | AO10: 495000 | AP10: 사회체육이성웅 | AQ10: 660000 | AR10: 도움수업이미순 | AS10: 792000 | AT10: 목공김철희 | AU10: 561000 | AV10: 음악정유희 | AW10: 594000 | AX10: 미술양호빈 | AY10: 464160
C11: 2.교원제수당 | E11: =SUM(F11:Z11) -> 0
D12: 1.정액급식비 | E12: =SUM(F12:Z12) -> 1020000 | F12: 교사급식비 | G12: 1020000
D13: 2.정근수당 | E13: =SUM(F13:Z13) -> 0
D14: 3.직급수당 | E14: =SUM(F14:Z14) -> 800000 | F14: 박규현 교장직급수당 | H14: 500000 | I14: 이영해 대표교사직급수당 | K14: 300000
D15: 4.상여금 | E15: =SUM(F15:Z15) -> 1600000 | F15: 전임8명 추석상여금 | G15: 1600000
C16: 3. 직원보수 | E16: =SUM(F16:Z16) -> 0
D17: 1.기본급 | E17: =SUM(F17:Z17) -> 2550000 | F17: 살림김진숙 | G17: 2550000
D18: 2.기간제직원인건비 | E18: =SUM(F18:Z18) -> 1250000 | F18: 행정박미영 | G18: 1000000 | H18: 타마라생활지원금 | I18: 250000
C19: 4.직원제수당 | E19: =SUM(F19:Z19) -> 0
D20: 1.정액급식비 | E20: =SUM(F20:Z20) -> 204000 | F20: 교직원2명 김진숙 카리나 | H20: 204000
D21: 2.상여금 | E21: =SUM(F21:Z21) -> 200000 | F21: 추석상여 | G21: 200000
B22: 2.교직원 복지 및 역량 강화 | E22: =SUM(F22:Z22) -> 0
C23: 1.기관부담보험료 | E23: =SUM(F23:Z23) -> 0
D24: 1.연금및보험료 | E24: =SUM(F24:Z24) -> 1900180 | F24: 전임 사회보험료 | G24: 1900180
C25: 2.연수비 | E25: =SUM(F25:Z25) -> 0
D26: 1.자율연수 | E26: =SUM(F26:Z26) -> 0 | F26: 자율연수
D27: 2.교사회멘토링 | E27: =SUM(F27:Z27) -> 0
C28: 3.업무추진비 | E28: =SUM(F28:Z28) -> 0
C29: 4.도서비 | E29: =SUM(F29:Z29) -> 0
C30: 5.교직원행사비 | E30: =SUM(F30:Z30) -> 0
C31: 6.포상비 | E31: =SUM(F31:Z31) -> 0
C32: 7.맞춤형복지비 | E32: =SUM(F32:Z32) -> 0
C33: 8.직급보조비 | E33: =SUM(F33:Z33) -> 0
C34: 9.성과상여금 | E34: =SUM(F34:Z34) -> 0
A35: 2.학생복지/교육격차해소 | E35: =SUM(F35:Z35) -> 0
B36: 1. 급식관리비 | E36: =SUM(F36:Z36) -> 0
C37: 1. 수용비 | E37: =SUM(F37:Z37) -> 60700 | F37: 과일 잡곡 등 | G37: 60700
C38: 2. 기타식자재구입비 | E38: =SUM(F38:Z38) -> 0
C39: 3. 위탁급식비 | E39: =SUM(F39:Z39) -> 2668880 | F39: 부모부담분 | G39: 1364000 | H39: 9월 급식지원금 지출 | I39: 1304880
B40: 2. 보건관리비 | E40: =SUM(F40:Z40) -> 0
C41: 1.학생과 교직원보건안전 | E41: =SUM(F41:Z41) -> 0
D42: 1.의료비 | E42: =SUM(F42:Z42) -> 0
...

Sheet 11월
B2: 2025학년도 11월 세출명세서
A4: 과목 | F4: 내역
A5: 장 | B5: 관 | C5: 항 | D5: 목 | E5: 계
A6: 1. 인적자원운용비 | E6: =SUM(F6:Z6) -> 0
B7: 1. 교직원보수 | E7: =SUM(F7:Z7) -> 0
C8: 1. 교원보수 | E8: =SUM(F8:Z8) -> 0
D9: 1.기본급 | E9: =SUM(F9:AA9) -> 16850000 | F9: 상급박규현 | G9: 2550000 | H9: 상급김훈희 | I9: 2250000 | J9: 이영해 | K9: 2450000 | L9: 조수연 | M9: 2350000 | N9: 정효진 | O9: 2300000 | P9: 위윤이 | Q9: 2250000 | R9: 김미정 | S9: 2200000 | T9: 상급지도이성웅 | V9: 500000
D10: 2.기간제교원인건비 | E10: =SUM(F10:BA10) -> 10838320 | F10: 농사/텃밭관리서규섭 | G10: 266000 | H10: 영어이슬아 | I10: 660000 | J10: 도움수업이미순 | K10: 858000 | L10: 사회/체육이성웅 | M10: 759000 | N10: 체육이형남 | O10: 800000 | P10: 수공예김복순 | Q10: 594000 | R10: 수공예최은영 | S10: 660000 | T10: 요리박도희 | U10: 132000 | V10: 음악정유희 | W10: 792000 | X10: 음악최지원 | Y10: 627000 | Z10: 목공김철희 | AA10: 561000 | AB10: 프로젝트김학철 | AC10: 264000 | AD10: 퍼머컬쳐임경수 | AE10: 66000 | AF10: 수학하경희 | AG10: 396000 | AH10: 미술심미용 | AI10: 726000 | AJ10: 무용정혜원 | AK10: 99000 | AL10: 정가박세은 | AM10: 132000 | AN10: 영어한종인 | AO10: 528000 | AP10: 퍼머컬쳐박대령 | AQ10: 66000 | AR10: 퍼머컬쳐정민규 | AS10: 132000 | AT10: 장인수업김영백 | AU10: 66000 | AV10: 장인수업김복순 | AW10: 132000 | AX10: 영어박다정 | AY10: 594000 | AZ10: 미술양호빈 | BA10: 928320
C11: 2.교원제수당 | E11: =SUM(F11:Z11) -> 0
D12: 1.정액급식비 | E12: =SUM(F12:Z12) -> 1200000 | F12: 교사급식비 | G12: 1200000
D13: 2.정근수당 | E13: =SUM(F13:Z13) -> 0
D14: 3.직급수당 | E14: =SUM(F14:Z14) -> 800000 | F14: 박규현 교장직급수당 | H14: 500000 | I14: 이영해 대표교사직급수당 | K14: 300000
D15: 4.상여금 | E15: =SUM(F15:Z15) -> 0
C16: 3. 직원보수 | E16: =SUM(F16:Z16) -> 0
D17: 1.기본급 | E17: =SUM(F17:Z17) -> 2550000 | F17: 살림김진숙 | G17: 2550000
D18: 2.기간제직원인건비 | E18: =SUM(F18:Z18) -> 1250000 | F18: 행정박미영 | G18: 1000000 | H18: 타마라생활지원금 | I18: 250000
C19: 4.직원제수당 | E19: =SUM(F19:Z19) -> 0
D20: 1.정액급식비 | E20: =SUM(F20:Z20) -> 240000 | F20: 교직원2명 김진숙 카리나 | H20: 240000
D21: 2.상여금 | E21: =SUM(F21:Z21) -> 0
B22: 2.교직원 복지 및 역량 강화 | E22: =SUM(F22:Z22) -> 0
C23: 1.기관부담보험료 | E23: =SUM(F23:Z23) -> 0
D24: 1.연금및보험료 | E24: =SUM(F24:Z24) -> 1404670 | F24: 전임 사회보험료 | G24: 1404670
C25: 2.연수비 | E25: =SUM(F25:Z25) -> 0
D26: 1.자율연수 | E26: =SUM(F26:Z26) -> 0 | F26: 자율연수
D27: 2.교사회멘토링 | E27: =SUM(F27:Z27) -> 0
C28: 3.업무추진비 | E28: =SUM(F28:Z28) -> 0
C29: 4.도서비 | E29: =SUM(F29:Z29) -> 0
C30: 5.교직원행사비 | E30: =SUM(F30:Z30) -> 0
C31: 6.포상비 | E31: =SUM(F31:Z31) -> 0
C32: 7.맞춤형복지비 | E32: =SUM(F32:Z32) -> 0
C33: 8.직급보조비 | E33: =SUM(F33:Z33) -> 0
C34: 9.성과상여금 | E34: =SUM(F34:Z34) -> 0
A35: 2.학생복지/교육격차해소 | E35: =SUM(F35:Z35) -> 0
B36: 1. 급식관리비 | E36: =SUM(F36:Z36) -> 0
C37: 1. 수용비 | E37: =SUM(F37:Z37) -> 119000 | F37: 과일 잡곡 등 | G37: 119000
C38: 2. 기타식자재구입비 | E38: =SUM(F38:Z38) -> 0
C39: 3. 위탁급식비 | E39: =SUM(F39:Z39) -> 6601450 | F39: 부모부담분 | G39: 1550000 | H39: 급식지원금 지출 10월분 | J39: 4487550 | K39: 11월분 일부 | L39: 563900
B40: 2. 보건관리비 | E40: =SUM(F40:Z40) -> 0
C41: 1.학생과 교직원보건안전 | E41: =SUM(F41:Z41) -> 0
D42: 1.의료비 | E42: =SUM(F42:Z42) -> 0
...

Sheet 12월
B2: 2025학년도 12월 세출명세서
A4: 과목 | F4: 내역
A5: 장 | B5: 관 | C5: 항 | D5: 목 | E5: 계
A6: 1. 인적자원운용비 | E6: =SUM(F6:Z6) -> 0
B7: 1. 교직원보수 | E7: =SUM(F7:Z7) -> 0
C8: 1. 교원보수 | E8: =SUM(F8:Z8) -> 0
D9: 1.기본급 | E9: =SUM(F9:AA9) -> 16850000 | F9: 상급박규현 | G9: 2550000 | H9: 상급김훈희 | I9: 2250000 | J9: 이영해 | K9: 2450000 | L9: 조수연 | M9: 2350000 | N9: 정효진 | O9: 2300000 | P9: 위윤이 | Q9: 2250000 | R9: 김미정 | S9: 2200000 | T9: 상급지도이성웅 | V9: 500000
D10: 2.기간제교원인건비 | E10: =SUM(F10:AS10) -> 11255000 | F10: 농사/텃밭관리서규섭 | G10: 266000 | H10: 사회체육이성웅 | I10: 792000 | J10: 영어이슬아 | K10: 792000 | L10: 도움수업이미순 | M10: 957000 | N10: 영어박다정 | O10: 858000 | P10: 체육이형남 | Q10: 792000 | R10: 수공예김복순 | S10: 792000 | T10: 수공예최은영 | U10: 726000 | V10: 요리박도희 | W10: 132000 | X10: 미술양호빈 | Y10: 330000 | Z10: 음악정유희 | AA10: 528000 | AB10: 음악최지원 | AC10: 627000 | AD10: 목공김철희 | AE10: 693000 | AF10: 프로젝트김학철 | AG10: 330000 | AH10: 퍼머컬쳐임경수 | AI10: 264000 | AJ10: 수학하경희 | AK10: 429000 | AL10: 미술심미용 | AM10: 990000 | AN10: 한국무용정혜원 | AO10: 132000 | AP10: 정가박세은 | AQ10: 132000 | AR10: 영어한종인 | AS10: 693000
C11: 2.교원제수당 | E11: =SUM(F11:Z11) -> 0
D12: 1.정액급식비 | E12: =SUM(F12:Z12) -> 1260000 | F12: 교사급식비 | G12: 1260000
D13: 2.정근수당 | E13: =SUM(F13:Z13) -> 0
D14: 3.직급수당 | E14: =SUM(F14:Z14) -> 800000 | F14: 박규현 교장직급수당 | H14: 500000 | I14: 이영해 대표교사직급수당 | K14: 300000
D15: 4.상여금 | E15: =SUM(F15:Z15) -> 0
C16: 3. 직원보수 | E16: =SUM(F16:Z16) -> 0
D17: 1.기본급 | E17: =SUM(F17:Z17) -> 2550000 | F17: 살림김진숙 | G17: 2550000
D18: 2.기간제직원인건비 | E18: =SUM(F18:Z18) -> 1250000 | F18: 행정박미영 | G18: 1000000 | H18: 타마라생활지원금 | I18: 250000
C19: 4.직원제수당 | E19: =SUM(F19:Z19) -> 0
D20: 1.정액급식비 | E20: =SUM(F20:Z20) -> 252000 | F20: 교직원2명 김진숙 타마라 | H20: 252000
D21: 2.상여금 | E21: =SUM(F21:Z21) -> 0
B22: 2.교직원 복지 및 역량 강화 | E22: =SUM(F22:Z22) -> 0
C23: 1.기관부담보험료 | E23: =SUM(F23:Z23) -> 0
D24: 1.연금및보험료 | E24: =SUM(F24:Z24) -> 1900180 | F24: 전임 사회보험료 | G24: 1900180
C25: 2.연수비 | E25: =SUM(F25:Z25) -> 0
D26: 1.자율연수 | E26: =SUM(F26:Z26) -> 650000 | F26: 자율연수 | G26: 150000 | H26: 150000 | I26: 150000 | J26: 200000
D27: 2.교사회멘토링 | E27: =SUM(F27:Z27) -> 0
C28: 3.업무추진비 | E28: =SUM(F28:Z28) -> 0
C29: 4.도서비 | E29: =SUM(F29:Z29) -> 292863 | F29: 연구도서 | G29: 74200 | H29: 218663
C30: 5.교직원행사비 | E30: =SUM(F30:Z30) -> 0
C31: 6.포상비 | E31: =SUM(F31:Z31) -> 0
C32: 7.맞춤형복지비 | E32: =SUM(F32:Z32) -> 0
C33: 8.직급보조비 | E33: =SUM(F33:Z33) -> 0
C34: 9.성과상여금 | E34: =SUM(F34:Z34) -> 0
A35: 2.학생복지/교육격차해소 | E35: =SUM(F35:Z35) -> 0
B36: 1. 급식관리비 | E36: =SUM(F36:Z36) -> 0
C37: 1. 수용비 | E37: =SUM(F37:Z37) -> 0 | F37: 과일 잡곡 등
C38: 2. 기타식자재구입비 | E38: =SUM(F38:Z38) -> 0
C39: 3. 위탁급식비 | E39: =SUM(F39:Z39) -> 1678000 | F39: 부모부담분 | G39: 1678000 | H39: 급식지원금 지출
B40: 2. 보건관리비 | E40: =SUM(F40:Z40) -> 0
C41: 1.학생과 교직원보건안전 | E41: =SUM(F41:Z41) -> 0
D42: 1.의료비 | E42: =SUM(F42:Z42) -> 0
...

Sheet 26년 1월
B2: 2025학년도 26년 1월 세출명세서
A4: 과목 | F4: 내역
A5: 장 | B5: 관 | C5: 항 | D5: 목 | E5: 계
A6: 1. 인적자원운용비 | E6: =SUM(F6:Z6) -> 0 | H6: 미지출분
B7: 1. 교직원보수 | E7: =SUM(F7:Z7) -> 0 | H7: 실지출반영분
C8: 1. 교원보수 | E8: =SUM(F8:Z8) -> 0
D9: 1.기본급 | E9: =SUM(F9:AA9) -> 16850000 | F9: 상급박규현 | G9: 2550000 | H9: 상급김훈희 | I9: 2250000 | J9: 이영해 | K9: 2450000 | L9: 조수연 | M9: 2350000 | N9: 정효진 | O9: 2300000 | P9: 위윤이 | Q9: 2250000 | R9: 김미정 | S9: 2200000 | T9: 상급지도이성웅 | V9: 500000
D10: 2.기간제교원인건비 | E10: =SUM(F10:AQ10) -> 200000 | F10: 농사/텃밭관리서규섭 | G10: 200000 | H10: 목공김철희 | J10: 프로젝트김학철 | L10: 요리박도희 | N10: 정가박세은 | P10: 미술심미용 | R10: 영어이정연 | T10: 도움수업이미순 | V10: 체육공통교양이성웅 | X10: 체육이형남 | Z10: 음악정유희 | AB10: 한국무용정혜원 | AD10: 음악최지원 | AF10: 수학하경희 | AH10: 영어한만형 | AJ10: 미술양호빈 | AL10: 퍼머컬쳐임경수 | AN10: 영어한종인 | AP10: 영어이슬아
C11: 2.교원제수당 | E11: =SUM(F11:Z11) -> 0
D12: 1.정액급식비 | E12: =SUM(F12:Z12) -> 0 | F12: 교사급식비
D13: 2.정근수당 | E13: =SUM(F13:Z13) -> 0
D14: 3.직급수당 | E14: =SUM(F14:Z14) -> 800000 | F14: 박규현 교장직급수당 | H14: 500000 | I14: 이영해 대표교사직급수당 | K14: 300000
D15: 4.상여금 | E15: =SUM(F15:Z15) -> 0
C16: 3. 직원보수 | E16: =SUM(F16:Z16) -> 0
D17: 1.기본급 | E17: =SUM(F17:Z17) -> 2550000 | F17: 살림김진숙 | G17: 2550000
D18: 2.기간제직원인건비 | E18: =SUM(F18:Z18) -> 1250000 | F18: 행정박미영 | G18: 1000000 | H18: 타마라생활지원금 | I18: 250000
C19: 4.직원제수당 | E19: =SUM(F19:Z19) -> 0
D20: 1.정액급식비 | E20: =SUM(F20:Z20) -> 0 | F20: 교직원2명 김진숙 카리나
D21: 2.상여금 | E21: =SUM(F21:Z21) -> 0
B22: 2.교직원 복지 및 역량 강화 | E22: =SUM(F22:Z22) -> 0
C23: 1.기관부담보험료 | E23: =SUM(F23:Z23) -> 0
D24: 1.연금및보험료 | E24: =SUM(F24:Z24) -> 1400000 | F24: 전임 사회보험료 | G24: 1400000
C25: 2.연수비 | E25: =SUM(F25:Z25) -> 0
D26: 1.자율연수 | E26: =SUM(F26:Z26) -> 250000 | F26: 자율연수 | G26: 125000 | H26: 125000
D27: 2.교사회멘토링 | E27: =SUM(F27:Z27) -> 0
C28: 3.업무추진비 | E28: =SUM(F28:Z28) -> 0
C29: 4.도서비 | E29: =SUM(F29:Z29) -> 0
C30: 5.교직원행사비 | E30: =SUM(F30:Z30) -> 0
C31: 6.포상비 | E31: =SUM(F31:Z31) -> 0
C32: 7.맞춤형복지비 | E32: =SUM(F32:Z32) -> 0
C33: 8.직급보조비 | E33: =SUM(F33:Z33) -> 0
C34: 9.성과상여금 | E34: =SUM(F34:Z34) -> 0
A35: 2.학생복지/교육격차해소 | E35: =SUM(F35:Z35) -> 0
B36: 1. 급식관리비 | E36: =SUM(F36:Z36) -> 0
C37: 1. 수용비 | E37: =SUM(F37:Z37) -> 0 | F37: 과일 잡곡 등
C38: 2. 기타식자재구입비 | E38: =SUM(F38:Z38) -> 0
C39: 3. 위탁급식비 | E39: =SUM(F39:Z39) -> 0 | F39: 부모부담분 | H39: 급식지원금 지출
B40: 2. 보건관리비 | E40: =SUM(F40:Z40) -> 0
C41: 1.학생과 교직원보건안전 | E41: =SUM(F41:Z41) -> 0
D42: 1.의료비 | E42: =SUM(F42:Z42) -> 0
...

Sheet 26년 2월
B2: 2025학년도 26년2월 세출명세서
A4: 과목 | F4: 내역
A5: 장 | B5: 관 | C5: 항 | D5: 목 | E5: 계
A6: 1. 인적자원운용비 | E6: =SUM(F6:Z6) -> 0 | G6: 지출예정분
B7: 1. 교직원보수 | E7: =SUM(F7:Z7) -> 0
C8: 1. 교원보수 | E8: =SUM(F8:Z8) -> 0
D9: 1.기본급 | E9: =SUM(F9:AA9) -> 19050000 | F9: 상급지도박규현 | G9: 2550000 | H9: 이영해 | I9: 2450000 | J9: 조수연 | K9: 2350000 | L9: 정효진 | M9: 2300000 | N9: 위윤이 | O9: 2250000 | P9: 상급지도김훈희 | Q9: 2250000 | R9: 김미정 | S9: 2200000 | T9: 김숙현 | U9: 2200000 | V9: 이성웅 | W9: 500000
D10: 2.기간제교원인건비 | E10: =SUM(F10:AY10) -> 200000 | F10: 농사/텃밭관리 | G10: 200000
C11: 2.교원제수당 | E11: =SUM(F11:Z11) -> 0
D12: 1.정액급식비 | E12: =SUM(F12:Z12) -> 462000 | F12: 교사급식비 | G12: 462000
D13: 2.정근수당 | E13: =SUM(F13:Z13) -> 0
D14: 3.직급수당 | E14: =SUM(F14:Z14) -> 800000 | F14: 박규현 교장직급수당 | H14: 500000 | I14: 이영해 대표교사직급수당 | K14: 300000
D15: 4.상여금 | E15: =SUM(F15:Z15) -> 0
C16: 3. 직원보수 | E16: =SUM(F16:Z16) -> 0
D17: 1.기본급 | E17: =SUM(F17:Z17) -> 2550000 | F17: 살림김진숙 | G17: 2550000
D18: 2.기간제직원인건비 | E18: =SUM(F18:Z18) -> 1250000 | F18: 행정박미영 | G18: 1000000 | H18: 독일봉사자생활지원금 | I18: 250000
C19: 4.직원제수당 | E19: =SUM(F19:Z19) -> 0
D20: 1.정액급식비 | E20: =SUM(F20:Z20) -> 84000 | F20: 교직원2명 김진숙 카리나 | H20: 84000
D21: 2.상여금 | E21: =SUM(F21:Z21) -> 0
B22: 2.교직원 복지 및 역량 강화 | E22: =SUM(F22:Z22) -> 0
C23: 1.기관부담보험료 | E23: =SUM(F23:Z23) -> 0
D24: 1.연금및보험료 | E24: =SUM(F24:Z24) -> 1400000 | F24: 전임 사회보험료 | G24: 1400000
C25: 2.연수비 | E25: =SUM(F25:Z25) -> 0
D26: 1.자율연수 | E26: =SUM(F26:Z26) -> 0 | F26: 자율연수
D27: 2.교사회멘토링 | E27: =SUM(F27:Z27) -> 0
C28: 3.업무추진비 | E28: =SUM(F28:Z28) -> 0
C29: 4.도서비 | E29: =SUM(F29:Z29) -> 0
C30: 5.교직원행사비 | E30: =SUM(F30:Z30) -> 0
C31: 6.포상비 | E31: =SUM(F31:Z31) -> 0
C32: 7.맞춤형복지비 | E32: =SUM(F32:Z32) -> 0
C33: 8.직급보조비 | E33: =SUM(F33:Z33) -> 0
C34: 9.성과상여금 | E34: =SUM(F34:Z34) -> 0
A35: 2.학생복지/교육격차해소 | E35: =SUM(F35:Z35) -> 0
B36: 1. 급식관리비 | E36: =SUM(F36:Z36) -> 0
C37: 1. 수용비 | E37: =SUM(F37:Z37) -> 0 | F37: 과일 잡곡 등
C38: 2. 기타식자재구입비 | E38: =SUM(F38:Z38) -> 0
C39: 3. 위탁급식비 | E39: =SUM(F39:Z39) -> 2498470 | F39: 부모부담분 | G39: 488000 | H39: 급식지원금 지출 | I39: 2010470
B40: 2. 보건관리비 | E40: =SUM(F40:Z40) -> 0
C41: 1.학생과 교직원보건안전 | E41: =SUM(F41:Z41) -> 0
D42: 1.의료비 | E42: =SUM(F42:Z42) -> 0
...
